BEGIN:VCALENDAR
VERSION:2.0
PRODID:-//EZFacility.com, Inc.//EZL 2.5.5.28621
BEGIN:VEVENT
UID:14002691@ezleagues.ezfacility.com
DTSTAMP:20260426T033800Z
CREATED:20260426T033800Z
DTSTART:20211104T030500Z
DTEND:20211104T035500Z
LOCATION:Field 1
CONTACT:
SUMMARY:Dortmund FC VS. Gooners
DESCRIPTION:League Name: Adult Soccer Session 3-A Division\nGame Type: Regu
 lar\nGame Status: Complete\nHome Team: Dortmund FC\nAway Team: Gooners\nHo
 me Score: 5\nAway Score: 4
END:VEVENT
BEGIN:VEVENT
UID:14002694@ezleagues.ezfacility.com
DTSTAMP:20260426T033800Z
CREATED:20260426T033800Z
DTSTART:20211111T050000Z
DTEND:20211111T055000Z
LOCATION:Field 1
CONTACT:
SUMMARY:Gooners VS. City Boizzzz
DESCRIPTION:League Name: Adult Soccer Session 3-A Division\nGame Type: Regu
 lar\nGame Status: Complete\nHome Team: Gooners\nAway Team: City Boizzzz\nH
 ome Score: 3\nAway Score: 13
END:VEVENT
BEGIN:VEVENT
UID:14002699@ezleagues.ezfacility.com
DTSTAMP:20260426T033800Z
CREATED:20260426T033800Z
DTSTART:20211118T024500Z
DTEND:20211118T033500Z
LOCATION:Field 1
CONTACT:
SUMMARY:Gooners VS. White Owls
DESCRIPTION:League Name: Adult Soccer Session 3-A Division\nGame Type: Regu
 lar\nGame Status: Complete\nHome Team: Gooners\nAway Team: White Owls\nHom
 e Score: 4\nAway Score: 6
END:VEVENT
BEGIN:VEVENT
UID:14002709@ezleagues.ezfacility.com
DTSTAMP:20260426T033800Z
CREATED:20260426T033800Z
DTSTART:20211202T032000Z
DTEND:20211202T041000Z
LOCATION:Field 1
CONTACT:
SUMMARY:Gooners VS. Dusan FC
DESCRIPTION:League Name: Adult Soccer Session 3-A Division\nGame Type: Regu
 lar\nGame Status: Complete\nHome Team: Gooners\nAway Team: Dusan FC\nHome 
 Score: 2\nAway Score: 8
END:VEVENT
BEGIN:VEVENT
UID:14002713@ezleagues.ezfacility.com
DTSTAMP:20260426T033800Z
CREATED:20260426T033800Z
DTSTART:20211209T041000Z
DTEND:20211209T050000Z
LOCATION:Field 1
CONTACT:
SUMMARY:Old School VS. Gooners
DESCRIPTION:League Name: Adult Soccer Session 3-A Division\nGame Type: Regu
 lar\nGame Status: Complete\nHome Team: Old School\nAway Team: Gooners\nHom
 e Score: 3\nAway Score: 0
END:VEVENT
BEGIN:VEVENT
UID:14002716@ezleagues.ezfacility.com
DTSTAMP:20260426T033800Z
CREATED:20260426T033800Z
DTSTART:20211216T033000Z
DTEND:20211216T042000Z
LOCATION:Field 3
CONTACT:
SUMMARY:Judgement Day FC VS. Gooners
DESCRIPTION:League Name: Adult Soccer Session 3-A Division\nGame Type: Regu
 lar\nGame Status: Complete\nHome Team: Judgement Day FC\nAway Team: Gooner
 s\nHome Score: 15\nAway Score: 9
END:VEVENT
BEGIN:VEVENT
UID:14002704@ezleagues.ezfacility.com
DTSTAMP:20260426T033800Z
CREATED:20260426T033800Z
DTSTART:20211223T030000Z
DTEND:20211223T035000Z
LOCATION:Field 3
CONTACT:
SUMMARY:Gooners VS. FCFS
DESCRIPTION:League Name: Adult Soccer Session 3-A Division\nGame Type: Regu
 lar\nGame Status: Complete\nHome Team: Gooners\nAway Team: FCFS\nHome Scor
 e: 8\nAway Score: 9
END:VEVENT
BEGIN:VEVENT
UID:14063486@ezleagues.ezfacility.com
DTSTAMP:20260426T033800Z
CREATED:20260426T033800Z
DTSTART:20211230T025000Z
DTEND:20211230T034000Z
LOCATION:Field 3
CONTACT:
SUMMARY:Judgement Day FC VS. Gooners
DESCRIPTION:League Name: Adult Soccer Session 3-A Division\nGame Type: Post
 season\nGame Status: Complete\nHome Team: Judgement Day FC\nAway Team: Goo
 ners\nHome Score: 3\nAway Score: 0
END:VEVENT
END:VCALENDAR
