BEGIN:VCALENDAR
VERSION:2.0
PRODID:-//EZFacility.com, Inc.//EZL 2.5.5.28621
BEGIN:VEVENT
UID:14014436@ezleagues.ezfacility.com
DTSTAMP:20260426T034043Z
CREATED:20260426T034043Z
DTSTART:20211111T020500Z
DTEND:20211111T030500Z
LOCATION:Rocky River 3/4 Blue
CONTACT:
SUMMARY:+355 VS. Team A
DESCRIPTION:League Name: Men's Open - Wednesday Intermediate - Lower Divisi
 on - Winter\nGame Type: Regular\nGame Status: Complete\nHome Team: +355\nA
 way Team: Team A\nHome Score: 3\nAway Score: 5
END:VEVENT
BEGIN:VEVENT
UID:14014442@ezleagues.ezfacility.com
DTSTAMP:20260426T034043Z
CREATED:20260426T034043Z
DTSTART:20211118T030500Z
DTEND:20211118T040500Z
LOCATION:Rocky River 3/4 Yellow
CONTACT:
SUMMARY:Team A VS. Kenilworth
DESCRIPTION:League Name: Men's Open - Wednesday Intermediate - Lower Divisi
 on - Winter\nGame Type: Regular\nGame Status: Complete\nHome Team: Team A\
 nAway Team: Kenilworth\nHome Score: 6\nAway Score: 4
END:VEVENT
BEGIN:VEVENT
UID:14014460@ezleagues.ezfacility.com
DTSTAMP:20260426T034043Z
CREATED:20260426T034043Z
DTSTART:20211209T020500Z
DTEND:20211209T030500Z
LOCATION:Rocky River 3/4 Blue
CONTACT:
SUMMARY:Team A VS. Sibilia
DESCRIPTION:League Name: Men's Open - Wednesday Intermediate - Lower Divisi
 on - Winter\nGame Type: Regular\nGame Status: Complete\nHome Team: Team A\
 nAway Team: Sibilia\nHome Score: 9\nAway Score: 4
END:VEVENT
BEGIN:VEVENT
UID:14014465@ezleagues.ezfacility.com
DTSTAMP:20260426T034043Z
CREATED:20260426T034043Z
DTSTART:20211216T020500Z
DTEND:20211216T030500Z
LOCATION:Rocky River 3/4 Yellow
CONTACT:
SUMMARY:Red Dragons VS. Team A
DESCRIPTION:League Name: Men's Open - Wednesday Intermediate - Lower Divisi
 on - Winter\nGame Type: Regular\nGame Status: Complete\nHome Team: Red Dra
 gons\nAway Team: Team A\nHome Score: 5\nAway Score: 13
END:VEVENT
BEGIN:VEVENT
UID:14014473@ezleagues.ezfacility.com
DTSTAMP:20260426T034043Z
CREATED:20260426T034043Z
DTSTART:20211230T020500Z
DTEND:20211230T030500Z
LOCATION:Rocky River 3/4 Yellow
CONTACT:
SUMMARY:AU FC VS. Team A
DESCRIPTION:League Name: Men's Open - Wednesday Intermediate - Lower Divisi
 on - Winter\nGame Type: Regular\nGame Status: Complete\nHome Team: AU FC\n
 Away Team: Team A\nHome Score: 4\nAway Score: 7
END:VEVENT
BEGIN:VEVENT
UID:14014448@ezleagues.ezfacility.com
DTSTAMP:20260426T034043Z
CREATED:20260426T034043Z
DTSTART:20220106T030500Z
DTEND:20220106T040500Z
LOCATION:Rocky River 3/4 Blue
CONTACT:
SUMMARY:Team A VS. Atletico Pirates
DESCRIPTION:League Name: Men's Open - Wednesday Intermediate - Lower Divisi
 on - Winter\nGame Type: Regular\nGame Status: Complete\nHome Team: Team A\
 nAway Team: Atletico Pirates\nHome Score: 7\nAway Score: 0
END:VEVENT
BEGIN:VEVENT
UID:14014454@ezleagues.ezfacility.com
DTSTAMP:20260426T034043Z
CREATED:20260426T034043Z
DTSTART:20220120T030500Z
DTEND:20220120T040500Z
LOCATION:Rocky River 3/4 Blue
CONTACT:
SUMMARY:Team A VS. Doge FC
DESCRIPTION:League Name: Men's Open - Wednesday Intermediate - Lower Divisi
 on - Winter\nGame Type: Regular\nGame Status: Complete\nHome Team: Team A\
 nAway Team: Doge FC\nHome Score: 4\nAway Score: 4
END:VEVENT
BEGIN:VEVENT
UID:14014469@ezleagues.ezfacility.com
DTSTAMP:20260426T034043Z
CREATED:20260426T034043Z
DTSTART:20220127T023500Z
DTEND:20220127T033500Z
LOCATION:Westlake Full Field
CONTACT:
SUMMARY:Browns in 7 VS. Team A
DESCRIPTION:League Name: Men's Open - Wednesday Intermediate - Lower Divisi
 on - Winter\nGame Type: Regular\nGame Status: Complete\nHome Team: Browns 
 in 7\nAway Team: Team A\nHome Score: 0\nAway Score: 3
END:VEVENT
BEGIN:VEVENT
UID:14172670@ezleagues.ezfacility.com
DTSTAMP:20260426T034043Z
CREATED:20260426T034043Z
DTSTART:20220210T020500Z
DTEND:20220210T030500Z
LOCATION:Rocky River 3/4 Blue
CONTACT:
SUMMARY:Team A VS. Atletico Pirates
DESCRIPTION:League Name: Men's Open - Wednesday Intermediate - Lower Divisi
 on - Winter\nGame Type: Postseason\nGame Status: Complete\nHome Team: Team
  A\nAway Team: Atletico Pirates\nHome Score: 6\nAway Score: 3
END:VEVENT
BEGIN:VEVENT
UID:14172676@ezleagues.ezfacility.com
DTSTAMP:20260426T034043Z
CREATED:20260426T034043Z
DTSTART:20220217T020500Z
DTEND:20220217T030500Z
LOCATION:Rocky River 3/4 Blue
CONTACT:
SUMMARY:Team A VS. +355
DESCRIPTION:League Name: Men's Open - Wednesday Intermediate - Lower Divisi
 on - Winter\nGame Type: Postseason\nGame Status: Complete\nHome Team: Team
  A\nAway Team: +355\nHome Score: 7\nAway Score: 6
END:VEVENT
END:VCALENDAR
