BEGIN:VCALENDAR
VERSION:2.0
PRODID:-//EZFacility.com, Inc.//EZL 2.5.5.28621
BEGIN:VEVENT
UID:14030175@ezleagues.ezfacility.com
DTSTAMP:20260426T033833Z
CREATED:20260426T033833Z
DTSTART:20211113T152500Z
DTEND:20211113T160700Z
LOCATION:7v7 Field #1
CONTACT:
SUMMARY:Midwest Muskrats VS. Millennium Soccer Academy Sky Blue
DESCRIPTION:League Name: Sparta Soccer 2021-22-Winter Session 1-CoEd U10/U1
 2 Rec League (2010/2013)\nGame Type: Regular\nGame Status: Complete\nHome 
 Team: Midwest Muskrats\nAway Team: Millennium Soccer Academy Sky Blue\nHom
 e Score: 0\nAway Score: 4
END:VEVENT
BEGIN:VEVENT
UID:14030189@ezleagues.ezfacility.com
DTSTAMP:20260426T033833Z
CREATED:20260426T033833Z
DTSTART:20211120T152500Z
DTEND:20211120T160700Z
LOCATION:7v7 Field #1
CONTACT:
SUMMARY:JCFC Pumas VS. Midwest Muskrats
DESCRIPTION:League Name: Sparta Soccer 2021-22-Winter Session 1-CoEd U10/U1
 2 Rec League (2010/2013)\nGame Type: Regular\nGame Status: Complete\nHome 
 Team: JCFC Pumas\nAway Team: Midwest Muskrats\nHome Score: 8\nAway Score: 
 0
END:VEVENT
BEGIN:VEVENT
UID:14030201@ezleagues.ezfacility.com
DTSTAMP:20260426T033833Z
CREATED:20260426T033833Z
DTSTART:20211127T152500Z
DTEND:20211127T160700Z
LOCATION:7v7 Field #1
CONTACT:
SUMMARY:Millennium Soccer Academy Black VS. Midwest Muskrats
DESCRIPTION:League Name: Sparta Soccer 2021-22-Winter Session 1-CoEd U10/U1
 2 Rec League (2010/2013)\nGame Type: Regular\nGame Status: Pending\nHome T
 eam: Millennium Soccer Academy Black\nAway Team: Midwest Muskrats\n
END:VEVENT
BEGIN:VEVENT
UID:14030208@ezleagues.ezfacility.com
DTSTAMP:20260426T033833Z
CREATED:20260426T033833Z
DTSTART:20211204T152500Z
DTEND:20211204T160700Z
LOCATION:7v7 Field #3
CONTACT:
SUMMARY:Midwest Muskrats VS. Millennium Soccer Academy Black
DESCRIPTION:League Name: Sparta Soccer 2021-22-Winter Session 1-CoEd U10/U1
 2 Rec League (2010/2013)\nGame Type: Regular\nGame Status: Complete\nHome 
 Team: Midwest Muskrats\nAway Team: Millennium Soccer Academy Black\nHome S
 core: 1\nAway Score: 4
END:VEVENT
BEGIN:VEVENT
UID:14030213@ezleagues.ezfacility.com
DTSTAMP:20260426T033833Z
CREATED:20260426T033833Z
DTSTART:20211211T152500Z
DTEND:20211211T160700Z
LOCATION:7v7 Field #3
CONTACT:Naumoski
SUMMARY:Midwest Muskrats VS. JCFC Pumas
DESCRIPTION:League Name: Sparta Soccer 2021-22-Winter Session 1-CoEd U10/U1
 2 Rec League (2010/2013)\nGame Type: Regular\nGame Status: Pending\nHome T
 eam: Midwest Muskrats\nAway Team: JCFC Pumas\n
END:VEVENT
BEGIN:VEVENT
UID:14030215@ezleagues.ezfacility.com
DTSTAMP:20260426T033833Z
CREATED:20260426T033833Z
DTSTART:20211218T152500Z
DTEND:20211218T160700Z
LOCATION:7v7 Field #1
CONTACT:Ooms
SUMMARY:Millennium Soccer Academy Sky Blue VS. Midwest Muskrats
DESCRIPTION:League Name: Sparta Soccer 2021-22-Winter Session 1-CoEd U10/U1
 2 Rec League (2010/2013)\nGame Type: Regular\nGame Status: Complete\nHome 
 Team: Millennium Soccer Academy Sky Blue\nAway Team: Midwest Muskrats\nHom
 e Score: 11\nAway Score: 3
END:VEVENT
BEGIN:VEVENT
UID:14030220@ezleagues.ezfacility.com
DTSTAMP:20260426T033833Z
CREATED:20260426T033833Z
DTSTART:20220108T151500Z
DTEND:20220108T155700Z
LOCATION:7v7 Field #1
CONTACT:Alb
SUMMARY:Millennium Soccer Academy Black VS. Midwest Muskrats
DESCRIPTION:League Name: Sparta Soccer 2021-22-Winter Session 1-CoEd U10/U1
 2 Rec League (2010/2013)\nGame Type: Regular\nGame Status: Complete\nHome 
 Team: Millennium Soccer Academy Black\nAway Team: Midwest Muskrats\nHome S
 core: 8\nAway Score: 1
END:VEVENT
BEGIN:VEVENT
UID:14030223@ezleagues.ezfacility.com
DTSTAMP:20260426T033833Z
CREATED:20260426T033833Z
DTSTART:20220115T152500Z
DTEND:20220115T160700Z
LOCATION:7v7 Field #1
CONTACT:Ooms
SUMMARY:Midwest Muskrats VS. JCFC Pumas
DESCRIPTION:League Name: Sparta Soccer 2021-22-Winter Session 1-CoEd U10/U1
 2 Rec League (2010/2013)\nGame Type: Regular\nGame Status: Complete\nHome 
 Team: Midwest Muskrats\nAway Team: JCFC Pumas\nHome Score: 1\nAway Score: 
 8
END:VEVENT
END:VCALENDAR
