BEGIN:VCALENDAR
VERSION:2.0
PRODID:-//EZFacility.com, Inc.//EZL 2.5.5.28621
BEGIN:VEVENT
UID:14050043@ezleagues.ezfacility.com
DTSTAMP:20260424T044106Z
CREATED:20260424T044106Z
DTSTART:20211205T191500Z
DTEND:20211205T200000Z
LOCATION:Field 1
CONTACT:
SUMMARY:Fury FC G2007 VS. Green White 2008 Girls Grun
DESCRIPTION:League Name: Travel Soccer-Girls 2008/2007\nGame Type: Regular\
 nGame Status: Complete\nHome Team: Fury FC G2007\nAway Team: Green White 2
 008 Girls Grun\nHome Score: 3\nAway Score: 1
END:VEVENT
BEGIN:VEVENT
UID:14050060@ezleagues.ezfacility.com
DTSTAMP:20260424T044106Z
CREATED:20260424T044106Z
DTSTART:20211213T011500Z
DTEND:20211213T020000Z
LOCATION:Field 3
CONTACT:
SUMMARY:Green White 2008 Girls Grun VS. Fury FC G2008
DESCRIPTION:League Name: Travel Soccer-Girls 2008/2007\nGame Type: Regular\
 nGame Status: Complete\nHome Team: Green White 2008 Girls Grun\nAway Team:
  Fury FC G2008\nHome Score: 1\nAway Score: 2
END:VEVENT
BEGIN:VEVENT
UID:14050134@ezleagues.ezfacility.com
DTSTAMP:20260424T044106Z
CREATED:20260424T044106Z
DTSTART:20220109T153000Z
DTEND:20220109T161500Z
LOCATION:Field 3
CONTACT:
SUMMARY:AYSO 300 United Girls 2007/08 VS. Green White 2008 Girls Grun
DESCRIPTION:League Name: Travel Soccer-Girls 2008/2007\nGame Type: Regular\
 nGame Status: Complete\nHome Team: AYSO 300 United Girls 2007/08\nAway Tea
 m: Green White 2008 Girls Grun\nHome Score: 5\nAway Score: 3
END:VEVENT
BEGIN:VEVENT
UID:14050187@ezleagues.ezfacility.com
DTSTAMP:20260424T044106Z
CREATED:20260424T044106Z
DTSTART:20220130T153000Z
DTEND:20220130T161500Z
LOCATION:Field 3
CONTACT:
SUMMARY:Fury FC G2007 VS. Green White 2008 Girls Grun
DESCRIPTION:League Name: Travel Soccer-Girls 2008/2007\nGame Type: Regular\
 nGame Status: Complete\nHome Team: Fury FC G2007\nAway Team: Green White 2
 008 Girls Grun\nHome Score: 2\nAway Score: 2
END:VEVENT
BEGIN:VEVENT
UID:14050096@ezleagues.ezfacility.com
DTSTAMP:20260424T044106Z
CREATED:20260424T044106Z
DTSTART:20220220T170000Z
DTEND:20220220T174500Z
LOCATION:Field 2
CONTACT:
SUMMARY:OPRF G2008 VS. Green White 2008 Girls Grun
DESCRIPTION:League Name: Travel Soccer-Girls 2008/2007\nGame Type: Regular\
 nGame Status: Complete\nHome Team: OPRF G2008\nAway Team: Green White 2008
  Girls Grun\nHome Score: 4\nAway Score: 3
END:VEVENT
BEGIN:VEVENT
UID:14050077@ezleagues.ezfacility.com
DTSTAMP:20260424T044106Z
CREATED:20260424T044106Z
DTSTART:20220227T174500Z
DTEND:20220227T183000Z
LOCATION:Field 2
CONTACT:
SUMMARY:Green White 2008 Girls Grun VS. Ajax FC G2009 
DESCRIPTION:League Name: Travel Soccer-Girls 2008/2007\nGame Type: Regular\
 nGame Status: Complete\nHome Team: Green White 2008 Girls Grun\nAway Team:
  Ajax FC G2009 \nHome Score: 1\nAway Score: 7
END:VEVENT
BEGIN:VEVENT
UID:14050188@ezleagues.ezfacility.com
DTSTAMP:20260424T044106Z
CREATED:20260424T044106Z
DTSTART:20220306T213000Z
DTEND:20220306T221500Z
LOCATION:Field 3
CONTACT:
SUMMARY:OPRF G2008 VS. Green White 2008 Girls Grun
DESCRIPTION:League Name: Travel Soccer-Girls 2008/2007\nGame Type: Regular\
 nGame Status: Complete\nHome Team: OPRF G2008\nAway Team: Green White 2008
  Girls Grun\nHome Score: 2\nAway Score: 2
END:VEVENT
BEGIN:VEVENT
UID:14050097@ezleagues.ezfacility.com
DTSTAMP:20260424T044106Z
CREATED:20260424T044106Z
DTSTART:20220313T140000Z
DTEND:20220313T144500Z
LOCATION:Field 1
CONTACT:
SUMMARY:Lisle FC GU14 Chile VS. Green White 2008 Girls Grun
DESCRIPTION:League Name: Travel Soccer-Girls 2008/2007\nGame Type: Regular\
 nGame Status: Complete\nHome Team: Lisle FC GU14 Chile\nAway Team: Green W
 hite 2008 Girls Grun\nHome Score: 0\nAway Score: 10
END:VEVENT
BEGIN:VEVENT
UID:14050115@ezleagues.ezfacility.com
DTSTAMP:20260424T044106Z
CREATED:20260424T044106Z
DTSTART:20220320T180000Z
DTEND:20220320T184500Z
LOCATION:Field 3
CONTACT:
SUMMARY:Green White 2008 Girls Grun VS. Green White 2007 Girls Grun
DESCRIPTION:League Name: Travel Soccer-Girls 2008/2007\nGame Type: Regular\
 nGame Status: Complete\nHome Team: Green White 2008 Girls Grun\nAway Team:
  Green White 2007 Girls Grun\nHome Score: 0\nAway Score: 3
END:VEVENT
BEGIN:VEVENT
UID:14050153@ezleagues.ezfacility.com
DTSTAMP:20260424T044106Z
CREATED:20260424T044106Z
DTSTART:20220320T201500Z
DTEND:20220320T210000Z
LOCATION:Field 3
CONTACT:
SUMMARY:Green White 2008 Girls Grun VS. Fury FC G2008
DESCRIPTION:League Name: Travel Soccer-Girls 2008/2007\nGame Type: Regular\
 nGame Status: Complete\nHome Team: Green White 2008 Girls Grun\nAway Team:
  Fury FC G2008\nHome Score: 0\nAway Score: 3
END:VEVENT
END:VCALENDAR
