BEGIN:VCALENDAR
VERSION:2.0
PRODID:-//EZFacility.com, Inc.//EZL 2.5.5.28621
BEGIN:VEVENT
UID:14048472@ezleagues.ezfacility.com
DTSTAMP:20260424T100413Z
CREATED:20260424T100413Z
DTSTART:20211204T163000Z
DTEND:20211204T171500Z
LOCATION:Field 2
CONTACT:
SUMMARY:Ajax FC Boys 2011 VS. BSC Raiders 2011 Red
DESCRIPTION:League Name: Travel Soccer-Boys 2011C\nGame Type: Regular\nGame
  Status: Complete\nHome Team: Ajax FC Boys 2011\nAway Team: BSC Raiders 20
 11 Red\nHome Score: 3\nAway Score: 5
END:VEVENT
BEGIN:VEVENT
UID:14048503@ezleagues.ezfacility.com
DTSTAMP:20260424T100413Z
CREATED:20260424T100413Z
DTSTART:20211211T181500Z
DTEND:20211211T190000Z
LOCATION:Field 2
CONTACT:
SUMMARY:Ajax FC Boys 2011 VS. Chicago Fury 2012/2011
DESCRIPTION:League Name: Travel Soccer-Boys 2011C\nGame Type: Regular\nGame
  Status: Complete\nHome Team: Ajax FC Boys 2011\nAway Team: Chicago Fury 2
 012/2011\nHome Score: 9\nAway Score: 1
END:VEVENT
BEGIN:VEVENT
UID:14048534@ezleagues.ezfacility.com
DTSTAMP:20260424T100413Z
CREATED:20260424T100413Z
DTSTART:20211218T174500Z
DTEND:20211218T183000Z
LOCATION:Field 2
CONTACT:
SUMMARY:Ajax FC Boys 2011 VS. Green White 2011 Boys Weiss
DESCRIPTION:League Name: Travel Soccer-Boys 2011C\nGame Type: Regular\nGame
  Status: Complete\nHome Team: Ajax FC Boys 2011\nAway Team: Green White 20
 11 Boys Weiss\nHome Score: 0\nAway Score: 5
END:VEVENT
BEGIN:VEVENT
UID:14048627@ezleagues.ezfacility.com
DTSTAMP:20260424T100413Z
CREATED:20260424T100413Z
DTSTART:20220109T003000Z
DTEND:20220109T011500Z
LOCATION:Naperville Yard Field 2
CONTACT:
SUMMARY:Wings SC 2011 Boys Select VS. Ajax FC Boys 2011
DESCRIPTION:League Name: Travel Soccer-Boys 2011C\nGame Type: Regular\nGame
  Status: Complete\nHome Team: Wings SC 2011 Boys Select\nAway Team: Ajax F
 C Boys 2011\nHome Score: 5\nAway Score: 3
END:VEVENT
BEGIN:VEVENT
UID:14048658@ezleagues.ezfacility.com
DTSTAMP:20260424T100413Z
CREATED:20260424T100413Z
DTSTART:20220115T163000Z
DTEND:20220115T171500Z
LOCATION:Field 2
CONTACT:
SUMMARY:Orland Park Sting B2011 Select VS. Ajax FC Boys 2011
DESCRIPTION:League Name: Travel Soccer-Boys 2011C\nGame Type: Regular\nGame
  Status: Complete\nHome Team: Orland Park Sting B2011 Select\nAway Team: A
 jax FC Boys 2011\nHome Score: 6\nAway Score: 13
END:VEVENT
BEGIN:VEVENT
UID:14048751@ezleagues.ezfacility.com
DTSTAMP:20260424T100413Z
CREATED:20260424T100413Z
DTSTART:20220206T003000Z
DTEND:20220206T011500Z
LOCATION:Naperville Yard Field 2
CONTACT:
SUMMARY:Chicago Blast 2011 Red Boys VS. Ajax FC Boys 2011
DESCRIPTION:League Name: Travel Soccer-Boys 2011C\nGame Type: Regular\nGame
  Status: Complete\nHome Team: Chicago Blast 2011 Red Boys\nAway Team: Ajax
  FC Boys 2011\nHome Score: 3\nAway Score: 5
END:VEVENT
BEGIN:VEVENT
UID:14048689@ezleagues.ezfacility.com
DTSTAMP:20260424T100413Z
CREATED:20260424T100413Z
DTSTART:20220212T131500Z
DTEND:20220212T140000Z
LOCATION:Field 2
CONTACT:
SUMMARY:MAYAS FC 2011 VS. Ajax FC Boys 2011
DESCRIPTION:League Name: Travel Soccer-Boys 2011C\nGame Type: Regular\nGame
  Status: Complete\nHome Team: MAYAS FC 2011\nAway Team: Ajax FC Boys 2011\
 nHome Score: 2\nAway Score: 5
END:VEVENT
BEGIN:VEVENT
UID:14048474@ezleagues.ezfacility.com
DTSTAMP:20260424T100413Z
CREATED:20260424T100413Z
DTSTART:20220305T163000Z
DTEND:20220305T171500Z
LOCATION:Naperville Yard Field 2
CONTACT:
SUMMARY:AYSO 300 United Boys 2011 Extra VS. Ajax FC Boys 2011
DESCRIPTION:League Name: Travel Soccer-Boys 2011C\nGame Type: Regular\nGame
  Status: Complete\nHome Team: AYSO 300 United Boys 2011 Extra\nAway Team: 
 Ajax FC Boys 2011\nHome Score: 1\nAway Score: 1
END:VEVENT
BEGIN:VEVENT
UID:14048565@ezleagues.ezfacility.com
DTSTAMP:20260424T100413Z
CREATED:20260424T100413Z
DTSTART:20220312T171500Z
DTEND:20220312T180000Z
LOCATION:Naperville Yard Field 2
CONTACT:
SUMMARY:Ajax FC Boys 2011 VS. OPRF B2011
DESCRIPTION:League Name: Travel Soccer-Boys 2011C\nGame Type: Regular\nGame
  Status: Complete\nHome Team: Ajax FC Boys 2011\nAway Team: OPRF B2011\nHo
 me Score: 6\nAway Score: 3
END:VEVENT
BEGIN:VEVENT
UID:14048596@ezleagues.ezfacility.com
DTSTAMP:20260424T100413Z
CREATED:20260424T100413Z
DTSTART:20220319T151500Z
DTEND:20220319T160000Z
LOCATION:Naperville Yard Field 1
CONTACT:
SUMMARY:Ajax FC Boys 2011 VS. TESC Premier 2011
DESCRIPTION:League Name: Travel Soccer-Boys 2011C\nGame Type: Regular\nGame
  Status: Complete\nHome Team: Ajax FC Boys 2011\nAway Team: TESC Premier 2
 011\nHome Score: 1\nAway Score: 10
END:VEVENT
END:VCALENDAR
