BEGIN:VCALENDAR
VERSION:2.0
PRODID:-//EZFacility.com, Inc.//EZL 2.5.5.28621
BEGIN:VEVENT
UID:14048614@ezleagues.ezfacility.com
DTSTAMP:20260426T035143Z
CREATED:20260426T035143Z
DTSTART:20211218T223000Z
DTEND:20211218T231500Z
LOCATION:Naperville Yard Field 2
CONTACT:
SUMMARY:Wings SC 2012 Boys Elite VS. MAYAS FC 2012
DESCRIPTION:League Name: Travel Soccer-Boys 2012A\nGame Type: Regular\nGame
  Status: Complete\nHome Team: Wings SC 2012 Boys Elite\nAway Team: MAYAS F
 C 2012\nHome Score: 3\nAway Score: 3
END:VEVENT
BEGIN:VEVENT
UID:14048647@ezleagues.ezfacility.com
DTSTAMP:20260426T035143Z
CREATED:20260426T035143Z
DTSTART:20220108T220000Z
DTEND:20220108T224500Z
LOCATION:Naperville Yard Field 1
CONTACT:
SUMMARY:BSC Raiders 2012 Black VS. Wings SC 2012 Boys Elite
DESCRIPTION:League Name: Travel Soccer-Boys 2012A\nGame Type: Regular\nGame
  Status: Complete\nHome Team: BSC Raiders 2012 Black\nAway Team: Wings SC 
 2012 Boys Elite\nHome Score: 3\nAway Score: 5
END:VEVENT
BEGIN:VEVENT
UID:14048679@ezleagues.ezfacility.com
DTSTAMP:20260426T035143Z
CREATED:20260426T035143Z
DTSTART:20220115T211500Z
DTEND:20220115T220000Z
LOCATION:Field 3
CONTACT:
SUMMARY:Wings SC 2012 Boys Elite VS. Pineda Futbol Academy 2012 Omega
DESCRIPTION:League Name: Travel Soccer-Boys 2012A\nGame Type: Regular\nGame
  Status: Complete\nHome Team: Wings SC 2012 Boys Elite\nAway Team: Pineda 
 Futbol Academy 2012 Omega\nHome Score: 2\nAway Score: 5
END:VEVENT
BEGIN:VEVENT
UID:14048710@ezleagues.ezfacility.com
DTSTAMP:20260426T035143Z
CREATED:20260426T035143Z
DTSTART:20220122T230000Z
DTEND:20220122T234500Z
LOCATION:Naperville Yard Field 2
CONTACT:
SUMMARY:Ajax FC B2012 Red VS. Wings SC 2012 Boys Elite
DESCRIPTION:League Name: Travel Soccer-Boys 2012A\nGame Type: Regular\nGame
  Status: Complete\nHome Team: Ajax FC B2012 Red\nAway Team: Wings SC 2012 
 Boys Elite\nHome Score: 3\nAway Score: 7
END:VEVENT
BEGIN:VEVENT
UID:14048740@ezleagues.ezfacility.com
DTSTAMP:20260426T035143Z
CREATED:20260426T035143Z
DTSTART:20220130T010000Z
DTEND:20220130T014500Z
LOCATION:Naperville Yard Field 1
CONTACT:
SUMMARY:Bloomingdale Lightning F.C. 2012 Boys VS. Wings SC 2012 Boys Elite
DESCRIPTION:League Name: Travel Soccer-Boys 2012A\nGame Type: Regular\nGame
  Status: Complete\nHome Team: Bloomingdale Lightning F.C. 2012 Boys\nAway 
 Team: Wings SC 2012 Boys Elite\nHome Score: 0\nAway Score: 2
END:VEVENT
BEGIN:VEVENT
UID:14048676@ezleagues.ezfacility.com
DTSTAMP:20260426T035143Z
CREATED:20260426T035143Z
DTSTART:20220212T174500Z
DTEND:20220212T183000Z
LOCATION:Field 2
CONTACT:
SUMMARY:Bloomingdale Lightning F.C. 2012 Boys VS. Wings SC 2012 Boys Elite
DESCRIPTION:League Name: Travel Soccer-Boys 2012A\nGame Type: Regular\nGame
  Status: Complete\nHome Team: Bloomingdale Lightning F.C. 2012 Boys\nAway 
 Team: Wings SC 2012 Boys Elite\nHome Score: 5\nAway Score: 7
END:VEVENT
BEGIN:VEVENT
UID:14048553@ezleagues.ezfacility.com
DTSTAMP:20260426T035143Z
CREATED:20260426T035143Z
DTSTART:20220219T203000Z
DTEND:20220219T211500Z
LOCATION:Field 3
CONTACT:
SUMMARY:Wings SC 2012 Boys Elite VS. HDS Eagles 2012
DESCRIPTION:League Name: Travel Soccer-Boys 2012A\nGame Type: Regular\nGame
  Status: Complete\nHome Team: Wings SC 2012 Boys Elite\nAway Team: HDS Eag
 les 2012\nHome Score: 6\nAway Score: 3
END:VEVENT
BEGIN:VEVENT
UID:14048648@ezleagues.ezfacility.com
DTSTAMP:20260426T035143Z
CREATED:20260426T035143Z
DTSTART:20220305T231500Z
DTEND:20220306T000000Z
LOCATION:Field 2
CONTACT:
SUMMARY:Wings SC 2012 Boys Elite VS. HDS Eagles 2012
DESCRIPTION:League Name: Travel Soccer-Boys 2012A\nGame Type: Regular\nGame
  Status: Complete\nHome Team: Wings SC 2012 Boys Elite\nAway Team: HDS Eag
 les 2012\nHome Score: 4\nAway Score: 5
END:VEVENT
BEGIN:VEVENT
UID:14048583@ezleagues.ezfacility.com
DTSTAMP:20260426T035143Z
CREATED:20260426T035143Z
DTSTART:20220312T140000Z
DTEND:20220312T144500Z
LOCATION:Naperville Yard Field 1
CONTACT:
SUMMARY:Wings SC 2012 Boys Elite VS. Ajax FC B2012 Red
DESCRIPTION:League Name: Travel Soccer-Boys 2012A\nGame Type: Regular\nGame
  Status: Complete\nHome Team: Wings SC 2012 Boys Elite\nAway Team: Ajax FC
  B2012 Red\nHome Score: 6\nAway Score: 2
END:VEVENT
BEGIN:VEVENT
UID:14048615@ezleagues.ezfacility.com
DTSTAMP:20260426T035143Z
CREATED:20260426T035143Z
DTSTART:20220319T153000Z
DTEND:20220319T161500Z
LOCATION:Naperville Yard Field 2
CONTACT:
SUMMARY:Wings SC 2012 Boys Elite VS. Chicago Blast 2012 Select Boys
DESCRIPTION:League Name: Travel Soccer-Boys 2012A\nGame Type: Regular\nGame
  Status: Complete\nHome Team: Wings SC 2012 Boys Elite\nAway Team: Chicago
  Blast 2012 Select Boys\nHome Score: 6\nAway Score: 4
END:VEVENT
BEGIN:VEVENT
UID:14182679@ezleagues.ezfacility.com
DTSTAMP:20260426T035143Z
CREATED:20260426T035143Z
DTSTART:20220326T150500Z
DTEND:20220326T155000Z
LOCATION:Field 3
CONTACT:
SUMMARY:MAYAS FC 2012 VS. Wings SC 2012 Boys Elite
DESCRIPTION:League Name: Travel Soccer-Boys 2012A\nGame Type: Postseason\nG
 ame Status: Complete\nHome Team: MAYAS FC 2012\nAway Team: Wings SC 2012 B
 oys Elite\nHome Score: 6\nAway Score: 4
END:VEVENT
END:VCALENDAR
