BEGIN:VCALENDAR
VERSION:2.0
PRODID:-//EZFacility.com, Inc.//EZL 2.5.5.28621
BEGIN:VEVENT
UID:14062801@ezleagues.ezfacility.com
DTSTAMP:20260424T044353Z
CREATED:20260424T044353Z
DTSTART:20211211T011500Z
DTEND:20211211T020000Z
LOCATION:Field 2
CONTACT:
SUMMARY:Midwest United FC Chicago Boys 2006 VS. AYSO 300 United Boys 2006
DESCRIPTION:League Name: Travel High School League-Boys HS 2007/2006\nGame 
 Type: Regular\nGame Status: Complete\nHome Team: Midwest United FC Chicago
  Boys 2006\nAway Team: AYSO 300 United Boys 2006\nHome Score: 7\nAway Scor
 e: 0
END:VEVENT
BEGIN:VEVENT
UID:14062769@ezleagues.ezfacility.com
DTSTAMP:20260424T044353Z
CREATED:20260424T044353Z
DTSTART:20211220T013000Z
DTEND:20211220T021500Z
LOCATION:Field 3
CONTACT:
SUMMARY:FC Eagles United HS Boys VS. Midwest United FC Chicago Boys 2006
DESCRIPTION:League Name: Travel High School League-Boys HS 2007/2006\nGame 
 Type: Regular\nGame Status: Complete\nHome Team: FC Eagles United HS Boys\
 nAway Team: Midwest United FC Chicago Boys 2006\nHome Score: 1\nAway Score
 : 5
END:VEVENT
BEGIN:VEVENT
UID:14062785@ezleagues.ezfacility.com
DTSTAMP:20260424T044353Z
CREATED:20260424T044353Z
DTSTART:20220116T023000Z
DTEND:20220116T031500Z
LOCATION:Field 3
CONTACT:
SUMMARY:Midwest United FC Chicago Boys 2006 VS. Chicago Trojans FC
DESCRIPTION:League Name: Travel High School League-Boys HS 2007/2006\nGame 
 Type: Regular\nGame Status: Complete\nHome Team: Midwest United FC Chicago
  Boys 2006\nAway Team: Chicago Trojans FC\nHome Score: 4\nAway Score: 1
END:VEVENT
BEGIN:VEVENT
UID:14062837@ezleagues.ezfacility.com
DTSTAMP:20260424T044353Z
CREATED:20260424T044353Z
DTSTART:20220128T230000Z
DTEND:20220128T234500Z
LOCATION:Field 3
CONTACT:
SUMMARY:Midwest United FC Chicago Boys 2006 VS. Typhoons FC U16-B
DESCRIPTION:League Name: Travel High School League-Boys HS 2007/2006\nGame 
 Type: Regular\nGame Status: Complete\nHome Team: Midwest United FC Chicago
  Boys 2006\nAway Team: Typhoons FC U16-B\nHome Score: 6\nAway Score: 2
END:VEVENT
BEGIN:VEVENT
UID:14062819@ezleagues.ezfacility.com
DTSTAMP:20260424T044353Z
CREATED:20260424T044353Z
DTSTART:20220206T031500Z
DTEND:20220206T040000Z
LOCATION:Naperville Yard Field 1
CONTACT:
SUMMARY:Black Wolves FC HS Boys VS. Midwest United FC Chicago Boys 2006
DESCRIPTION:League Name: Travel High School League-Boys HS 2007/2006\nGame 
 Type: Regular\nGame Status: Complete\nHome Team: Black Wolves FC HS Boys\n
 Away Team: Midwest United FC Chicago Boys 2006\nHome Score: 1\nAway Score:
  1
END:VEVENT
BEGIN:VEVENT
UID:14062855@ezleagues.ezfacility.com
DTSTAMP:20260424T044353Z
CREATED:20260424T044353Z
DTSTART:20220213T024500Z
DTEND:20220213T033000Z
LOCATION:Field 2
CONTACT:
SUMMARY:Lisle FC B2006/07 France VS. Midwest United FC Chicago Boys 2006
DESCRIPTION:League Name: Travel High School League-Boys HS 2007/2006\nGame 
 Type: Regular\nGame Status: Complete\nHome Team: Lisle FC B2006/07 France\
 nAway Team: Midwest United FC Chicago Boys 2006\nHome Score: 1\nAway Score
 : 14
END:VEVENT
BEGIN:VEVENT
UID:14062891@ezleagues.ezfacility.com
DTSTAMP:20260424T044353Z
CREATED:20260424T044353Z
DTSTART:20220227T031500Z
DTEND:20220227T040000Z
LOCATION:Naperville Yard Field 1
CONTACT:
SUMMARY:Aurora Aztecs SC B2006/2007 VS. Midwest United FC Chicago Boys 2006
DESCRIPTION:League Name: Travel High School League-Boys HS 2007/2006\nGame 
 Type: Regular\nGame Status: Complete\nHome Team: Aurora Aztecs SC B2006/20
 07\nAway Team: Midwest United FC Chicago Boys 2006\nHome Score: 0\nAway Sc
 ore: 1
END:VEVENT
BEGIN:VEVENT
UID:14062908@ezleagues.ezfacility.com
DTSTAMP:20260424T044353Z
CREATED:20260424T044353Z
DTSTART:20220306T004500Z
DTEND:20220306T013000Z
LOCATION:Naperville Yard Field 2
CONTACT:
SUMMARY:TESC HS B2006/2007 VS. Midwest United FC Chicago Boys 2006
DESCRIPTION:League Name: Travel High School League-Boys HS 2007/2006\nGame 
 Type: Regular\nGame Status: Complete\nHome Team: TESC HS B2006/2007\nAway 
 Team: Midwest United FC Chicago Boys 2006\nHome Score: 3\nAway Score: 5
END:VEVENT
BEGIN:VEVENT
UID:14062923@ezleagues.ezfacility.com
DTSTAMP:20260424T044353Z
CREATED:20260424T044353Z
DTSTART:20220313T030000Z
DTEND:20220313T034500Z
LOCATION:Field 2
CONTACT:
SUMMARY:Midwest United FC Chicago Boys 2006 VS. Team Olympic B2006
DESCRIPTION:League Name: Travel High School League-Boys HS 2007/2006\nGame 
 Type: Regular\nGame Status: Complete\nHome Team: Midwest United FC Chicago
  Boys 2006\nAway Team: Team Olympic B2006\nHome Score: 5\nAway Score: 3
END:VEVENT
BEGIN:VEVENT
UID:14062873@ezleagues.ezfacility.com
DTSTAMP:20260424T044353Z
CREATED:20260424T044353Z
DTSTART:20220319T204500Z
DTEND:20220319T213000Z
LOCATION:Naperville Yard Field 2
CONTACT:
SUMMARY:Midwest United FC Chicago Boys 2006 VS. Blue Birds FC 2006/07
DESCRIPTION:League Name: Travel High School League-Boys HS 2007/2006\nGame 
 Type: Regular\nGame Status: Complete\nHome Team: Midwest United FC Chicago
  Boys 2006\nAway Team: Blue Birds FC 2006/07\nHome Score: 9\nAway Score: 1
END:VEVENT
BEGIN:VEVENT
UID:14183872@ezleagues.ezfacility.com
DTSTAMP:20260424T044353Z
CREATED:20260424T044353Z
DTSTART:20220327T013000Z
DTEND:20220327T021500Z
LOCATION:Field 3
CONTACT:
SUMMARY:Midwest United FC Chicago Boys 2006 VS. Aurora Aztecs SC B2006/2007
DESCRIPTION:League Name: Travel High School League-Boys HS 2007/2006\nGame 
 Type: Postseason\nGame Status: Complete\nHome Team: Midwest United FC Chic
 ago Boys 2006\nAway Team: Aurora Aztecs SC B2006/2007\nHome Score: 7\nAway
  Score: 2
END:VEVENT
END:VCALENDAR
