BEGIN:VCALENDAR
VERSION:2.0
PRODID:-//EZFacility.com, Inc.//EZL 2.5.5.28621
BEGIN:VEVENT
UID:14066435@ezleagues.ezfacility.com
DTSTAMP:20260426T033621Z
CREATED:20260426T033621Z
DTSTART:20211030T204500Z
DTEND:20211030T214000Z
LOCATION:PFFC Field House - Full Field 
CONTACT:
SUMMARY:Croatia Norval 2008G VS. Etobicoke Youth SC
DESCRIPTION:League Name: GU14 - Development\nGame Type: Regular\nGame Statu
 s: Complete\nHome Team: Croatia Norval 2008G\nAway Team: Etobicoke Youth S
 C\nHome Score: 1\nAway Score: 2
END:VEVENT
BEGIN:VEVENT
UID:14066437@ezleagues.ezfacility.com
DTSTAMP:20260426T033621Z
CREATED:20260426T033621Z
DTSTART:20211113T170000Z
DTEND:20211113T175500Z
LOCATION:Iceland #1 - Outdoor
CONTACT:
SUMMARY:Croatia Norval 2008G VS. Burlington Bayhawks
DESCRIPTION:League Name: GU14 - Development\nGame Type: Regular\nGame Statu
 s: Complete\nHome Team: Croatia Norval 2008G\nAway Team: Burlington Bayhaw
 ks\nHome Score: 4\nAway Score: 1
END:VEVENT
BEGIN:VEVENT
UID:14066439@ezleagues.ezfacility.com
DTSTAMP:20260426T033621Z
CREATED:20260426T033621Z
DTSTART:20211120T190500Z
DTEND:20211120T200000Z
LOCATION:PFFC Dome - Full Field
CONTACT:
SUMMARY:Brams United VS. Croatia Norval 2008G
DESCRIPTION:League Name: GU14 - Development\nGame Type: Regular\nGame Statu
 s: Complete\nHome Team: Brams United\nAway Team: Croatia Norval 2008G\nHom
 e Score: 0\nAway Score: 10
END:VEVENT
BEGIN:VEVENT
UID:14048849@ezleagues.ezfacility.com
DTSTAMP:20260426T033621Z
CREATED:20260426T033621Z
DTSTART:20211205T205000Z
DTEND:20211205T214500Z
LOCATION:PFFC Dome - Full Field
CONTACT:
SUMMARY:Storm FC VS. Croatia Norval 2008G
DESCRIPTION:League Name: GU14 - Development\nGame Type: Regular\nGame Statu
 s: Complete\nHome Team: Storm FC\nAway Team: Croatia Norval 2008G\nHome Sc
 ore: 0\nAway Score: 6
END:VEVENT
BEGIN:VEVENT
UID:14048176@ezleagues.ezfacility.com
DTSTAMP:20260426T033621Z
CREATED:20260426T033621Z
DTSTART:20211211T200000Z
DTEND:20211211T205500Z
LOCATION:PFFC Dome - Full Field
CONTACT:
SUMMARY:Rockwood FC 2008 Girls VS. Croatia Norval 2008G
DESCRIPTION:League Name: GU14 - Development\nGame Type: Regular\nGame Statu
 s: Rescheduled\nHome Team: Rockwood FC 2008 Girls\nAway Team: Croatia Norv
 al 2008G\n
END:VEVENT
BEGIN:VEVENT
UID:14048194@ezleagues.ezfacility.com
DTSTAMP:20260426T033621Z
CREATED:20260426T033621Z
DTSTART:20220109T205000Z
DTEND:20220109T214500Z
LOCATION:PFFC Dome - Full Field
CONTACT:
SUMMARY:Croatia Norval 2008G VS. Storm FC
DESCRIPTION:League Name: GU14 - Development\nGame Type: Regular\nGame Statu
 s: Rescheduled\nHome Team: Croatia Norval 2008G\nAway Team: Storm FC\n
END:VEVENT
BEGIN:VEVENT
UID:14048201@ezleagues.ezfacility.com
DTSTAMP:20260426T033621Z
CREATED:20260426T033621Z
DTSTART:20220122T192000Z
DTEND:20220122T201500Z
LOCATION:CMCC - Full Field
CONTACT:
SUMMARY:Etobicoke Youth SC VS. Croatia Norval 2008G
DESCRIPTION:League Name: GU14 - Development\nGame Type: Regular\nGame Statu
 s: Rescheduled\nHome Team: Etobicoke Youth SC\nAway Team: Croatia Norval 2
 008G\n
END:VEVENT
BEGIN:VEVENT
UID:14048198@ezleagues.ezfacility.com
DTSTAMP:20260426T033621Z
CREATED:20260426T033621Z
DTSTART:20220206T224000Z
DTEND:20220206T233500Z
LOCATION:PFFC Dome - Full Field
CONTACT:
SUMMARY:Croatia Norval 2008G VS. Clarkson
DESCRIPTION:League Name: GU14 - Development\nGame Type: Regular\nGame Statu
 s: Complete\nHome Team: Croatia Norval 2008G\nAway Team: Clarkson\nHome Sc
 ore: 5\nAway Score: 0
END:VEVENT
BEGIN:VEVENT
UID:14048207@ezleagues.ezfacility.com
DTSTAMP:20260426T033621Z
CREATED:20260426T033621Z
DTSTART:20220219T190500Z
DTEND:20220219T200000Z
LOCATION:PFFC Dome - Full Field
CONTACT:
SUMMARY:Croatia Norval 2008G VS. Rockwood FC 2008 Girls
DESCRIPTION:League Name: GU14 - Development\nGame Type: Regular\nGame Statu
 s: Complete\nHome Team: Croatia Norval 2008G\nAway Team: Rockwood FC 2008 
 Girls\nHome Score: 1\nAway Score: 0
END:VEVENT
BEGIN:VEVENT
UID:14048189@ezleagues.ezfacility.com
DTSTAMP:20260426T033621Z
CREATED:20260426T033621Z
DTSTART:20220312T190500Z
DTEND:20220312T200000Z
LOCATION:PFFC Dome - Full Field
CONTACT:
SUMMARY:Brams United VS. Croatia Norval 2008G
DESCRIPTION:League Name: GU14 - Development\nGame Type: Regular\nGame Statu
 s: Complete\nHome Team: Brams United\nAway Team: Croatia Norval 2008G\nHom
 e Score: 0\nAway Score: 8
END:VEVENT
BEGIN:VEVENT
UID:14048179@ezleagues.ezfacility.com
DTSTAMP:20260426T033621Z
CREATED:20260426T033621Z
DTSTART:20220409T172500Z
DTEND:20220409T182000Z
LOCATION:CMCC - Full Field
CONTACT:
SUMMARY:Rockwood FC 2008 Girls VS. Croatia Norval 2008G
DESCRIPTION:League Name: GU14 - Development\nGame Type: Regular\nGame Statu
 s: Complete\nHome Team: Rockwood FC 2008 Girls\nAway Team: Croatia Norval 
 2008G\nHome Score: 0\nAway Score: 4
END:VEVENT
BEGIN:VEVENT
UID:14226020@ezleagues.ezfacility.com
DTSTAMP:20260426T033621Z
CREATED:20260426T033621Z
DTSTART:20220416T140000Z
DTEND:20220416T145500Z
LOCATION:Iceland #2 - Outdoor
CONTACT:
SUMMARY:Croatia Norval 2008G VS. Storm FC
DESCRIPTION:League Name: GU14 - Development\nGame Type: Regular\nGame Statu
 s: Complete\nHome Team: Croatia Norval 2008G\nAway Team: Storm FC\nHome Sc
 ore: 4\nAway Score: 3
END:VEVENT
BEGIN:VEVENT
UID:14049042@ezleagues.ezfacility.com
DTSTAMP:20260426T033621Z
CREATED:20260426T033621Z
DTSTART:20220423T180500Z
DTEND:20220423T190000Z
LOCATION:PFFC Dome - Full Field
CONTACT:
SUMMARY:Burlington Bayhawks VS. Croatia Norval 2008G
DESCRIPTION:League Name: GU14 - Development\nGame Type: Regular\nGame Statu
 s: Complete\nHome Team: Burlington Bayhawks\nAway Team: Croatia Norval 200
 8G\nHome Score: 0\nAway Score: 5
END:VEVENT
BEGIN:VEVENT
UID:14231309@ezleagues.ezfacility.com
DTSTAMP:20260426T033621Z
CREATED:20260426T033621Z
DTSTART:20220424T140000Z
DTEND:20220424T145500Z
LOCATION:PFFC - Outdoors #2
CONTACT:
SUMMARY:Etobicoke Youth SC VS. Croatia Norval 2008G
DESCRIPTION:League Name: GU14 - Development\nGame Type: Regular\nGame Statu
 s: Complete\nHome Team: Etobicoke Youth SC\nAway Team: Croatia Norval 2008
 G\nHome Score: 0\nAway Score: 1
END:VEVENT
BEGIN:VEVENT
UID:14233747@ezleagues.ezfacility.com
DTSTAMP:20260426T033621Z
CREATED:20260426T033621Z
DTSTART:20220501T145500Z
DTEND:20220501T155000Z
LOCATION:Iceland #2 - Outdoor
CONTACT:
SUMMARY:Rockwood FC 2008 Girls VS. Croatia Norval 2008G
DESCRIPTION:League Name: GU14 - Development\nGame Type: Regular\nGame Statu
 s: Complete\nHome Team: Rockwood FC 2008 Girls\nAway Team: Croatia Norval 
 2008G\nHome Score: 0\nAway Score: 4
END:VEVENT
END:VCALENDAR
