BEGIN:VCALENDAR
VERSION:2.0
PRODID:-//EZFacility.com, Inc.//EZL 2.5.5.28621
BEGIN:VEVENT
UID:14072376@ezleagues.ezfacility.com
DTSTAMP:20260426T033547Z
CREATED:20260426T033547Z
DTSTART:20211204T211000Z
DTEND:20211204T220500Z
LOCATION:Jessup Premier Field #1
CONTACT:
SUMMARY:2010 SDFC Elite VS. 2010 FSA Dragons
DESCRIPTION:League Name: Youth (WINTER 1) 2021 SD1 SAT/SUN 2010 Boys Silver
 \nGame Type: Regular\nGame Status: Complete\nHome Team: 2010 SDFC Elite\nA
 way Team: 2010 FSA Dragons\nHome Score: 3\nAway Score: 2
END:VEVENT
BEGIN:VEVENT
UID:14072400@ezleagues.ezfacility.com
DTSTAMP:20260426T033547Z
CREATED:20260426T033547Z
DTSTART:20211212T180000Z
DTEND:20211212T185500Z
LOCATION:Jessup Premier Field #2
CONTACT:
SUMMARY:2010 Broadneck SC Storm Black VS. 2010 FSA Dragons
DESCRIPTION:League Name: Youth (WINTER 1) 2021 SD1 SAT/SUN 2010 Boys Silver
 \nGame Type: Regular\nGame Status: Complete\nHome Team: 2010 Broadneck SC 
 Storm Black\nAway Team: 2010 FSA Dragons\nHome Score: 3\nAway Score: 4
END:VEVENT
BEGIN:VEVENT
UID:14072428@ezleagues.ezfacility.com
DTSTAMP:20260426T033547Z
CREATED:20260426T033547Z
DTSTART:20211219T180000Z
DTEND:20211219T185500Z
LOCATION:Jessup Premier Field #2
CONTACT:
SUMMARY:2010 Broadneck SC Storm Black VS. 2010 FSA Dragons
DESCRIPTION:League Name: Youth (WINTER 1) 2021 SD1 SAT/SUN 2010 Boys Silver
 \nGame Type: Regular\nGame Status: Complete\nHome Team: 2010 Broadneck SC 
 Storm Black\nAway Team: 2010 FSA Dragons\nHome Score: 2\nAway Score: 4
END:VEVENT
BEGIN:VEVENT
UID:14072508@ezleagues.ezfacility.com
DTSTAMP:20260426T033547Z
CREATED:20260426T033547Z
DTSTART:20220109T180000Z
DTEND:20220109T185500Z
LOCATION:Jessup Premier Field #2
CONTACT:
SUMMARY:2010 FSA Dragons VS. 2010 Dreamers FC
DESCRIPTION:League Name: Youth (WINTER 1) 2021 SD1 SAT/SUN 2010 Boys Silver
 \nGame Type: Regular\nGame Status: Complete\nHome Team: 2010 FSA Dragons\n
 Away Team: 2010 Dreamers FC\nHome Score: 1\nAway Score: 6
END:VEVENT
BEGIN:VEVENT
UID:14072536@ezleagues.ezfacility.com
DTSTAMP:20260426T033547Z
CREATED:20260426T033547Z
DTSTART:20220115T135000Z
DTEND:20220115T144500Z
LOCATION:Jessup Premier Field #1
CONTACT:
SUMMARY:2010 FSA Dragons VS. 2010 Cassa
DESCRIPTION:League Name: Youth (WINTER 1) 2021 SD1 SAT/SUN 2010 Boys Silver
 \nGame Type: Regular\nGame Status: Complete\nHome Team: 2010 FSA Dragons\n
 Away Team: 2010 Cassa\nHome Score: 3\nAway Score: 4
END:VEVENT
BEGIN:VEVENT
UID:14072564@ezleagues.ezfacility.com
DTSTAMP:20260426T033547Z
CREATED:20260426T033547Z
DTSTART:20220123T170000Z
DTEND:20220123T175500Z
LOCATION:Jessup Premier Field #2
CONTACT:
SUMMARY:2010 FSA Dragons VS. 2010 Broadneck SC Storm Gold
DESCRIPTION:League Name: Youth (WINTER 1) 2021 SD1 SAT/SUN 2010 Boys Silver
 \nGame Type: Regular\nGame Status: Complete\nHome Team: 2010 FSA Dragons\n
 Away Team: 2010 Broadneck SC Storm Gold\nHome Score: 3\nAway Score: 5
END:VEVENT
BEGIN:VEVENT
UID:14072454@ezleagues.ezfacility.com
DTSTAMP:20260426T033547Z
CREATED:20260426T033547Z
DTSTART:20220129T180500Z
DTEND:20220129T190000Z
LOCATION:Jessup Premier Field #2
CONTACT:
SUMMARY:2010 Cassa VS. 2010 FSA Dragons
DESCRIPTION:League Name: Youth (WINTER 1) 2021 SD1 SAT/SUN 2010 Boys Silver
 \nGame Type: Regular\nGame Status: Complete\nHome Team: 2010 Cassa\nAway T
 eam: 2010 FSA Dragons\nHome Score: 1\nAway Score: 4
END:VEVENT
BEGIN:VEVENT
UID:14072480@ezleagues.ezfacility.com
DTSTAMP:20260426T033547Z
CREATED:20260426T033547Z
DTSTART:20220205T120000Z
DTEND:20220205T125500Z
LOCATION:Jessup Premier Field #1
CONTACT:
SUMMARY:2010 FSA Dragons VS. 2010 ASA Lions
DESCRIPTION:League Name: Youth (WINTER 1) 2021 SD1 SAT/SUN 2010 Boys Silver
 \nGame Type: Regular\nGame Status: Complete\nHome Team: 2010 FSA Dragons\n
 Away Team: 2010 ASA Lions\nHome Score: 5\nAway Score: 3
END:VEVENT
END:VCALENDAR
