BEGIN:VCALENDAR
VERSION:2.0
PRODID:-//EZFacility.com, Inc.//EZL 2.5.5.28621
BEGIN:VEVENT
UID:14106855@ezleagues.ezfacility.com
DTSTAMP:20260426T035009Z
CREATED:20260426T035009Z
DTSTART:20211219T212000Z
DTEND:20211219T221000Z
LOCATION:VA Army National Guard Field 2
CONTACT:Cazun
SUMMARY:Real Madrid VS. Sterling Fury Orange
DESCRIPTION:League Name: U-13/U-14 Boys Youth Travel Soccer League\nGame Ty
 pe: Regular\nGame Status: Complete\nHome Team: Real Madrid\nAway Team: Ste
 rling Fury Orange\nHome Score: 11\nAway Score: 2
END:VEVENT
BEGIN:VEVENT
UID:14123714@ezleagues.ezfacility.com
DTSTAMP:20260426T035009Z
CREATED:20260426T035009Z
DTSTART:20211226T171500Z
DTEND:20211226T180000Z
LOCATION: Field 3
CONTACT:Pedemonte
SUMMARY:Sterling Fury Orange VS. Manassas United Bayern 08
DESCRIPTION:League Name: U-13/U-14 Boys Youth Travel Soccer League\nGame Ty
 pe: Regular\nGame Status: Complete\nHome Team: Sterling Fury Orange\nAway 
 Team: Manassas United Bayern 08\nHome Score: 6\nAway Score: 11
END:VEVENT
BEGIN:VEVENT
UID:14123719@ezleagues.ezfacility.com
DTSTAMP:20260426T035009Z
CREATED:20260426T035009Z
DTSTART:20220102T191500Z
DTEND:20220102T200000Z
LOCATION: Field 3
CONTACT:Pedemonte
SUMMARY:Sterling Fury Orange VS. VISA Soccer Academy
DESCRIPTION:League Name: U-13/U-14 Boys Youth Travel Soccer League\nGame Ty
 pe: Regular\nGame Status: Complete\nHome Team: Sterling Fury Orange\nAway 
 Team: VISA Soccer Academy\nHome Score: 2\nAway Score: 3
END:VEVENT
BEGIN:VEVENT
UID:14123725@ezleagues.ezfacility.com
DTSTAMP:20260426T035009Z
CREATED:20260426T035009Z
DTSTART:20220109T141500Z
DTEND:20220109T150000Z
LOCATION:VA Army National Guard Field 2
CONTACT:Pedemonte
SUMMARY:Sterling Fury Orange VS. Manassas United Elite 08
DESCRIPTION:League Name: U-13/U-14 Boys Youth Travel Soccer League\nGame Ty
 pe: Regular\nGame Status: Complete\nHome Team: Sterling Fury Orange\nAway 
 Team: Manassas United Elite 08\nHome Score: 10\nAway Score: 5
END:VEVENT
BEGIN:VEVENT
UID:14123733@ezleagues.ezfacility.com
DTSTAMP:20260426T035009Z
CREATED:20260426T035009Z
DTSTART:20220116T161500Z
DTEND:20220116T170000Z
LOCATION:Field 1
CONTACT:Pedemonte
SUMMARY:Sterling Fury Orange VS. Manassas United Elite 09
DESCRIPTION:League Name: U-13/U-14 Boys Youth Travel Soccer League\nGame Ty
 pe: Regular\nGame Status: Complete\nHome Team: Sterling Fury Orange\nAway 
 Team: Manassas United Elite 09\nHome Score: 5\nAway Score: 4
END:VEVENT
BEGIN:VEVENT
UID:14123729@ezleagues.ezfacility.com
DTSTAMP:20260426T035009Z
CREATED:20260426T035009Z
DTSTART:20220116T180000Z
DTEND:20220116T184500Z
LOCATION:Field 1
CONTACT:Pedemonte
SUMMARY:Manassas United 3 VS. Sterling Fury Orange
DESCRIPTION:League Name: U-13/U-14 Boys Youth Travel Soccer League\nGame Ty
 pe: Regular\nGame Status: Complete\nHome Team: Manassas United 3\nAway Tea
 m: Sterling Fury Orange\nHome Score: 9\nAway Score: 5
END:VEVENT
BEGIN:VEVENT
UID:14123737@ezleagues.ezfacility.com
DTSTAMP:20260426T035009Z
CREATED:20260426T035009Z
DTSTART:20220123T183000Z
DTEND:20220123T191500Z
LOCATION:Field 1
CONTACT:Cazun
SUMMARY:Sterling Fury Orange VS. Manassas United Elite 09
DESCRIPTION:League Name: U-13/U-14 Boys Youth Travel Soccer League\nGame Ty
 pe: Postseason\nGame Status: Complete\nHome Team: Sterling Fury Orange\nAw
 ay Team: Manassas United Elite 09\nHome Score: 2\nAway Score: 4
END:VEVENT
END:VCALENDAR
