BEGIN:VCALENDAR
VERSION:2.0
PRODID:-//EZFacility.com, Inc.//EZL 2.5.5.28621
BEGIN:VEVENT
UID:14069756@ezleagues.ezfacility.com
DTSTAMP:20260424T044342Z
CREATED:20260424T044342Z
DTSTART:20211204T214000Z
DTEND:20211204T223000Z
LOCATION:Field 1
CONTACT:Esquerre
SUMMARY:VA Sweepers VS. Lady Inter
DESCRIPTION:League Name: U-14/U-15 Girls Youth Travel Soccer League\nGame T
 ype: Regular\nGame Status: Complete\nHome Team: VA Sweepers\nAway Team: La
 dy Inter\nHome Score: 18\nAway Score: 0
END:VEVENT
BEGIN:VEVENT
UID:14096973@ezleagues.ezfacility.com
DTSTAMP:20260424T044342Z
CREATED:20260424T044342Z
DTSTART:20211212T234500Z
DTEND:20211213T003000Z
LOCATION: Field 3
CONTACT:Valdivia
SUMMARY:Lady Inter VS. DSP Monsoon
DESCRIPTION:League Name: U-14/U-15 Girls Youth Travel Soccer League\nGame T
 ype: Regular\nGame Status: Complete\nHome Team: Lady Inter\nAway Team: DSP
  Monsoon\nHome Score: 1\nAway Score: 4
END:VEVENT
BEGIN:VEVENT
UID:14123887@ezleagues.ezfacility.com
DTSTAMP:20260424T044342Z
CREATED:20260424T044342Z
DTSTART:20211226T231500Z
DTEND:20211227T000000Z
LOCATION:Field 1
CONTACT:Ramirez
SUMMARY:Lady Inter VS. Warriors
DESCRIPTION:League Name: U-14/U-15 Girls Youth Travel Soccer League\nGame T
 ype: Regular\nGame Status: Complete\nHome Team: Lady Inter\nAway Team: War
 riors\nHome Score: 0\nAway Score: 3
END:VEVENT
BEGIN:VEVENT
UID:14123889@ezleagues.ezfacility.com
DTSTAMP:20260424T044342Z
CREATED:20260424T044342Z
DTSTART:20220101T230000Z
DTEND:20220101T234500Z
LOCATION:VA Army National Guard Field 2
CONTACT:Pedemonte
SUMMARY:Lady Inter VS. Supremes
DESCRIPTION:League Name: U-14/U-15 Girls Youth Travel Soccer League\nGame T
 ype: Regular\nGame Status: Complete\nHome Team: Lady Inter\nAway Team: Sup
 remes\nHome Score: 0\nAway Score: 3
END:VEVENT
BEGIN:VEVENT
UID:14123891@ezleagues.ezfacility.com
DTSTAMP:20260424T044342Z
CREATED:20260424T044342Z
DTSTART:20220109T233000Z
DTEND:20220110T001500Z
LOCATION:VA Army National Guard Field 2
CONTACT:Cazun
SUMMARY:Elimin8ers VS. Lady Inter
DESCRIPTION:League Name: U-14/U-15 Girls Youth Travel Soccer League\nGame T
 ype: Regular\nGame Status: Complete\nHome Team: Elimin8ers\nAway Team: Lad
 y Inter\nHome Score: 3\nAway Score: 0
END:VEVENT
BEGIN:VEVENT
UID:14123895@ezleagues.ezfacility.com
DTSTAMP:20260424T044342Z
CREATED:20260424T044342Z
DTSTART:20220116T140000Z
DTEND:20220116T144500Z
LOCATION:VA Army National Guard Field 2
CONTACT:Ramirez
SUMMARY:Lady Inter VS. DSP Monsoon
DESCRIPTION:League Name: U-14/U-15 Girls Youth Travel Soccer League\nGame T
 ype: Regular\nGame Status: Complete\nHome Team: Lady Inter\nAway Team: DSP
  Monsoon\nHome Score: 0\nAway Score: 0
END:VEVENT
END:VCALENDAR
