BEGIN:VCALENDAR
VERSION:2.0
PRODID:-//EZFacility.com, Inc.//EZL 2.5.5.28621
BEGIN:VEVENT
UID:14069112@ezleagues.ezfacility.com
DTSTAMP:20260424T044312Z
CREATED:20260424T044312Z
DTSTART:20211203T000000Z
DTEND:20211203T004000Z
LOCATION:Rise Indoor 3
CONTACT:Xiao
SUMMARY:Chicks With Kicks VS. House Team White
DESCRIPTION:League Name: 21-22 OPEN 13/14U GIRLS RISE SILVER\nGame Type: Re
 gular\nGame Status: Complete\nHome Team: Chicks With Kicks\nAway Team: Hou
 se Team White\nHome Score: 11\nAway Score: 6
END:VEVENT
BEGIN:VEVENT
UID:14069114@ezleagues.ezfacility.com
DTSTAMP:20260424T044312Z
CREATED:20260424T044312Z
DTSTART:20211209T231500Z
DTEND:20211209T235500Z
LOCATION:Rise Indoor 1
CONTACT:Sweeney
SUMMARY:Chicks With Kicks VS. Royals
DESCRIPTION:League Name: 21-22 OPEN 13/14U GIRLS RISE SILVER\nGame Type: Re
 gular\nGame Status: Complete\nHome Team: Chicks With Kicks\nAway Team: Roy
 als\nHome Score: 3\nAway Score: 4
END:VEVENT
BEGIN:VEVENT
UID:14069116@ezleagues.ezfacility.com
DTSTAMP:20260424T044312Z
CREATED:20260424T044312Z
DTSTART:20211216T231500Z
DTEND:20211216T235500Z
LOCATION:Rise Indoor 1
CONTACT:Cassetta
SUMMARY:Chicks With Kicks VS. House Team Black
DESCRIPTION:League Name: 21-22 OPEN 13/14U GIRLS RISE SILVER\nGame Type: Re
 gular\nGame Status: Complete\nHome Team: Chicks With Kicks\nAway Team: Hou
 se Team Black\nHome Score: 7\nAway Score: 7
END:VEVENT
BEGIN:VEVENT
UID:14069122@ezleagues.ezfacility.com
DTSTAMP:20260424T044312Z
CREATED:20260424T044312Z
DTSTART:20220108T221500Z
DTEND:20220108T225500Z
LOCATION:Rise Indoor 3
CONTACT:Cassetta
SUMMARY:House Team Black VS. Chicks With Kicks
DESCRIPTION:League Name: 21-22 OPEN 13/14U GIRLS RISE SILVER\nGame Type: Re
 gular\nGame Status: Complete\nHome Team: House Team Black\nAway Team: Chic
 ks With Kicks\nHome Score: 5\nAway Score: 6
END:VEVENT
BEGIN:VEVENT
UID:14069120@ezleagues.ezfacility.com
DTSTAMP:20260424T044312Z
CREATED:20260424T044312Z
DTSTART:20220115T004500Z
DTEND:20220115T012500Z
LOCATION:Rise Indoor 1
CONTACT:Cassetta
SUMMARY:Royals VS. Chicks With Kicks
DESCRIPTION:League Name: 21-22 OPEN 13/14U GIRLS RISE SILVER\nGame Type: Re
 gular\nGame Status: Complete\nHome Team: Royals\nAway Team: Chicks With Ki
 cks\nHome Score: 6\nAway Score: 1
END:VEVENT
BEGIN:VEVENT
UID:14069118@ezleagues.ezfacility.com
DTSTAMP:20260424T044312Z
CREATED:20260424T044312Z
DTSTART:20220115T200000Z
DTEND:20220115T204000Z
LOCATION:Rise Indoor 3
CONTACT:Sweeney
SUMMARY:House Team White VS. Chicks With Kicks
DESCRIPTION:League Name: 21-22 OPEN 13/14U GIRLS RISE SILVER\nGame Type: Re
 gular\nGame Status: Complete\nHome Team: House Team White\nAway Team: Chic
 ks With Kicks\nHome Score: 2\nAway Score: 12
END:VEVENT
BEGIN:VEVENT
UID:14095896@ezleagues.ezfacility.com
DTSTAMP:20260424T044312Z
CREATED:20260424T044312Z
DTSTART:20220127T223000Z
DTEND:20220127T231000Z
LOCATION:Rise Indoor 2
CONTACT:Gray
SUMMARY:Royals VS. Chicks With Kicks
DESCRIPTION:League Name: 21-22 OPEN 13/14U GIRLS RISE SILVER\nGame Type: Po
 stseason\nGame Status: Complete\nHome Team: Royals\nAway Team: Chicks With
  Kicks\nHome Score: 4\nAway Score: 1
END:VEVENT
END:VCALENDAR
