BEGIN:VCALENDAR
VERSION:2.0
PRODID:-//EZFacility.com, Inc.//EZL 2.5.5.28621
BEGIN:VEVENT
UID:14072369@ezleagues.ezfacility.com
DTSTAMP:20260424T044048Z
CREATED:20260424T044048Z
DTSTART:20211204T192000Z
DTEND:20211204T201500Z
LOCATION:Jessup Premier Field #1
CONTACT:
SUMMARY:2010 PSC United VS. 2010 Fletcher's Fury
DESCRIPTION:League Name: Youth (WINTER 1) 2021 SD1 SAT/SUN 2010 Boys Bronze
 \nGame Type: Regular\nGame Status: Complete\nHome Team: 2010 PSC United\nA
 way Team: 2010 Fletcher's Fury\nHome Score: 3\nAway Score: 9
END:VEVENT
BEGIN:VEVENT
UID:14072397@ezleagues.ezfacility.com
DTSTAMP:20260424T044048Z
CREATED:20260424T044048Z
DTSTART:20211211T182500Z
DTEND:20211211T192000Z
LOCATION:Jessup Premier Field #1
CONTACT:
SUMMARY:2010 Fletcher's Fury VS. 2010 Laurel Eagles
DESCRIPTION:League Name: Youth (WINTER 1) 2021 SD1 SAT/SUN 2010 Boys Bronze
 \nGame Type: Regular\nGame Status: Complete\nHome Team: 2010 Fletcher's Fu
 ry\nAway Team: 2010 Laurel Eagles\nHome Score: 3\nAway Score: 6
END:VEVENT
BEGIN:VEVENT
UID:14072425@ezleagues.ezfacility.com
DTSTAMP:20260424T044048Z
CREATED:20260424T044048Z
DTSTART:20211218T195500Z
DTEND:20211218T205000Z
LOCATION:Jessup Premier Field #2
CONTACT:
SUMMARY:2010 Fletcher's Fury VS. 2010 CiTY Black
DESCRIPTION:League Name: Youth (WINTER 1) 2021 SD1 SAT/SUN 2010 Boys Bronze
 \nGame Type: Regular\nGame Status: Complete\nHome Team: 2010 Fletcher's Fu
 ry\nAway Team: 2010 CiTY Black\nHome Score: 6\nAway Score: 0
END:VEVENT
BEGIN:VEVENT
UID:14072504@ezleagues.ezfacility.com
DTSTAMP:20260424T044048Z
CREATED:20260424T044048Z
DTSTART:20220108T173000Z
DTEND:20220108T182500Z
LOCATION:Jessup Premier Field #1
CONTACT:
SUMMARY:2010 BSC Raptors VS. 2010 Fletcher's Fury
DESCRIPTION:League Name: Youth (WINTER 1) 2021 SD1 SAT/SUN 2010 Boys Bronze
 \nGame Type: Regular\nGame Status: Complete\nHome Team: 2010 BSC Raptors\n
 Away Team: 2010 Fletcher's Fury\nHome Score: 4\nAway Score: 7
END:VEVENT
BEGIN:VEVENT
UID:14072530@ezleagues.ezfacility.com
DTSTAMP:20260424T044048Z
CREATED:20260424T044048Z
DTSTART:20220115T220500Z
DTEND:20220115T230000Z
LOCATION:Jessup Premier Field #1
CONTACT:
SUMMARY:2010 Fletcher's Fury VS. 2010 SDFC Premier
DESCRIPTION:League Name: Youth (WINTER 1) 2021 SD1 SAT/SUN 2010 Boys Bronze
 \nGame Type: Regular\nGame Status: Complete\nHome Team: 2010 Fletcher's Fu
 ry\nAway Team: 2010 SDFC Premier\nHome Score: 9\nAway Score: 1
END:VEVENT
BEGIN:VEVENT
UID:14072558@ezleagues.ezfacility.com
DTSTAMP:20260424T044048Z
CREATED:20260424T044048Z
DTSTART:20220122T182500Z
DTEND:20220122T192000Z
LOCATION:Jessup Premier Field #1
CONTACT:
SUMMARY:2010 Fletcher's Fury VS. 2010 PSC United
DESCRIPTION:League Name: Youth (WINTER 1) 2021 SD1 SAT/SUN 2010 Boys Bronze
 \nGame Type: Regular\nGame Status: Complete\nHome Team: 2010 Fletcher's Fu
 ry\nAway Team: 2010 PSC United\nHome Score: 4\nAway Score: 6
END:VEVENT
BEGIN:VEVENT
UID:14072452@ezleagues.ezfacility.com
DTSTAMP:20260424T044048Z
CREATED:20260424T044048Z
DTSTART:20220129T163500Z
DTEND:20220129T173000Z
LOCATION:Jessup Premier Field #1
CONTACT:
SUMMARY:2010 Fusion FC VS. 2010 Fletcher's Fury
DESCRIPTION:League Name: Youth (WINTER 1) 2021 SD1 SAT/SUN 2010 Boys Bronze
 \nGame Type: Regular\nGame Status: Complete\nHome Team: 2010 Fusion FC\nAw
 ay Team: 2010 Fletcher's Fury\nHome Score: 2\nAway Score: 10
END:VEVENT
BEGIN:VEVENT
UID:14072478@ezleagues.ezfacility.com
DTSTAMP:20260424T044048Z
CREATED:20260424T044048Z
DTSTART:20220205T201500Z
DTEND:20220205T211000Z
LOCATION:Jessup Premier Field #1
CONTACT:
SUMMARY:2010 Academia de Glen Burnie Eagles VS. 2010 Fletcher's Fury
DESCRIPTION:League Name: Youth (WINTER 1) 2021 SD1 SAT/SUN 2010 Boys Bronze
 \nGame Type: Regular\nGame Status: Complete\nHome Team: 2010 Academia de G
 len Burnie Eagles\nAway Team: 2010 Fletcher's Fury\nHome Score: 3\nAway Sc
 ore: 3
END:VEVENT
END:VCALENDAR
