BEGIN:VCALENDAR
VERSION:2.0
PRODID:-//EZFacility.com, Inc.//EZL 2.5.5.28621
BEGIN:VEVENT
UID:14072370@ezleagues.ezfacility.com
DTSTAMP:20260424T044105Z
CREATED:20260424T044105Z
DTSTART:20211204T190000Z
DTEND:20211204T195500Z
LOCATION:Jessup Premier Field #2
CONTACT:
SUMMARY:2010 Academia de Glen Burnie Eagles VS. 2010 CiTY Black
DESCRIPTION:League Name: Youth (WINTER 1) 2021 SD1 SAT/SUN 2010 Boys Bronze
 \nGame Type: Regular\nGame Status: Complete\nHome Team: 2010 Academia de G
 len Burnie Eagles\nAway Team: 2010 CiTY Black\nHome Score: 2\nAway Score: 
 4
END:VEVENT
BEGIN:VEVENT
UID:14072396@ezleagues.ezfacility.com
DTSTAMP:20260424T044105Z
CREATED:20260424T044105Z
DTSTART:20211211T125500Z
DTEND:20211211T135000Z
LOCATION:Jessup Premier Field #1
CONTACT:
SUMMARY:2010 Fusion FC VS. 2010 Academia de Glen Burnie Eagles
DESCRIPTION:League Name: Youth (WINTER 1) 2021 SD1 SAT/SUN 2010 Boys Bronze
 \nGame Type: Regular\nGame Status: Complete\nHome Team: 2010 Fusion FC\nAw
 ay Team: 2010 Academia de Glen Burnie Eagles\nHome Score: 6\nAway Score: 2
END:VEVENT
BEGIN:VEVENT
UID:14072422@ezleagues.ezfacility.com
DTSTAMP:20260424T044105Z
CREATED:20260424T044105Z
DTSTART:20211218T201500Z
DTEND:20211218T211000Z
LOCATION:Jessup Premier Field #1
CONTACT:
SUMMARY:2010 SDFC Premier VS. 2010 Academia de Glen Burnie Eagles
DESCRIPTION:League Name: Youth (WINTER 1) 2021 SD1 SAT/SUN 2010 Boys Bronze
 \nGame Type: Regular\nGame Status: Complete\nHome Team: 2010 SDFC Premier\
 nAway Team: 2010 Academia de Glen Burnie Eagles\nHome Score: 1\nAway Score
 : 0
END:VEVENT
BEGIN:VEVENT
UID:14072506@ezleagues.ezfacility.com
DTSTAMP:20260424T044105Z
CREATED:20260424T044105Z
DTSTART:20220108T180500Z
DTEND:20220108T190000Z
LOCATION:Jessup Premier Field #2
CONTACT:
SUMMARY:2010 Academia de Glen Burnie Eagles VS. 2010 PSC United
DESCRIPTION:League Name: Youth (WINTER 1) 2021 SD1 SAT/SUN 2010 Boys Bronze
 \nGame Type: Regular\nGame Status: Complete\nHome Team: 2010 Academia de G
 len Burnie Eagles\nAway Team: 2010 PSC United\nHome Score: 1\nAway Score: 
 7
END:VEVENT
BEGIN:VEVENT
UID:14072533@ezleagues.ezfacility.com
DTSTAMP:20260424T044105Z
CREATED:20260424T044105Z
DTSTART:20220115T180500Z
DTEND:20220115T190000Z
LOCATION:Jessup Premier Field #2
CONTACT:
SUMMARY:2010 Laurel Eagles VS. 2010 Academia de Glen Burnie Eagles
DESCRIPTION:League Name: Youth (WINTER 1) 2021 SD1 SAT/SUN 2010 Boys Bronze
 \nGame Type: Regular\nGame Status: Complete\nHome Team: 2010 Laurel Eagles
 \nAway Team: 2010 Academia de Glen Burnie Eagles\nHome Score: 3\nAway Scor
 e: 2
END:VEVENT
BEGIN:VEVENT
UID:14072559@ezleagues.ezfacility.com
DTSTAMP:20260424T044105Z
CREATED:20260424T044105Z
DTSTART:20220122T195500Z
DTEND:20220122T205000Z
LOCATION:Jessup Premier Field #2
CONTACT:
SUMMARY:2010 CiTY Black VS. 2010 Academia de Glen Burnie Eagles
DESCRIPTION:League Name: Youth (WINTER 1) 2021 SD1 SAT/SUN 2010 Boys Bronze
 \nGame Type: Regular\nGame Status: Complete\nHome Team: 2010 CiTY Black\nA
 way Team: 2010 Academia de Glen Burnie Eagles\nHome Score: 1\nAway Score: 
 8
END:VEVENT
BEGIN:VEVENT
UID:14072450@ezleagues.ezfacility.com
DTSTAMP:20260424T044105Z
CREATED:20260424T044105Z
DTSTART:20220129T173000Z
DTEND:20220129T182500Z
LOCATION:Jessup Premier Field #1
CONTACT:
SUMMARY:2010 Academia de Glen Burnie Eagles VS. 2010 BSC Raptors
DESCRIPTION:League Name: Youth (WINTER 1) 2021 SD1 SAT/SUN 2010 Boys Bronze
 \nGame Type: Regular\nGame Status: Complete\nHome Team: 2010 Academia de G
 len Burnie Eagles\nAway Team: 2010 BSC Raptors\nHome Score: 5\nAway Score:
  1
END:VEVENT
BEGIN:VEVENT
UID:14072478@ezleagues.ezfacility.com
DTSTAMP:20260424T044105Z
CREATED:20260424T044105Z
DTSTART:20220205T201500Z
DTEND:20220205T211000Z
LOCATION:Jessup Premier Field #1
CONTACT:
SUMMARY:2010 Academia de Glen Burnie Eagles VS. 2010 Fletcher's Fury
DESCRIPTION:League Name: Youth (WINTER 1) 2021 SD1 SAT/SUN 2010 Boys Bronze
 \nGame Type: Regular\nGame Status: Complete\nHome Team: 2010 Academia de G
 len Burnie Eagles\nAway Team: 2010 Fletcher's Fury\nHome Score: 3\nAway Sc
 ore: 3
END:VEVENT
END:VCALENDAR
