BEGIN:VCALENDAR
VERSION:2.0
PRODID:-//EZFacility.com, Inc.//EZL 2.5.5.28621
BEGIN:VEVENT
UID:14073588@ezleagues.ezfacility.com
DTSTAMP:20260426T033551Z
CREATED:20260426T033551Z
DTSTART:20211205T180000Z
DTEND:20211205T185500Z
LOCATION:Harmans Premier Field #5
CONTACT:
SUMMARY:2013 Pipeline SC Red VS. 2013 FC Lightning
DESCRIPTION:League Name: Youth (WINTER 1) 2021 SD2 SAT/SUN 2013 Boys Bronze
 \nGame Type: Regular\nGame Status: Complete\nHome Team: 2013 Pipeline SC R
 ed\nAway Team: 2013 FC Lightning\nHome Score: 6\nAway Score: 6
END:VEVENT
BEGIN:VEVENT
UID:14073624@ezleagues.ezfacility.com
DTSTAMP:20260426T033551Z
CREATED:20260426T033551Z
DTSTART:20211212T190000Z
DTEND:20211212T195500Z
LOCATION:Harmans Premier Field #5
CONTACT:
SUMMARY:2013 CiTY Black VS. 2013 FC Lightning
DESCRIPTION:League Name: Youth (WINTER 1) 2021 SD2 SAT/SUN 2013 Boys Bronze
 \nGame Type: Regular\nGame Status: Complete\nHome Team: 2013 CiTY Black\nA
 way Team: 2013 FC Lightning\nHome Score: 3\nAway Score: 4
END:VEVENT
BEGIN:VEVENT
UID:14073662@ezleagues.ezfacility.com
DTSTAMP:20260426T033551Z
CREATED:20260426T033551Z
DTSTART:20211218T201500Z
DTEND:20211218T211000Z
LOCATION:Harmans Premier Field #4
CONTACT:
SUMMARY:2013 FC Lightning VS. 2013 HYS Lobos
DESCRIPTION:League Name: Youth (WINTER 1) 2021 SD2 SAT/SUN 2013 Boys Bronze
 \nGame Type: Regular\nGame Status: Complete\nHome Team: 2013 FC Lightning\
 nAway Team: 2013 HYS Lobos\nHome Score: 4\nAway Score: 8
END:VEVENT
BEGIN:VEVENT
UID:14073738@ezleagues.ezfacility.com
DTSTAMP:20260426T033551Z
CREATED:20260426T033551Z
DTSTART:20220102T210000Z
DTEND:20220102T215500Z
LOCATION:Harmans Premier Field #4
CONTACT:
SUMMARY:2013 FC Lightning VS. 2013 PSC Eagles
DESCRIPTION:League Name: Youth (WINTER 1) 2021 SD2 SAT/SUN 2013 Boys Bronze
 \nGame Type: Regular\nGame Status: Complete\nHome Team: 2013 FC Lightning\
 nAway Team: 2013 PSC Eagles\nHome Score: 4\nAway Score: 6
END:VEVENT
BEGIN:VEVENT
UID:14073776@ezleagues.ezfacility.com
DTSTAMP:20260426T033551Z
CREATED:20260426T033551Z
DTSTART:20220108T154000Z
DTEND:20220108T163500Z
LOCATION:Harmans Premier Field #5
CONTACT:
SUMMARY:2013 FC Lightning VS. 2013 SDFC
DESCRIPTION:League Name: Youth (WINTER 1) 2021 SD2 SAT/SUN 2013 Boys Bronze
 \nGame Type: Regular\nGame Status: Complete\nHome Team: 2013 FC Lightning\
 nAway Team: 2013 SDFC\nHome Score: 9\nAway Score: 7
END:VEVENT
BEGIN:VEVENT
UID:14073813@ezleagues.ezfacility.com
DTSTAMP:20260426T033551Z
CREATED:20260426T033551Z
DTSTART:20220116T180000Z
DTEND:20220116T185500Z
LOCATION:Harmans Premier Field #5
CONTACT:
SUMMARY:2013 SAC Lightning VS. 2013 FC Lightning
DESCRIPTION:League Name: Youth (WINTER 1) 2021 SD2 SAT/SUN 2013 Boys Bronze
 \nGame Type: Regular\nGame Status: Complete\nHome Team: 2013 SAC Lightning
 \nAway Team: 2013 FC Lightning\nHome Score: 5\nAway Score: 3
END:VEVENT
BEGIN:VEVENT
UID:14073849@ezleagues.ezfacility.com
DTSTAMP:20260426T033551Z
CREATED:20260426T033551Z
DTSTART:20220122T182500Z
DTEND:20220122T192000Z
LOCATION:Harmans Premier Field #5
CONTACT:
SUMMARY:2013 Maple Lawn FC VS. 2013 FC Lightning
DESCRIPTION:League Name: Youth (WINTER 1) 2021 SD2 SAT/SUN 2013 Boys Bronze
 \nGame Type: Regular\nGame Status: Complete\nHome Team: 2013 Maple Lawn FC
 \nAway Team: 2013 FC Lightning\nHome Score: 0\nAway Score: 8
END:VEVENT
BEGIN:VEVENT
UID:14073700@ezleagues.ezfacility.com
DTSTAMP:20260426T033551Z
CREATED:20260426T033551Z
DTSTART:20220129T120000Z
DTEND:20220129T125500Z
LOCATION:Harmans Premier Field #4
CONTACT:
SUMMARY:2013 FC Lightning VS. 2013 Academia de Glen Burnie Lions
DESCRIPTION:League Name: Youth (WINTER 1) 2021 SD2 SAT/SUN 2013 Boys Bronze
 \nGame Type: Regular\nGame Status: Complete\nHome Team: 2013 FC Lightning\
 nAway Team: 2013 Academia de Glen Burnie Lions\nHome Score: 3\nAway Score:
  0
END:VEVENT
END:VCALENDAR
