BEGIN:VCALENDAR
VERSION:2.0
PRODID:-//EZFacility.com, Inc.//EZL 2.5.5.28621
BEGIN:VEVENT
UID:14073591@ezleagues.ezfacility.com
DTSTAMP:20260421T030849Z
CREATED:20260421T030849Z
DTSTART:20211204T173000Z
DTEND:20211204T182500Z
LOCATION:Harmans Premier Field #5
CONTACT:
SUMMARY:2013 Academia de Glen Burnie Lions VS. 2013 Maple Lawn FC
DESCRIPTION:League Name: Youth (WINTER 1) 2021 SD2 SAT/SUN 2013 Boys Bronze
 \nGame Type: Regular\nGame Status: Complete\nHome Team: 2013 Academia de G
 len Burnie Lions\nAway Team: 2013 Maple Lawn FC\nHome Score: 7\nAway Score
 : 0
END:VEVENT
BEGIN:VEVENT
UID:14073628@ezleagues.ezfacility.com
DTSTAMP:20260421T030849Z
CREATED:20260421T030849Z
DTSTART:20211211T120000Z
DTEND:20211211T125500Z
LOCATION:Harmans Premier Field #5
CONTACT:
SUMMARY:2013 LF United VS. 2013 Academia de Glen Burnie Lions
DESCRIPTION:League Name: Youth (WINTER 1) 2021 SD2 SAT/SUN 2013 Boys Bronze
 \nGame Type: Regular\nGame Status: Complete\nHome Team: 2013 LF United\nAw
 ay Team: 2013 Academia de Glen Burnie Lions\nHome Score: 0\nAway Score: 6
END:VEVENT
BEGIN:VEVENT
UID:14073664@ezleagues.ezfacility.com
DTSTAMP:20260421T030849Z
CREATED:20260421T030849Z
DTSTART:20211218T192000Z
DTEND:20211218T201500Z
LOCATION:Harmans Premier Field #5
CONTACT:
SUMMARY:2013 Pipeline SC Red VS. 2013 Academia de Glen Burnie Lions
DESCRIPTION:League Name: Youth (WINTER 1) 2021 SD2 SAT/SUN 2013 Boys Bronze
 \nGame Type: Regular\nGame Status: Complete\nHome Team: 2013 Pipeline SC R
 ed\nAway Team: 2013 Academia de Glen Burnie Lions\nHome Score: 3\nAway Sco
 re: 5
END:VEVENT
BEGIN:VEVENT
UID:14073772@ezleagues.ezfacility.com
DTSTAMP:20260421T030849Z
CREATED:20260421T030849Z
DTSTART:20220108T091000Z
DTEND:20220108T100500Z
LOCATION:Harmans Premier Field #4
CONTACT:
SUMMARY:2013 Academia de Glen Burnie Lions VS. 2013 CiTY Black
DESCRIPTION:League Name: Youth (WINTER 1) 2021 SD2 SAT/SUN 2013 Boys Bronze
 \nGame Type: Regular\nGame Status: Complete\nHome Team: 2013 Academia de G
 len Burnie Lions\nAway Team: 2013 CiTY Black\nHome Score: 3\nAway Score: 0
END:VEVENT
BEGIN:VEVENT
UID:14073810@ezleagues.ezfacility.com
DTSTAMP:20260421T030849Z
CREATED:20260421T030849Z
DTSTART:20220115T182500Z
DTEND:20220115T192000Z
LOCATION:Harmans Premier Field #4
CONTACT:
SUMMARY:2013 Academia de Glen Burnie Lions VS. 2013 PSC Eagles
DESCRIPTION:League Name: Youth (WINTER 1) 2021 SD2 SAT/SUN 2013 Boys Bronze
 \nGame Type: Regular\nGame Status: Complete\nHome Team: 2013 Academia de G
 len Burnie Lions\nAway Team: 2013 PSC Eagles\nHome Score: 0\nAway Score: 6
END:VEVENT
BEGIN:VEVENT
UID:14073848@ezleagues.ezfacility.com
DTSTAMP:20260421T030849Z
CREATED:20260421T030849Z
DTSTART:20220122T163500Z
DTEND:20220122T173000Z
LOCATION:Harmans Premier Field #4
CONTACT:
SUMMARY:2013 Academia de Glen Burnie Lions VS. 2013 SDFC
DESCRIPTION:League Name: Youth (WINTER 1) 2021 SD2 SAT/SUN 2013 Boys Bronze
 \nGame Type: Regular\nGame Status: Complete\nHome Team: 2013 Academia de G
 len Burnie Lions\nAway Team: 2013 SDFC\nHome Score: 7\nAway Score: 0
END:VEVENT
BEGIN:VEVENT
UID:14073700@ezleagues.ezfacility.com
DTSTAMP:20260421T030849Z
CREATED:20260421T030849Z
DTSTART:20220129T120000Z
DTEND:20220129T125500Z
LOCATION:Harmans Premier Field #4
CONTACT:
SUMMARY:2013 FC Lightning VS. 2013 Academia de Glen Burnie Lions
DESCRIPTION:League Name: Youth (WINTER 1) 2021 SD2 SAT/SUN 2013 Boys Bronze
 \nGame Type: Regular\nGame Status: Complete\nHome Team: 2013 FC Lightning\
 nAway Team: 2013 Academia de Glen Burnie Lions\nHome Score: 3\nAway Score:
  0
END:VEVENT
BEGIN:VEVENT
UID:14073736@ezleagues.ezfacility.com
DTSTAMP:20260421T030849Z
CREATED:20260421T030849Z
DTSTART:20220205T220500Z
DTEND:20220205T230000Z
LOCATION:Harmans Premier Field #4
CONTACT:
SUMMARY:2013 HYS Lobos VS. 2013 Academia de Glen Burnie Lions
DESCRIPTION:League Name: Youth (WINTER 1) 2021 SD2 SAT/SUN 2013 Boys Bronze
 \nGame Type: Regular\nGame Status: Complete\nHome Team: 2013 HYS Lobos\nAw
 ay Team: 2013 Academia de Glen Burnie Lions\nHome Score: 5\nAway Score: 1
END:VEVENT
END:VCALENDAR
