BEGIN:VCALENDAR
VERSION:2.0
PRODID:-//EZFacility.com, Inc.//EZL 2.5.5.28621
BEGIN:VEVENT
UID:14079915@ezleagues.ezfacility.com
DTSTAMP:20260426T033855Z
CREATED:20260426T033855Z
DTSTART:20211206T020000Z
DTEND:20211206T025000Z
LOCATION:INDOOR FIELD
CONTACT:Moxley
SUMMARY:G Rated Super Chicken  VS. Rose
DESCRIPTION:League Name: Winter Adult Soccer-Coed B\nGame Type: Regular\nGa
 me Status: Complete\nHome Team: G Rated Super Chicken \nAway Team: Rose\nH
 ome Score: 9\nAway Score: 3
END:VEVENT
BEGIN:VEVENT
UID:14079920@ezleagues.ezfacility.com
DTSTAMP:20260426T033855Z
CREATED:20260426T033855Z
DTSTART:20211213T020000Z
DTEND:20211213T025000Z
LOCATION:INDOOR FIELD
CONTACT:
SUMMARY:Balls To The Wall VS. Rose
DESCRIPTION:League Name: Winter Adult Soccer-Coed B\nGame Type: Regular\nGa
 me Status: Complete\nHome Team: Balls To The Wall\nAway Team: Rose\nHome S
 core: 7\nAway Score: 14
END:VEVENT
BEGIN:VEVENT
UID:14079925@ezleagues.ezfacility.com
DTSTAMP:20260426T033855Z
CREATED:20260426T033855Z
DTSTART:20211220T020000Z
DTEND:20211220T025000Z
LOCATION:INDOOR FIELD
CONTACT:
SUMMARY:BSC VS. Rose
DESCRIPTION:League Name: Winter Adult Soccer-Coed B\nGame Type: Regular\nGa
 me Status: Complete\nHome Team: BSC\nAway Team: Rose\nHome Score: 4\nAway 
 Score: 14
END:VEVENT
BEGIN:VEVENT
UID:14079937@ezleagues.ezfacility.com
DTSTAMP:20260426T033855Z
CREATED:20260426T033855Z
DTSTART:20220103T020000Z
DTEND:20220103T025000Z
LOCATION:INDOOR FIELD
CONTACT:Guiterrez
SUMMARY:Rose VS. The Replaced
DESCRIPTION:League Name: Winter Adult Soccer-Coed B\nGame Type: Regular\nGa
 me Status: Complete\nHome Team: Rose\nAway Team: The Replaced\nHome Score:
  11\nAway Score: 6
END:VEVENT
BEGIN:VEVENT
UID:14079944@ezleagues.ezfacility.com
DTSTAMP:20260426T033855Z
CREATED:20260426T033855Z
DTSTART:20220110T020000Z
DTEND:20220110T025000Z
LOCATION:INDOOR FIELD
CONTACT:Wessels
SUMMARY:Rose VS. PostOps
DESCRIPTION:League Name: Winter Adult Soccer-Coed B\nGame Type: Regular\nGa
 me Status: Complete\nHome Team: Rose\nAway Team: PostOps\nHome Score: 3\nA
 way Score: 0
END:VEVENT
BEGIN:VEVENT
UID:14079951@ezleagues.ezfacility.com
DTSTAMP:20260426T033855Z
CREATED:20260426T033855Z
DTSTART:20220117T020000Z
DTEND:20220117T025000Z
LOCATION:INDOOR FIELD
CONTACT:
SUMMARY:Rose VS. Bryan Morris
DESCRIPTION:League Name: Winter Adult Soccer-Coed B\nGame Type: Regular\nGa
 me Status: Complete\nHome Team: Rose\nAway Team: Bryan Morris\nHome Score:
  3\nAway Score: 0
END:VEVENT
BEGIN:VEVENT
UID:14079930@ezleagues.ezfacility.com
DTSTAMP:20260426T033855Z
CREATED:20260426T033855Z
DTSTART:20220124T020000Z
DTEND:20220124T025000Z
LOCATION:INDOOR FIELD
CONTACT:
SUMMARY:Rose VS. Amigos FC
DESCRIPTION:League Name: Winter Adult Soccer-Coed B\nGame Type: Regular\nGa
 me Status: Complete\nHome Team: Rose\nAway Team: Amigos FC\nHome Score: 6\
 nAway Score: 9
END:VEVENT
BEGIN:VEVENT
UID:14219679@ezleagues.ezfacility.com
DTSTAMP:20260426T033855Z
CREATED:20260426T033855Z
DTSTART:20220131T002000Z
DTEND:20220131T004500Z
LOCATION:INDOOR FIELD
CONTACT:
SUMMARY:Rose VS. PostOps
DESCRIPTION:League Name: Winter Adult Soccer-Coed B\nGame Type: Regular\nGa
 me Status: Complete\nHome Team: Rose\nAway Team: PostOps\nHome Score: 4\nA
 way Score: 2
END:VEVENT
BEGIN:VEVENT
UID:14219678@ezleagues.ezfacility.com
DTSTAMP:20260426T033855Z
CREATED:20260426T033855Z
DTSTART:20220131T004500Z
DTEND:20220131T011000Z
LOCATION:INDOOR FIELD
CONTACT:
SUMMARY:G Rated Super Chicken  VS. Rose
DESCRIPTION:League Name: Winter Adult Soccer-Coed B\nGame Type: Regular\nGa
 me Status: Complete\nHome Team: G Rated Super Chicken \nAway Team: Rose\nH
 ome Score: 3\nAway Score: 1
END:VEVENT
END:VCALENDAR
