BEGIN:VCALENDAR
VERSION:2.0
PRODID:-//EZFacility.com, Inc.//EZL 2.5.5.28621
BEGIN:VEVENT
UID:14096711@ezleagues.ezfacility.com
DTSTAMP:20260426T033646Z
CREATED:20260426T033646Z
DTSTART:20211212T133000Z
DTEND:20211212T141500Z
LOCATION:VA Army National Guard Field 2
CONTACT:Pedemonte
SUMMARY:Sterling United  VS. Little Giants
DESCRIPTION:League Name: U-14/U-15 Boys Youth Rec Soccer League\nGame Type:
  Regular\nGame Status: Complete\nHome Team: Sterling United \nAway Team: L
 ittle Giants\nHome Score: 4\nAway Score: 7
END:VEVENT
BEGIN:VEVENT
UID:14106842@ezleagues.ezfacility.com
DTSTAMP:20260426T033646Z
CREATED:20260426T033646Z
DTSTART:20211219T001000Z
DTEND:20211219T010000Z
LOCATION:Field 1
CONTACT:Pedemonte
SUMMARY:Sterling United  VS. DSP Tornadoes
DESCRIPTION:League Name: U-14/U-15 Boys Youth Rec Soccer League\nGame Type:
  Regular\nGame Status: Complete\nHome Team: Sterling United \nAway Team: D
 SP Tornadoes\nHome Score: 7\nAway Score: 7
END:VEVENT
BEGIN:VEVENT
UID:14123739@ezleagues.ezfacility.com
DTSTAMP:20260426T033646Z
CREATED:20260426T033646Z
DTSTART:20211226T173000Z
DTEND:20211226T181500Z
LOCATION:Field 1
CONTACT:Ramirez
SUMMARY:Chantilly Gold VS. Sterling United 
DESCRIPTION:League Name: U-14/U-15 Boys Youth Rec Soccer League\nGame Type:
  Regular\nGame Status: Complete\nHome Team: Chantilly Gold\nAway Team: Ste
 rling United \nHome Score: 0\nAway Score: 3
END:VEVENT
BEGIN:VEVENT
UID:14125415@ezleagues.ezfacility.com
DTSTAMP:20260426T033646Z
CREATED:20260426T033646Z
DTSTART:20211227T000000Z
DTEND:20211227T004500Z
LOCATION:Field 1
CONTACT:Ramirez
SUMMARY:Sterling United  VS. Reston Raptors
DESCRIPTION:League Name: U-14/U-15 Boys Youth Rec Soccer League\nGame Type:
  Regular\nGame Status: Complete\nHome Team: Sterling United \nAway Team: R
 eston Raptors\nHome Score: 3\nAway Score: 0
END:VEVENT
BEGIN:VEVENT
UID:14123744@ezleagues.ezfacility.com
DTSTAMP:20260426T033646Z
CREATED:20260426T033646Z
DTSTART:20220102T161500Z
DTEND:20220102T170000Z
LOCATION:VA Army National Guard Field 2
CONTACT:Cazun
SUMMARY:Sterling United  VS. Purceville Griffins
DESCRIPTION:League Name: U-14/U-15 Boys Youth Rec Soccer League\nGame Type:
  Regular\nGame Status: Complete\nHome Team: Sterling United \nAway Team: P
 urceville Griffins\nHome Score: 17\nAway Score: 0
END:VEVENT
BEGIN:VEVENT
UID:14123749@ezleagues.ezfacility.com
DTSTAMP:20260426T033646Z
CREATED:20260426T033646Z
DTSTART:20220108T200000Z
DTEND:20220108T204500Z
LOCATION:Field 1
CONTACT:Esquerre
SUMMARY:Cobra Kai VS. Sterling United 
DESCRIPTION:League Name: U-14/U-15 Boys Youth Rec Soccer League\nGame Type:
  Regular\nGame Status: Complete\nHome Team: Cobra Kai\nAway Team: Sterling
  United \nHome Score: 4\nAway Score: 10
END:VEVENT
BEGIN:VEVENT
UID:14123751@ezleagues.ezfacility.com
DTSTAMP:20260426T033646Z
CREATED:20260426T033646Z
DTSTART:20220115T230000Z
DTEND:20220115T234500Z
LOCATION:Field 1
CONTACT:Ramirez
SUMMARY:Poolesville United VS. Sterling United 
DESCRIPTION:League Name: U-14/U-15 Boys Youth Rec Soccer League\nGame Type:
  Postseason\nGame Status: Complete\nHome Team: Poolesville United\nAway Te
 am: Sterling United \nHome Score: 5\nAway Score: 3
END:VEVENT
END:VCALENDAR
