BEGIN:VCALENDAR
VERSION:2.0
PRODID:-//EZFacility.com, Inc.//EZL 2.5.5.28621
BEGIN:VEVENT
UID:14083262@ezleagues.ezfacility.com
DTSTAMP:20260420T204050Z
CREATED:20260420T204050Z
DTSTART:20211206T000000Z
DTEND:20211206T010000Z
LOCATION: Field 3
CONTACT:Valdivia
SUMMARY:WWWD VS. Green Day
DESCRIPTION:League Name: December 5, 2021 Sunday Women's Over 40\nGame Type
 : Regular\nGame Status: Complete\nHome Team: WWWD\nAway Team: Green Day\nH
 ome Score: 4\nAway Score: 3
END:VEVENT
BEGIN:VEVENT
UID:14096601@ezleagues.ezfacility.com
DTSTAMP:20260420T204050Z
CREATED:20260420T204050Z
DTSTART:20211213T024000Z
DTEND:20211213T033500Z
LOCATION:Field 1
CONTACT:Esquerre
SUMMARY:Buzz Kill VS. Green Day
DESCRIPTION:League Name: December 5, 2021 Sunday Women's Over 40\nGame Type
 : Regular\nGame Status: Complete\nHome Team: Buzz Kill\nAway Team: Green D
 ay\nHome Score: 3\nAway Score: 4
END:VEVENT
BEGIN:VEVENT
UID:14131789@ezleagues.ezfacility.com
DTSTAMP:20260420T204050Z
CREATED:20260420T204050Z
DTSTART:20220102T235000Z
DTEND:20220103T004500Z
LOCATION: Field 3
CONTACT:Pedemonte
SUMMARY:Royals VS. Green Day
DESCRIPTION:League Name: December 5, 2021 Sunday Women's Over 40\nGame Type
 : Regular\nGame Status: Complete\nHome Team: Royals\nAway Team: Green Day\
 nHome Score: 9\nAway Score: 2
END:VEVENT
BEGIN:VEVENT
UID:14131790@ezleagues.ezfacility.com
DTSTAMP:20260420T204050Z
CREATED:20260420T204050Z
DTSTART:20220103T004500Z
DTEND:20220103T014000Z
LOCATION:Field 1
CONTACT:Andrade
SUMMARY:Storm VS. Green Day
DESCRIPTION:League Name: December 5, 2021 Sunday Women's Over 40\nGame Type
 : Regular\nGame Status: Complete\nHome Team: Storm\nAway Team: Green Day\n
 Home Score: 1\nAway Score: 7
END:VEVENT
BEGIN:VEVENT
UID:14131797@ezleagues.ezfacility.com
DTSTAMP:20260420T204050Z
CREATED:20260420T204050Z
DTSTART:20220109T234500Z
DTEND:20220110T004000Z
LOCATION: Field 3
CONTACT:Ramirez
SUMMARY:Reds VS. Green Day
DESCRIPTION:League Name: December 5, 2021 Sunday Women's Over 40\nGame Type
 : Regular\nGame Status: Complete\nHome Team: Reds\nAway Team: Green Day\nH
 ome Score: 10\nAway Score: 5
END:VEVENT
BEGIN:VEVENT
UID:14131793@ezleagues.ezfacility.com
DTSTAMP:20260420T204050Z
CREATED:20260420T204050Z
DTSTART:20220124T012000Z
DTEND:20220124T021500Z
LOCATION:VA Army National Guard Field 2
CONTACT:Pedemonte
SUMMARY:Green Day VS. Goal Diggers
DESCRIPTION:League Name: December 5, 2021 Sunday Women's Over 40\nGame Type
 : Regular\nGame Status: Complete\nHome Team: Green Day\nAway Team: Goal Di
 ggers\nHome Score: 1\nAway Score: 6
END:VEVENT
END:VCALENDAR
