BEGIN:VCALENDAR
VERSION:2.0
PRODID:-//EZFacility.com, Inc.//EZL 2.5.5.28621
BEGIN:VEVENT
UID:14096594@ezleagues.ezfacility.com
DTSTAMP:20260426T034824Z
CREATED:20260426T034824Z
DTSTART:20211213T005000Z
DTEND:20211213T014500Z
LOCATION:Field 1
CONTACT:Esquerre
SUMMARY:Royals VS. Storm
DESCRIPTION:League Name: December 5, 2021 Sunday Women's Over 40\nGame Type
 : Regular\nGame Status: Complete\nHome Team: Royals\nAway Team: Storm\nHom
 e Score: 12\nAway Score: 0
END:VEVENT
BEGIN:VEVENT
UID:14106895@ezleagues.ezfacility.com
DTSTAMP:20260426T034824Z
CREATED:20260426T034824Z
DTSTART:20211220T015000Z
DTEND:20211220T024500Z
LOCATION:VA Army National Guard Field 2
CONTACT:Cazun
SUMMARY:Goal Diggers VS. Royals
DESCRIPTION:League Name: December 5, 2021 Sunday Women's Over 40\nGame Type
 : Regular\nGame Status: Complete\nHome Team: Goal Diggers\nAway Team: Roya
 ls\nHome Score: 3\nAway Score: 8
END:VEVENT
BEGIN:VEVENT
UID:14131791@ezleagues.ezfacility.com
DTSTAMP:20260426T034824Z
CREATED:20260426T034824Z
DTSTART:20220102T225500Z
DTEND:20220102T235000Z
LOCATION: Field 3
CONTACT:Pedemonte
SUMMARY:Reds VS. Royals
DESCRIPTION:League Name: December 5, 2021 Sunday Women's Over 40\nGame Type
 : Regular\nGame Status: Complete\nHome Team: Reds\nAway Team: Royals\nHome
  Score: 1\nAway Score: 6
END:VEVENT
BEGIN:VEVENT
UID:14131789@ezleagues.ezfacility.com
DTSTAMP:20260426T034824Z
CREATED:20260426T034824Z
DTSTART:20220102T235000Z
DTEND:20220103T004500Z
LOCATION: Field 3
CONTACT:Pedemonte
SUMMARY:Royals VS. Green Day
DESCRIPTION:League Name: December 5, 2021 Sunday Women's Over 40\nGame Type
 : Regular\nGame Status: Complete\nHome Team: Royals\nAway Team: Green Day\
 nHome Score: 9\nAway Score: 2
END:VEVENT
BEGIN:VEVENT
UID:14131798@ezleagues.ezfacility.com
DTSTAMP:20260426T034824Z
CREATED:20260426T034824Z
DTSTART:20220110T004000Z
DTEND:20220110T013500Z
LOCATION: Field 3
CONTACT:Ramirez
SUMMARY:Royals VS. WWWD
DESCRIPTION:League Name: December 5, 2021 Sunday Women's Over 40\nGame Type
 : Regular\nGame Status: Complete\nHome Team: Royals\nAway Team: WWWD\nHome
  Score: 12\nAway Score: 1
END:VEVENT
BEGIN:VEVENT
UID:14131796@ezleagues.ezfacility.com
DTSTAMP:20260426T034824Z
CREATED:20260426T034824Z
DTSTART:20220110T024500Z
DTEND:20220110T034000Z
LOCATION: Field 3
CONTACT:Ramirez
SUMMARY:Royals VS. Buzz Kill
DESCRIPTION:League Name: December 5, 2021 Sunday Women's Over 40\nGame Type
 : Regular\nGame Status: Complete\nHome Team: Royals\nAway Team: Buzz Kill\
 nHome Score: 9\nAway Score: 6
END:VEVENT
BEGIN:VEVENT
UID:14135392@ezleagues.ezfacility.com
DTSTAMP:20260426T034824Z
CREATED:20260426T034824Z
DTSTART:20220131T000000Z
DTEND:20220131T005500Z
LOCATION: Field 3
CONTACT:Herrera
SUMMARY:Royals VS. Goal Diggers
DESCRIPTION:League Name: December 5, 2021 Sunday Women's Over 40\nGame Type
 : Postseason\nGame Status: Complete\nHome Team: Royals\nAway Team: Goal Di
 ggers\nHome Score: 2\nAway Score: 1
END:VEVENT
END:VCALENDAR
