BEGIN:VCALENDAR
VERSION:2.0
PRODID:-//EZFacility.com, Inc.//EZL 2.5.5.28621
BEGIN:VEVENT
UID:14215903@ezleagues.ezfacility.com
DTSTAMP:20260426T033632Z
CREATED:20260426T033632Z
DTSTART:20211207T040000Z
DTEND:20211207T050000Z
LOCATION:Rise Indoor 2
CONTACT:
SUMMARY:Inter VS. Xicay Fc
DESCRIPTION:League Name: WS Futbol Sala Monday Restaurant's League Winter 2
 021/22\nGame Type: Regular\nGame Status: Complete\nHome Team: Inter\nAway 
 Team: Xicay Fc\nHome Score: 5\nAway Score: 10
END:VEVENT
BEGIN:VEVENT
UID:14215913@ezleagues.ezfacility.com
DTSTAMP:20260426T033632Z
CREATED:20260426T033632Z
DTSTART:20211214T040000Z
DTEND:20211214T050000Z
LOCATION:Rise Indoor 2
CONTACT:
SUMMARY:Inter VS. Pancho Villa
DESCRIPTION:League Name: WS Futbol Sala Monday Restaurant's League Winter 2
 021/22\nGame Type: Regular\nGame Status: Complete\nHome Team: Inter\nAway 
 Team: Pancho Villa\nHome Score: 12\nAway Score: 5
END:VEVENT
BEGIN:VEVENT
UID:14215917@ezleagues.ezfacility.com
DTSTAMP:20260426T033632Z
CREATED:20260426T033632Z
DTSTART:20211221T040000Z
DTEND:20211221T050000Z
LOCATION:Rise Indoor 4
CONTACT:
SUMMARY:Inter VS. La Carreta
DESCRIPTION:League Name: WS Futbol Sala Monday Restaurant's League Winter 2
 021/22\nGame Type: Regular\nGame Status: Complete\nHome Team: Inter\nAway 
 Team: La Carreta\nHome Score: 12\nAway Score: 4
END:VEVENT
BEGIN:VEVENT
UID:14215931@ezleagues.ezfacility.com
DTSTAMP:20260426T033632Z
CREATED:20260426T033632Z
DTSTART:20220111T040000Z
DTEND:20220111T050000Z
LOCATION:Rise Indoor 1
CONTACT:
SUMMARY:Xicay Fc VS. Inter
DESCRIPTION:League Name: WS Futbol Sala Monday Restaurant's League Winter 2
 021/22\nGame Type: Regular\nGame Status: Complete\nHome Team: Xicay Fc\nAw
 ay Team: Inter\nHome Score: 11\nAway Score: 6
END:VEVENT
BEGIN:VEVENT
UID:14215941@ezleagues.ezfacility.com
DTSTAMP:20260426T033632Z
CREATED:20260426T033632Z
DTSTART:20220125T040000Z
DTEND:20220125T050000Z
LOCATION:Rise Indoor 2
CONTACT:
SUMMARY:Pancho Villa VS. Inter
DESCRIPTION:League Name: WS Futbol Sala Monday Restaurant's League Winter 2
 021/22\nGame Type: Regular\nGame Status: Complete\nHome Team: Pancho Villa
 \nAway Team: Inter\nHome Score: 15\nAway Score: 5
END:VEVENT
BEGIN:VEVENT
UID:14215920@ezleagues.ezfacility.com
DTSTAMP:20260426T033632Z
CREATED:20260426T033632Z
DTSTART:20220208T040000Z
DTEND:20220208T050000Z
LOCATION:Rise Indoor 1
CONTACT:
SUMMARY:Queretaro VS. Inter
DESCRIPTION:League Name: WS Futbol Sala Monday Restaurant's League Winter 2
 021/22\nGame Type: Regular\nGame Status: Complete\nHome Team: Queretaro\nA
 way Team: Inter\nHome Score: 8\nAway Score: 10
END:VEVENT
BEGIN:VEVENT
UID:14215945@ezleagues.ezfacility.com
DTSTAMP:20260426T033632Z
CREATED:20260426T033632Z
DTSTART:20220215T040000Z
DTEND:20220215T050000Z
LOCATION:Rise Indoor 4
CONTACT:
SUMMARY:La Carreta VS. Inter
DESCRIPTION:League Name: WS Futbol Sala Monday Restaurant's League Winter 2
 021/22\nGame Type: Regular\nGame Status: Complete\nHome Team: La Carreta\n
 Away Team: Inter\nHome Score: 7\nAway Score: 11
END:VEVENT
BEGIN:VEVENT
UID:14215948@ezleagues.ezfacility.com
DTSTAMP:20260426T033632Z
CREATED:20260426T033632Z
DTSTART:20220222T040000Z
DTEND:20220222T050000Z
LOCATION:Rise Indoor 2
CONTACT:
SUMMARY:Inter VS. Queretaro
DESCRIPTION:League Name: WS Futbol Sala Monday Restaurant's League Winter 2
 021/22\nGame Type: Regular\nGame Status: Complete\nHome Team: Inter\nAway 
 Team: Queretaro\nHome Score: 11\nAway Score: 8
END:VEVENT
BEGIN:VEVENT
UID:14215951@ezleagues.ezfacility.com
DTSTAMP:20260426T033632Z
CREATED:20260426T033632Z
DTSTART:20220301T040000Z
DTEND:20220301T050000Z
LOCATION:Rise Indoor 1
CONTACT:
SUMMARY:Atletico VS. Inter
DESCRIPTION:League Name: WS Futbol Sala Monday Restaurant's League Winter 2
 021/22\nGame Type: Regular\nGame Status: Complete\nHome Team: Atletico\nAw
 ay Team: Inter\nHome Score: 4\nAway Score: 6
END:VEVENT
BEGIN:VEVENT
UID:14215954@ezleagues.ezfacility.com
DTSTAMP:20260426T033632Z
CREATED:20260426T033632Z
DTSTART:20220308T040000Z
DTEND:20220308T050000Z
LOCATION:Rise Indoor 2
CONTACT:
SUMMARY:Chapines VS. Inter
DESCRIPTION:League Name: WS Futbol Sala Monday Restaurant's League Winter 2
 021/22\nGame Type: Regular\nGame Status: Complete\nHome Team: Chapines\nAw
 ay Team: Inter\nHome Score: 12\nAway Score: 15
END:VEVENT
BEGIN:VEVENT
UID:14215923@ezleagues.ezfacility.com
DTSTAMP:20260426T033632Z
CREATED:20260426T033632Z
DTSTART:20220315T030000Z
DTEND:20220315T040000Z
LOCATION:Rise Indoor 2
CONTACT:
SUMMARY:Inter VS. Atletico
DESCRIPTION:League Name: WS Futbol Sala Monday Restaurant's League Winter 2
 021/22\nGame Type: Regular\nGame Status: Complete\nHome Team: Inter\nAway 
 Team: Atletico\nHome Score: 10\nAway Score: 9
END:VEVENT
BEGIN:VEVENT
UID:14215926@ezleagues.ezfacility.com
DTSTAMP:20260426T033632Z
CREATED:20260426T033632Z
DTSTART:20220322T030000Z
DTEND:20220322T040000Z
LOCATION:Rise Indoor 4
CONTACT:
SUMMARY:Inter VS. Chapines
DESCRIPTION:League Name: WS Futbol Sala Monday Restaurant's League Winter 2
 021/22\nGame Type: Regular\nGame Status: Complete\nHome Team: Inter\nAway 
 Team: Chapines\nHome Score: 13\nAway Score: 6
END:VEVENT
BEGIN:VEVENT
UID:14360358@ezleagues.ezfacility.com
DTSTAMP:20260426T033632Z
CREATED:20260426T033632Z
DTSTART:20220419T030000Z
DTEND:20220419T040000Z
LOCATION:Rise Indoor 4
CONTACT:
SUMMARY:Inter VS. Xicay Fc
DESCRIPTION:League Name: WS Futbol Sala Monday Restaurant's League Winter 2
 021/22\nGame Type: Postseason\nGame Status: Complete\nHome Team: Inter\nAw
 ay Team: Xicay Fc\nHome Score: 11\nAway Score: 5
END:VEVENT
BEGIN:VEVENT
UID:14360359@ezleagues.ezfacility.com
DTSTAMP:20260426T033632Z
CREATED:20260426T033632Z
DTSTART:20220426T030000Z
DTEND:20220426T040000Z
LOCATION:Rise Indoor 2
CONTACT:
SUMMARY:Pancho Villa VS. Inter
DESCRIPTION:League Name: WS Futbol Sala Monday Restaurant's League Winter 2
 021/22\nGame Type: Postseason\nGame Status: Complete\nHome Team: Pancho Vi
 lla\nAway Team: Inter\nHome Score: 9\nAway Score: 11
END:VEVENT
END:VCALENDAR
