BEGIN:VCALENDAR
VERSION:2.0
PRODID:-//EZFacility.com, Inc.//EZL 2.5.5.28621
BEGIN:VEVENT
UID:14094018@ezleagues.ezfacility.com
DTSTAMP:20260420T012020Z
CREATED:20260420T012020Z
DTSTART:20211212T160000Z
DTEND:20211212T170000Z
LOCATION:Black
CONTACT:
SUMMARY:CT Flag VS. South Windsor Sharks
DESCRIPTION:League Name: Youth Flag Football CFL (2007,08,09) S1\nGame Type
 : Regular\nGame Status: Complete\nHome Team: CT Flag\nAway Team: South Win
 dsor Sharks\nHome Score: 26\nAway Score: 6
END:VEVENT
BEGIN:VEVENT
UID:14094022@ezleagues.ezfacility.com
DTSTAMP:20260420T012020Z
CREATED:20260420T012020Z
DTSTART:20211219T150000Z
DTEND:20211219T160000Z
LOCATION:Black
CONTACT:
SUMMARY:Predators VS. South Windsor Sharks
DESCRIPTION:League Name: Youth Flag Football CFL (2007,08,09) S1\nGame Type
 : Regular\nGame Status: Complete\nHome Team: Predators\nAway Team: South W
 indsor Sharks\nHome Score: 32\nAway Score: 0
END:VEVENT
BEGIN:VEVENT
UID:14094025@ezleagues.ezfacility.com
DTSTAMP:20260420T012020Z
CREATED:20260420T012020Z
DTSTART:20220102T150000Z
DTEND:20220102T160000Z
LOCATION:Black
CONTACT:
SUMMARY:ShowTime VS. South Windsor Sharks
DESCRIPTION:League Name: Youth Flag Football CFL (2007,08,09) S1\nGame Type
 : Regular\nGame Status: Complete\nHome Team: ShowTime\nAway Team: South Wi
 ndsor Sharks\nHome Score: 24\nAway Score: 8
END:VEVENT
BEGIN:VEVENT
UID:14094058@ezleagues.ezfacility.com
DTSTAMP:20260420T012020Z
CREATED:20260420T012020Z
DTSTART:20220116T160000Z
DTEND:20220116T170000Z
LOCATION:Black
CONTACT:
SUMMARY:Manchester Red Hawks VS. South Windsor Sharks
DESCRIPTION:League Name: Youth Flag Football CFL (2007,08,09) S1\nGame Type
 : Regular\nGame Status: Complete\nHome Team: Manchester Red Hawks\nAway Te
 am: South Windsor Sharks\nHome Score: 38\nAway Score: 6
END:VEVENT
BEGIN:VEVENT
UID:14094061@ezleagues.ezfacility.com
DTSTAMP:20260420T012020Z
CREATED:20260420T012020Z
DTSTART:20220123T160000Z
DTEND:20220123T170000Z
LOCATION:Black
CONTACT:
SUMMARY:Bandits VS. South Windsor Sharks
DESCRIPTION:League Name: Youth Flag Football CFL (2007,08,09) S1\nGame Type
 : Regular\nGame Status: Complete\nHome Team: Bandits\nAway Team: South Win
 dsor Sharks\nHome Score: 27\nAway Score: 7
END:VEVENT
BEGIN:VEVENT
UID:14094065@ezleagues.ezfacility.com
DTSTAMP:20260420T012020Z
CREATED:20260420T012020Z
DTSTART:20220130T170000Z
DTEND:20220130T180000Z
LOCATION:Black
CONTACT:
SUMMARY:CT Gators VS. South Windsor Sharks
DESCRIPTION:League Name: Youth Flag Football CFL (2007,08,09) S1\nGame Type
 : Regular\nGame Status: Complete\nHome Team: CT Gators\nAway Team: South W
 indsor Sharks\nHome Score: 21\nAway Score: 20
END:VEVENT
BEGIN:VEVENT
UID:14094070@ezleagues.ezfacility.com
DTSTAMP:20260420T012020Z
CREATED:20260420T012020Z
DTSTART:20220206T160000Z
DTEND:20220206T170000Z
LOCATION:Black
CONTACT:
SUMMARY:Connecticut Commanders VS. South Windsor Sharks
DESCRIPTION:League Name: Youth Flag Football CFL (2007,08,09) S1\nGame Type
 : Regular\nGame Status: Complete\nHome Team: Connecticut Commanders\nAway 
 Team: South Windsor Sharks\nHome Score: 6\nAway Score: 18
END:VEVENT
BEGIN:VEVENT
UID:14094078@ezleagues.ezfacility.com
DTSTAMP:20260420T012020Z
CREATED:20260420T012020Z
DTSTART:20220208T000000Z
DTEND:20220208T010000Z
LOCATION:Navy
CONTACT:
SUMMARY:CT Flag VS. South Windsor Sharks
DESCRIPTION:League Name: Youth Flag Football CFL (2007,08,09) S1\nGame Type
 : Regular\nGame Status: Complete\nHome Team: CT Flag\nAway Team: South Win
 dsor Sharks\nHome Score: 18\nAway Score: 6
END:VEVENT
END:VCALENDAR
