BEGIN:VCALENDAR
VERSION:2.0
PRODID:-//EZFacility.com, Inc.//EZL 2.5.5.28621
BEGIN:VEVENT
UID:14095355@ezleagues.ezfacility.com
DTSTAMP:20260419T134311Z
CREATED:20260419T134311Z
DTSTART:20211221T050000Z
DTEND:20211221T060000Z
LOCATION:Arena
CONTACT:
SUMMARY:Pool Wizards. VS. Galaxy
DESCRIPTION:League Name: Men's 30+ Arena Soccer - Winter 2021\nGame Type: R
 egular\nGame Status: Complete\nHome Team: Pool Wizards.\nAway Team: Galaxy
 \nHome Score: 2\nAway Score: 5
END:VEVENT
BEGIN:VEVENT
UID:14095361@ezleagues.ezfacility.com
DTSTAMP:20260419T134311Z
CREATED:20260419T134311Z
DTSTART:20220104T020000Z
DTEND:20220104T030000Z
LOCATION:Arena
CONTACT:
SUMMARY:Regulators VS. Pool Wizards.
DESCRIPTION:League Name: Men's 30+ Arena Soccer - Winter 2021\nGame Type: R
 egular\nGame Status: Complete\nHome Team: Regulators\nAway Team: Pool Wiza
 rds.\nHome Score: 8\nAway Score: 3
END:VEVENT
BEGIN:VEVENT
UID:14095364@ezleagues.ezfacility.com
DTSTAMP:20260419T134311Z
CREATED:20260419T134311Z
DTSTART:20220111T030000Z
DTEND:20220111T040000Z
LOCATION:Arena
CONTACT:
SUMMARY:AZTECS VS. Pool Wizards.
DESCRIPTION:League Name: Men's 30+ Arena Soccer - Winter 2021\nGame Type: R
 egular\nGame Status: Complete\nHome Team: AZTECS\nAway Team: Pool Wizards.
 \nHome Score: 13\nAway Score: 6
END:VEVENT
BEGIN:VEVENT
UID:14095369@ezleagues.ezfacility.com
DTSTAMP:20260419T134311Z
CREATED:20260419T134311Z
DTSTART:20220118T040000Z
DTEND:20220118T050000Z
LOCATION:Arena
CONTACT:
SUMMARY:Pool Wizards. VS. Cruz Azulejo
DESCRIPTION:League Name: Men's 30+ Arena Soccer - Winter 2021\nGame Type: R
 egular\nGame Status: Complete\nHome Team: Pool Wizards.\nAway Team: Cruz A
 zulejo\nHome Score: 7\nAway Score: 10
END:VEVENT
BEGIN:VEVENT
UID:14095374@ezleagues.ezfacility.com
DTSTAMP:20260419T134311Z
CREATED:20260419T134311Z
DTSTART:20220125T020000Z
DTEND:20220125T030000Z
LOCATION:Arena
CONTACT:
SUMMARY:Pool Wizards. VS. Hong Kong
DESCRIPTION:League Name: Men's 30+ Arena Soccer - Winter 2021\nGame Type: R
 egular\nGame Status: Complete\nHome Team: Pool Wizards.\nAway Team: Hong K
 ong\nHome Score: 7\nAway Score: 4
END:VEVENT
BEGIN:VEVENT
UID:14095379@ezleagues.ezfacility.com
DTSTAMP:20260419T134311Z
CREATED:20260419T134311Z
DTSTART:20220201T030000Z
DTEND:20220201T040000Z
LOCATION:Arena
CONTACT:
SUMMARY:Pool Wizards. VS. Soloma
DESCRIPTION:League Name: Men's 30+ Arena Soccer - Winter 2021\nGame Type: R
 egular\nGame Status: Complete\nHome Team: Pool Wizards.\nAway Team: Soloma
 \nHome Score: 6\nAway Score: 8
END:VEVENT
BEGIN:VEVENT
UID:14095383@ezleagues.ezfacility.com
DTSTAMP:20260419T134311Z
CREATED:20260419T134311Z
DTSTART:20220208T030000Z
DTEND:20220208T040000Z
LOCATION:Arena
CONTACT:
SUMMARY:Galaxy VS. Pool Wizards.
DESCRIPTION:League Name: Men's 30+ Arena Soccer - Winter 2021\nGame Type: R
 egular\nGame Status: Complete\nHome Team: Galaxy\nAway Team: Pool Wizards.
 \nHome Score: 7\nAway Score: 8
END:VEVENT
BEGIN:VEVENT
UID:14095358@ezleagues.ezfacility.com
DTSTAMP:20260419T134311Z
CREATED:20260419T134311Z
DTSTART:20220222T040000Z
DTEND:20220222T050000Z
LOCATION:Arena
CONTACT:
SUMMARY:Pool Wizards. VS. Dorados
DESCRIPTION:League Name: Men's 30+ Arena Soccer - Winter 2021\nGame Type: R
 egular\nGame Status: Complete\nHome Team: Pool Wizards.\nAway Team: Dorado
 s\nHome Score: 3\nAway Score: 8
END:VEVENT
BEGIN:VEVENT
UID:14095386@ezleagues.ezfacility.com
DTSTAMP:20260419T134311Z
CREATED:20260419T134311Z
DTSTART:20220301T050000Z
DTEND:20220301T060000Z
LOCATION:Arena
CONTACT:
SUMMARY:Dorados VS. Pool Wizards.
DESCRIPTION:League Name: Men's 30+ Arena Soccer - Winter 2021\nGame Type: R
 egular\nGame Status: Complete\nHome Team: Dorados\nAway Team: Pool Wizards
 .\nHome Score: 12\nAway Score: 10
END:VEVENT
BEGIN:VEVENT
UID:14095351@ezleagues.ezfacility.com
DTSTAMP:20260419T134311Z
CREATED:20260419T134311Z
DTSTART:20220308T050000Z
DTEND:20220308T060000Z
LOCATION:Arena
CONTACT:
SUMMARY:Soloma VS. Pool Wizards.
DESCRIPTION:League Name: Men's 30+ Arena Soccer - Winter 2021\nGame Type: R
 egular\nGame Status: Complete\nHome Team: Soloma\nAway Team: Pool Wizards.
 \nHome Score: 4\nAway Score: 4
END:VEVENT
BEGIN:VEVENT
UID:14294325@ezleagues.ezfacility.com
DTSTAMP:20260419T134311Z
CREATED:20260419T134311Z
DTSTART:20220315T040000Z
DTEND:20220315T050000Z
LOCATION:Arena
CONTACT:
SUMMARY:Dorados VS. Pool Wizards.
DESCRIPTION:League Name: Men's 30+ Arena Soccer - Winter 2021\nGame Type: P
 ostseason\nGame Status: Complete\nHome Team: Dorados\nAway Team: Pool Wiza
 rds.\nHome Score: 13\nAway Score: 3
END:VEVENT
END:VCALENDAR
