BEGIN:VCALENDAR
VERSION:2.0
PRODID:-//EZFacility.com, Inc.//EZL 2.5.5.28621
BEGIN:VEVENT
UID:14130087@ezleagues.ezfacility.com
DTSTAMP:20260419T183936Z
CREATED:20260419T183936Z
DTSTART:20220108T230000Z
DTEND:20220109T000000Z
LOCATION:Bridgeville RollerPlex
CONTACT:
SUMMARY:Team Darlene VS. Rome
DESCRIPTION:League Name: Winter Puck (MID-SOUTH)/Sat/2022\nGame Type: Regul
 ar\nGame Status: Complete\nHome Team: Team Darlene\nAway Team: Rome\nHome 
 Score: 4\nAway Score: 6
END:VEVENT
BEGIN:VEVENT
UID:14130091@ezleagues.ezfacility.com
DTSTAMP:20260419T183936Z
CREATED:20260419T183936Z
DTSTART:20220115T200000Z
DTEND:20220115T210000Z
LOCATION:Bridgeville RollerPlex
CONTACT:
SUMMARY:Rome VS. Raging Hogs
DESCRIPTION:League Name: Winter Puck (MID-SOUTH)/Sat/2022\nGame Type: Regul
 ar\nGame Status: Complete\nHome Team: Rome\nAway Team: Raging Hogs\nHome S
 core: 12\nAway Score: 4
END:VEVENT
BEGIN:VEVENT
UID:14130096@ezleagues.ezfacility.com
DTSTAMP:20260419T183936Z
CREATED:20260419T183936Z
DTSTART:20220122T210000Z
DTEND:20220122T220000Z
LOCATION:Bridgeville RollerPlex
CONTACT:
SUMMARY:Hawks VS. Rome
DESCRIPTION:League Name: Winter Puck (MID-SOUTH)/Sat/2022\nGame Type: Regul
 ar\nGame Status: Complete\nHome Team: Hawks\nAway Team: Rome\nHome Score: 
 11\nAway Score: 6
END:VEVENT
BEGIN:VEVENT
UID:14130100@ezleagues.ezfacility.com
DTSTAMP:20260419T183936Z
CREATED:20260419T183936Z
DTSTART:20220129T210000Z
DTEND:20220129T220000Z
LOCATION:Bridgeville RollerPlex
CONTACT:
SUMMARY:Mud Dogs VS. Rome
DESCRIPTION:League Name: Winter Puck (MID-SOUTH)/Sat/2022\nGame Type: Regul
 ar\nGame Status: Complete\nHome Team: Mud Dogs\nAway Team: Rome\nHome Scor
 e: 5\nAway Score: 4
END:VEVENT
BEGIN:VEVENT
UID:14130106@ezleagues.ezfacility.com
DTSTAMP:20260419T183936Z
CREATED:20260419T183936Z
DTSTART:20220205T200000Z
DTEND:20220205T210000Z
LOCATION:Bridgeville RollerPlex
CONTACT:
SUMMARY:Rome VS. Playmakers
DESCRIPTION:League Name: Winter Puck (MID-SOUTH)/Sat/2022\nGame Type: Regul
 ar\nGame Status: Complete\nHome Team: Rome\nAway Team: Playmakers\nHome Sc
 ore: 2\nAway Score: 10
END:VEVENT
BEGIN:VEVENT
UID:14130112@ezleagues.ezfacility.com
DTSTAMP:20260419T183936Z
CREATED:20260419T183936Z
DTSTART:20220212T200000Z
DTEND:20220212T210000Z
LOCATION:Bridgeville RollerPlex
CONTACT:
SUMMARY:Rangers VS. Rome
DESCRIPTION:League Name: Winter Puck (MID-SOUTH)/Sat/2022\nGame Type: Regul
 ar\nGame Status: Complete\nHome Team: Rangers\nAway Team: Rome\nHome Score
 : 6\nAway Score: 5
END:VEVENT
BEGIN:VEVENT
UID:14130114@ezleagues.ezfacility.com
DTSTAMP:20260419T183936Z
CREATED:20260419T183936Z
DTSTART:20220219T210000Z
DTEND:20220219T220000Z
LOCATION:Bridgeville RollerPlex
CONTACT:
SUMMARY:Rome VS. Mighty Ducks
DESCRIPTION:League Name: Winter Puck (MID-SOUTH)/Sat/2022\nGame Type: Regul
 ar\nGame Status: Complete\nHome Team: Rome\nAway Team: Mighty Ducks\nHome 
 Score: 2\nAway Score: 7
END:VEVENT
BEGIN:VEVENT
UID:14130123@ezleagues.ezfacility.com
DTSTAMP:20260419T183936Z
CREATED:20260419T183936Z
DTSTART:20220226T230000Z
DTEND:20220227T000000Z
LOCATION:Bridgeville RollerPlex
CONTACT:
SUMMARY:Rome VS. Tornados
DESCRIPTION:League Name: Winter Puck (MID-SOUTH)/Sat/2022\nGame Type: Regul
 ar\nGame Status: Complete\nHome Team: Rome\nAway Team: Tornados\nHome Scor
 e: 5\nAway Score: 6
END:VEVENT
BEGIN:VEVENT
UID:14130132@ezleagues.ezfacility.com
DTSTAMP:20260419T183936Z
CREATED:20260419T183936Z
DTSTART:20220312T230000Z
DTEND:20220313T000000Z
LOCATION:Bridgeville RollerPlex
CONTACT:
SUMMARY:Rome VS. Team Darlene
DESCRIPTION:League Name: Winter Puck (MID-SOUTH)/Sat/2022\nGame Type: Regul
 ar\nGame Status: Complete\nHome Team: Rome\nAway Team: Team Darlene\nHome 
 Score: 4\nAway Score: 9
END:VEVENT
BEGIN:VEVENT
UID:14130136@ezleagues.ezfacility.com
DTSTAMP:20260419T183936Z
CREATED:20260419T183936Z
DTSTART:20220319T190000Z
DTEND:20220319T200000Z
LOCATION:Bridgeville RollerPlex
CONTACT:
SUMMARY:Raging Hogs VS. Rome
DESCRIPTION:League Name: Winter Puck (MID-SOUTH)/Sat/2022\nGame Type: Regul
 ar\nGame Status: Complete\nHome Team: Raging Hogs\nAway Team: Rome\nHome S
 core: 8\nAway Score: 0
END:VEVENT
BEGIN:VEVENT
UID:14317474@ezleagues.ezfacility.com
DTSTAMP:20260419T183936Z
CREATED:20260419T183936Z
DTSTART:20220326T200000Z
DTEND:20220326T210000Z
LOCATION:Bridgeville RollerPlex
CONTACT:
SUMMARY:Rome VS. Raging Hogs
DESCRIPTION:League Name: Winter Puck (MID-SOUTH)/Sat/2022\nGame Type: Posts
 eason\nGame Status: Complete\nHome Team: Rome\nAway Team: Raging Hogs\nHom
 e Score: 4\nAway Score: 8
END:VEVENT
END:VCALENDAR
