BEGIN:VCALENDAR
VERSION:2.0
PRODID:-//EZFacility.com, Inc.//EZL 2.5.5.28621
BEGIN:VEVENT
UID:14173136@ezleagues.ezfacility.com
DTSTAMP:20260420T100345Z
CREATED:20260420T100345Z
DTSTART:20220106T230000Z
DTEND:20220106T234500Z
LOCATION:Soccer Field
CONTACT:
SUMMARY:Kix 1 VS. Riley Rowdies
DESCRIPTION:League Name: Thursday Coed Soccer Jan 2022\nGame Type: Regular\
 nGame Status: Complete\nHome Team: Kix 1\nAway Team: Riley Rowdies\nHome S
 core: 2\nAway Score: 2
END:VEVENT
BEGIN:VEVENT
UID:14173060@ezleagues.ezfacility.com
DTSTAMP:20260420T100345Z
CREATED:20260420T100345Z
DTSTART:20220121T011500Z
DTEND:20220121T020000Z
LOCATION:Soccer Field
CONTACT:
SUMMARY:Orr FC VS. Riley Rowdies
DESCRIPTION:League Name: Thursday Coed Soccer Jan 2022\nGame Type: Regular\
 nGame Status: Complete\nHome Team: Orr FC\nAway Team: Riley Rowdies\nHome 
 Score: 5\nAway Score: 5
END:VEVENT
BEGIN:VEVENT
UID:14173066@ezleagues.ezfacility.com
DTSTAMP:20260420T100345Z
CREATED:20260420T100345Z
DTSTART:20220128T020000Z
DTEND:20220128T024500Z
LOCATION:Soccer Field
CONTACT:
SUMMARY:Turtle Soup VS. Riley Rowdies
DESCRIPTION:League Name: Thursday Coed Soccer Jan 2022\nGame Type: Regular\
 nGame Status: Pending\nHome Team: Turtle Soup\nAway Team: Riley Rowdies\n
END:VEVENT
BEGIN:VEVENT
UID:14173080@ezleagues.ezfacility.com
DTSTAMP:20260420T100345Z
CREATED:20260420T100345Z
DTSTART:20220211T020000Z
DTEND:20220211T024500Z
LOCATION:Soccer Field
CONTACT:
SUMMARY:Riley Rowdies VS. Straight Outta Work
DESCRIPTION:League Name: Thursday Coed Soccer Jan 2022\nGame Type: Regular\
 nGame Status: Complete\nHome Team: Riley Rowdies\nAway Team: Straight Outt
 a Work\nHome Score: 6\nAway Score: 1
END:VEVENT
BEGIN:VEVENT
UID:14173086@ezleagues.ezfacility.com
DTSTAMP:20260420T100345Z
CREATED:20260420T100345Z
DTSTART:20220218T011500Z
DTEND:20220218T020000Z
LOCATION:Soccer Field
CONTACT:
SUMMARY:Riley Rowdies VS. Bad Touch
DESCRIPTION:League Name: Thursday Coed Soccer Jan 2022\nGame Type: Regular\
 nGame Status: Pending\nHome Team: Riley Rowdies\nAway Team: Bad Touch\n
END:VEVENT
BEGIN:VEVENT
UID:14173093@ezleagues.ezfacility.com
DTSTAMP:20260420T100345Z
CREATED:20260420T100345Z
DTSTART:20220225T011500Z
DTEND:20220225T020000Z
LOCATION:Soccer Field
CONTACT:
SUMMARY:Riley Rowdies VS. Fat Dan's Biggest Fans
DESCRIPTION:League Name: Thursday Coed Soccer Jan 2022\nGame Type: Regular\
 nGame Status: Complete\nHome Team: Riley Rowdies\nAway Team: Fat Dan's Big
 gest Fans\nHome Score: 3\nAway Score: 4
END:VEVENT
BEGIN:VEVENT
UID:14173057@ezleagues.ezfacility.com
DTSTAMP:20260420T100345Z
CREATED:20260420T100345Z
DTSTART:20220304T003000Z
DTEND:20220304T011500Z
LOCATION:Soccer Field
CONTACT:
SUMMARY:Riley Rowdies VS. Straight Outta Work 2
DESCRIPTION:League Name: Thursday Coed Soccer Jan 2022\nGame Type: Regular\
 nGame Status: Complete\nHome Team: Riley Rowdies\nAway Team: Straight Outt
 a Work 2\nHome Score: 4\nAway Score: 5
END:VEVENT
BEGIN:VEVENT
UID:14200967@ezleagues.ezfacility.com
DTSTAMP:20260420T100345Z
CREATED:20260420T100345Z
DTSTART:20220311T020000Z
DTEND:20220311T024500Z
LOCATION:Soccer Field
CONTACT:
SUMMARY:Riley Rowdies VS. Kicks n Giggles
DESCRIPTION:League Name: Thursday Coed Soccer Jan 2022\nGame Type: Regular\
 nGame Status: Complete\nHome Team: Riley Rowdies\nAway Team: Kicks n Giggl
 es\nHome Score: 2\nAway Score: 11
END:VEVENT
BEGIN:VEVENT
UID:14173073@ezleagues.ezfacility.com
DTSTAMP:20260420T100345Z
CREATED:20260420T100345Z
DTSTART:20220317T233000Z
DTEND:20220318T001500Z
LOCATION:Soccer Field
CONTACT:
SUMMARY:Riley Rowdies VS. Scrubs
DESCRIPTION:League Name: Thursday Coed Soccer Jan 2022\nGame Type: Regular\
 nGame Status: Complete\nHome Team: Riley Rowdies\nAway Team: Scrubs\nHome 
 Score: 2\nAway Score: 9
END:VEVENT
END:VCALENDAR
