BEGIN:VCALENDAR
VERSION:2.0
PRODID:-//EZFacility.com, Inc.//EZL 2.5.5.28621
BEGIN:VEVENT
UID:14157162@ezleagues.ezfacility.com
DTSTAMP:20260426T033859Z
CREATED:20260426T033859Z
DTSTART:20220104T230500Z
DTEND:20220104T235500Z
LOCATION:Volleyball Court 4
CONTACT:
SUMMARY:How I Set Your Mother 1 VS. No Ability Meets No Effort
DESCRIPTION:League Name: Tuesday Intermediate Volleyball GOLD div Jan 2022\
 nGame Type: Regular\nGame Status: Complete\nHome Team: How I Set Your Moth
 er 1\nAway Team: No Ability Meets No Effort\nHome Score: 1\nAway Score: 1
END:VEVENT
BEGIN:VEVENT
UID:14157175@ezleagues.ezfacility.com
DTSTAMP:20260426T033859Z
CREATED:20260426T033859Z
DTSTART:20220105T004500Z
DTEND:20220105T013500Z
LOCATION:Volleyball Court 5
CONTACT:
SUMMARY:No Ability Meets No Effort VS. Dink Responsibly 1
DESCRIPTION:League Name: Tuesday Intermediate Volleyball GOLD div Jan 2022\
 nGame Type: Regular\nGame Status: Complete\nHome Team: No Ability Meets No
  Effort\nAway Team: Dink Responsibly 1\nHome Score: 2\nAway Score: 1
END:VEVENT
BEGIN:VEVENT
UID:14182657@ezleagues.ezfacility.com
DTSTAMP:20260426T033859Z
CREATED:20260426T033859Z
DTSTART:20220112T022500Z
DTEND:20220112T031500Z
LOCATION:Volleyball Court 4
CONTACT:
SUMMARY:No Ability Meets No Effort VS. Big Hitties
DESCRIPTION:League Name: Tuesday Intermediate Volleyball GOLD div Jan 2022\
 nGame Type: Regular\nGame Status: Complete\nHome Team: No Ability Meets No
  Effort\nAway Team: Big Hitties\nHome Score: 0\nAway Score: 2
END:VEVENT
BEGIN:VEVENT
UID:14182666@ezleagues.ezfacility.com
DTSTAMP:20260426T033859Z
CREATED:20260426T033859Z
DTSTART:20220112T031500Z
DTEND:20220112T040500Z
LOCATION:Volleyball Court 4
CONTACT:
SUMMARY:12 Bad Knees 1 VS. No Ability Meets No Effort
DESCRIPTION:League Name: Tuesday Intermediate Volleyball GOLD div Jan 2022\
 nGame Type: Regular\nGame Status: Complete\nHome Team: 12 Bad Knees 1\nAwa
 y Team: No Ability Meets No Effort\nHome Score: 0\nAway Score: 2
END:VEVENT
BEGIN:VEVENT
UID:14184850@ezleagues.ezfacility.com
DTSTAMP:20260426T033859Z
CREATED:20260426T033859Z
DTSTART:20220118T230500Z
DTEND:20220118T235500Z
LOCATION:Volleyball Court 4
CONTACT:
SUMMARY:Id Hit That 1 VS. No Ability Meets No Effort
DESCRIPTION:League Name: Tuesday Intermediate Volleyball GOLD div Jan 2022\
 nGame Type: Regular\nGame Status: Complete\nHome Team: Id Hit That 1\nAway
  Team: No Ability Meets No Effort\nHome Score: 2\nAway Score: 0
END:VEVENT
BEGIN:VEVENT
UID:14184886@ezleagues.ezfacility.com
DTSTAMP:20260426T033859Z
CREATED:20260426T033859Z
DTSTART:20220119T004500Z
DTEND:20220119T013500Z
LOCATION:Volleyball Court 4
CONTACT:
SUMMARY:Dink Responsibly 1 VS. No Ability Meets No Effort
DESCRIPTION:League Name: Tuesday Intermediate Volleyball GOLD div Jan 2022\
 nGame Type: Regular\nGame Status: Complete\nHome Team: Dink Responsibly 1\
 nAway Team: No Ability Meets No Effort\nHome Score: 0\nAway Score: 3
END:VEVENT
BEGIN:VEVENT
UID:14184915@ezleagues.ezfacility.com
DTSTAMP:20260426T033859Z
CREATED:20260426T033859Z
DTSTART:20220126T022500Z
DTEND:20220126T031500Z
LOCATION:Volleyball Court 3
CONTACT:
SUMMARY:Oh That Team 1 VS. No Ability Meets No Effort
DESCRIPTION:League Name: Tuesday Intermediate Volleyball GOLD div Jan 2022\
 nGame Type: Regular\nGame Status: Complete\nHome Team: Oh That Team 1\nAwa
 y Team: No Ability Meets No Effort\nHome Score: 2\nAway Score: 1
END:VEVENT
BEGIN:VEVENT
UID:14184942@ezleagues.ezfacility.com
DTSTAMP:20260426T033859Z
CREATED:20260426T033859Z
DTSTART:20220126T031500Z
DTEND:20220126T040500Z
LOCATION:Volleyball Court 4
CONTACT:
SUMMARY:HOGGIES 1 VS. No Ability Meets No Effort
DESCRIPTION:League Name: Tuesday Intermediate Volleyball GOLD div Jan 2022\
 nGame Type: Regular\nGame Status: Complete\nHome Team: HOGGIES 1\nAway Tea
 m: No Ability Meets No Effort\nHome Score: 2\nAway Score: 1
END:VEVENT
BEGIN:VEVENT
UID:14184962@ezleagues.ezfacility.com
DTSTAMP:20260426T033859Z
CREATED:20260426T033859Z
DTSTART:20220201T230500Z
DTEND:20220201T235500Z
LOCATION:Volleyball Court 1
CONTACT:
SUMMARY:No Ability Meets No Effort VS. Sunny Sets Up 1
DESCRIPTION:League Name: Tuesday Intermediate Volleyball GOLD div Jan 2022\
 nGame Type: Regular\nGame Status: Complete\nHome Team: No Ability Meets No
  Effort\nAway Team: Sunny Sets Up 1\nHome Score: 2\nAway Score: 0
END:VEVENT
BEGIN:VEVENT
UID:14184984@ezleagues.ezfacility.com
DTSTAMP:20260426T033859Z
CREATED:20260426T033859Z
DTSTART:20220201T235500Z
DTEND:20220202T004500Z
LOCATION:Volleyball Court 4
CONTACT:
SUMMARY:HOGGIES 1 VS. No Ability Meets No Effort
DESCRIPTION:League Name: Tuesday Intermediate Volleyball GOLD div Jan 2022\
 nGame Type: Regular\nGame Status: Complete\nHome Team: HOGGIES 1\nAway Tea
 m: No Ability Meets No Effort\nHome Score: 2\nAway Score: 1
END:VEVENT
BEGIN:VEVENT
UID:14185099@ezleagues.ezfacility.com
DTSTAMP:20260426T033859Z
CREATED:20260426T033859Z
DTSTART:20220209T022500Z
DTEND:20220209T031500Z
LOCATION:Volleyball Court 3
CONTACT:
SUMMARY:No Ability Meets No Effort VS. Caribenos
DESCRIPTION:League Name: Tuesday Intermediate Volleyball GOLD div Jan 2022\
 nGame Type: Regular\nGame Status: Complete\nHome Team: No Ability Meets No
  Effort\nAway Team: Caribenos\nHome Score: 0\nAway Score: 2
END:VEVENT
BEGIN:VEVENT
UID:14185104@ezleagues.ezfacility.com
DTSTAMP:20260426T033859Z
CREATED:20260426T033859Z
DTSTART:20220209T031500Z
DTEND:20220209T040500Z
LOCATION:Volleyball Court 1
CONTACT:
SUMMARY:No Ability Meets No Effort VS. Lasers and Lambos 1
DESCRIPTION:League Name: Tuesday Intermediate Volleyball GOLD div Jan 2022\
 nGame Type: Regular\nGame Status: Complete\nHome Team: No Ability Meets No
  Effort\nAway Team: Lasers and Lambos 1\nHome Score: 1\nAway Score: 2
END:VEVENT
BEGIN:VEVENT
UID:14185209@ezleagues.ezfacility.com
DTSTAMP:20260426T033859Z
CREATED:20260426T033859Z
DTSTART:20220215T230500Z
DTEND:20220215T235500Z
LOCATION:Volleyball Court 1
CONTACT:
SUMMARY:No Ability Meets No Effort VS. Heaters Only 1
DESCRIPTION:League Name: Tuesday Intermediate Volleyball GOLD div Jan 2022\
 nGame Type: Regular\nGame Status: Complete\nHome Team: No Ability Meets No
  Effort\nAway Team: Heaters Only 1\nHome Score: 1\nAway Score: 1
END:VEVENT
BEGIN:VEVENT
UID:14185221@ezleagues.ezfacility.com
DTSTAMP:20260426T033859Z
CREATED:20260426T033859Z
DTSTART:20220215T235500Z
DTEND:20220216T004500Z
LOCATION:Volleyball Court 3
CONTACT:
SUMMARY:Goose VS. No Ability Meets No Effort
DESCRIPTION:League Name: Tuesday Intermediate Volleyball GOLD div Jan 2022\
 nGame Type: Regular\nGame Status: Complete\nHome Team: Goose\nAway Team: N
 o Ability Meets No Effort\nHome Score: 1\nAway Score: 2
END:VEVENT
BEGIN:VEVENT
UID:14185269@ezleagues.ezfacility.com
DTSTAMP:20260426T033859Z
CREATED:20260426T033859Z
DTSTART:20220223T022500Z
DTEND:20220223T031500Z
LOCATION:Volleyball Court 1
CONTACT:
SUMMARY:No Ability Meets No Effort VS. Bumps\, Dumps\, and Humps 1
DESCRIPTION:League Name: Tuesday Intermediate Volleyball GOLD div Jan 2022\
 nGame Type: Regular\nGame Status: Complete\nHome Team: No Ability Meets No
  Effort\nAway Team: Bumps, Dumps, and Humps 1\nHome Score: 0\nAway Score: 
 2
END:VEVENT
BEGIN:VEVENT
UID:14185274@ezleagues.ezfacility.com
DTSTAMP:20260426T033859Z
CREATED:20260426T033859Z
DTSTART:20220223T031500Z
DTEND:20220223T040500Z
LOCATION:Volleyball Court 1
CONTACT:
SUMMARY:No Ability Meets No Effort VS. Good Pipe 1
DESCRIPTION:League Name: Tuesday Intermediate Volleyball GOLD div Jan 2022\
 nGame Type: Regular\nGame Status: Complete\nHome Team: No Ability Meets No
  Effort\nAway Team: Good Pipe 1\nHome Score: 0\nAway Score: 2
END:VEVENT
END:VCALENDAR
