BEGIN:VCALENDAR
VERSION:2.0
PRODID:-//EZFacility.com, Inc.//EZL 2.5.5.28621
BEGIN:VEVENT
UID:14161176@ezleagues.ezfacility.com
DTSTAMP:20260426T035119Z
CREATED:20260426T035119Z
DTSTART:20220102T204500Z
DTEND:20220102T213500Z
LOCATION:Red Field
CONTACT:
SUMMARY:Amherst SA 06PL VS. NWAA Wolves Red 06/07
DESCRIPTION:League Name: Winter B Soccer Session (2022) - U15/16 Boys Divis
 ion\nGame Type: Regular\nGame Status: Complete\nHome Team: Amherst SA 06PL
 \nAway Team: NWAA Wolves Red 06/07\nHome Score: 2\nAway Score: 4
END:VEVENT
BEGIN:VEVENT
UID:14161239@ezleagues.ezfacility.com
DTSTAMP:20260426T035119Z
CREATED:20260426T035119Z
DTSTART:20220110T014500Z
DTEND:20220110T023500Z
LOCATION:Red Field
CONTACT:
SUMMARY:G.I. The Elite VS. Amherst SA 06PL
DESCRIPTION:League Name: Winter B Soccer Session (2022) - U15/16 Boys Divis
 ion\nGame Type: Regular\nGame Status: Complete\nHome Team: G.I. The Elite\
 nAway Team: Amherst SA 06PL\nHome Score: 2\nAway Score: 3
END:VEVENT
BEGIN:VEVENT
UID:14161281@ezleagues.ezfacility.com
DTSTAMP:20260426T035119Z
CREATED:20260426T035119Z
DTSTART:20220116T180000Z
DTEND:20220116T185000Z
LOCATION:Blue Field
CONTACT:
SUMMARY:Amherst United 07 Matos VS. Amherst SA 06PL
DESCRIPTION:League Name: Winter B Soccer Session (2022) - U15/16 Boys Divis
 ion\nGame Type: Regular\nGame Status: Complete\nHome Team: Amherst United 
 07 Matos\nAway Team: Amherst SA 06PL\nHome Score: 1\nAway Score: 5
END:VEVENT
BEGIN:VEVENT
UID:14161302@ezleagues.ezfacility.com
DTSTAMP:20260426T035119Z
CREATED:20260426T035119Z
DTSTART:20220130T220500Z
DTEND:20220130T225500Z
LOCATION:Blue Field
CONTACT:
SUMMARY:Amherst SA 06PL VS. NPSL Machine
DESCRIPTION:League Name: Winter B Soccer Session (2022) - U15/16 Boys Divis
 ion\nGame Type: Regular\nGame Status: Complete\nHome Team: Amherst SA 06PL
 \nAway Team: NPSL Machine\nHome Score: 1\nAway Score: 1
END:VEVENT
BEGIN:VEVENT
UID:14161323@ezleagues.ezfacility.com
DTSTAMP:20260426T035119Z
CREATED:20260426T035119Z
DTSTART:20220206T120000Z
DTEND:20220206T125000Z
LOCATION:Red Field
CONTACT:
SUMMARY:06 Rush - Gray VS. Amherst SA 06PL
DESCRIPTION:League Name: Winter B Soccer Session (2022) - U15/16 Boys Divis
 ion\nGame Type: Regular\nGame Status: Complete\nHome Team: 06 Rush - Gray\
 nAway Team: Amherst SA 06PL\nHome Score: 2\nAway Score: 0
END:VEVENT
BEGIN:VEVENT
UID:14161260@ezleagues.ezfacility.com
DTSTAMP:20260426T035119Z
CREATED:20260426T035119Z
DTSTART:20220221T004500Z
DTEND:20220221T013500Z
LOCATION:Red Field
CONTACT:
SUMMARY:Amherst SA 06PL VS. 06 Rush - Blue
DESCRIPTION:League Name: Winter B Soccer Session (2022) - U15/16 Boys Divis
 ion\nGame Type: Regular\nGame Status: Complete\nHome Team: Amherst SA 06PL
 \nAway Team: 06 Rush - Blue\nHome Score: 0\nAway Score: 0
END:VEVENT
BEGIN:VEVENT
UID:14161362@ezleagues.ezfacility.com
DTSTAMP:20260426T035119Z
CREATED:20260426T035119Z
DTSTART:20220227T210500Z
DTEND:20220227T215500Z
LOCATION:Blue Field
CONTACT:
SUMMARY:Amherst SA 06PL VS. Kenmore Spurs
DESCRIPTION:League Name: Winter B Soccer Session (2022) - U15/16 Boys Divis
 ion\nGame Type: Regular\nGame Status: Complete\nHome Team: Amherst SA 06PL
 \nAway Team: Kenmore Spurs\nHome Score: 0\nAway Score: 0
END:VEVENT
BEGIN:VEVENT
UID:14161381@ezleagues.ezfacility.com
DTSTAMP:20260426T035119Z
CREATED:20260426T035119Z
DTSTART:20220305T221500Z
DTEND:20220305T230500Z
LOCATION:Red Field
CONTACT:
SUMMARY:NWAA Wolves Black 06/07 VS. Amherst SA 06PL
DESCRIPTION:League Name: Winter B Soccer Session (2022) - U15/16 Boys Divis
 ion\nGame Type: Regular\nGame Status: Complete\nHome Team: NWAA Wolves Bla
 ck 06/07\nAway Team: Amherst SA 06PL\nHome Score: 4\nAway Score: 2
END:VEVENT
BEGIN:VEVENT
UID:14161343@ezleagues.ezfacility.com
DTSTAMP:20260426T035119Z
CREATED:20260426T035119Z
DTSTART:20220313T230000Z
DTEND:20220313T235000Z
LOCATION:Blue Field
CONTACT:
SUMMARY:Clarence Soccer Club VS. Amherst SA 06PL
DESCRIPTION:League Name: Winter B Soccer Session (2022) - U15/16 Boys Divis
 ion\nGame Type: Regular\nGame Status: Complete\nHome Team: Clarence Soccer
  Club\nAway Team: Amherst SA 06PL\nHome Score: 0\nAway Score: 4
END:VEVENT
BEGIN:VEVENT
UID:14161197@ezleagues.ezfacility.com
DTSTAMP:20260426T035119Z
CREATED:20260426T035119Z
DTSTART:20220327T231500Z
DTEND:20220328T000500Z
LOCATION:Blue Field
CONTACT:
SUMMARY:DSC United White VS. Amherst SA 06PL
DESCRIPTION:League Name: Winter B Soccer Session (2022) - U15/16 Boys Divis
 ion\nGame Type: Regular\nGame Status: Complete\nHome Team: DSC United Whit
 e\nAway Team: Amherst SA 06PL\nHome Score: 2\nAway Score: 4
END:VEVENT
BEGIN:VEVENT
UID:14283518@ezleagues.ezfacility.com
DTSTAMP:20260426T035119Z
CREATED:20260426T035119Z
DTSTART:20220410T210000Z
DTEND:20220410T215000Z
LOCATION:Blue Field
CONTACT:
SUMMARY:Amherst SA 06PL VS. DSC United White
DESCRIPTION:League Name: Winter B Soccer Session (2022) - U15/16 Boys Divis
 ion\nGame Type: Postseason\nGame Status: Rescheduled\nHome Team: Amherst S
 A 06PL\nAway Team: DSC United White\n
END:VEVENT
BEGIN:VEVENT
UID:14342349@ezleagues.ezfacility.com
DTSTAMP:20260426T035119Z
CREATED:20260426T035119Z
DTSTART:20220422T213000Z
DTEND:20220422T222000Z
LOCATION:Red Field
CONTACT:
SUMMARY:Amherst SA 06PL VS. DSC United White
DESCRIPTION:League Name: Winter B Soccer Session (2022) - U15/16 Boys Divis
 ion\nGame Type: Postseason\nGame Status: Complete\nHome Team: Amherst SA 0
 6PL\nAway Team: DSC United White\nHome Score: 2\nAway Score: 1
END:VEVENT
BEGIN:VEVENT
UID:14283524@ezleagues.ezfacility.com
DTSTAMP:20260426T035119Z
CREATED:20260426T035119Z
DTSTART:20220424T191500Z
DTEND:20220424T200500Z
LOCATION:Blue Field
CONTACT:
SUMMARY:NWAA Wolves Black 06/07 VS. Amherst SA 06PL
DESCRIPTION:League Name: Winter B Soccer Session (2022) - U15/16 Boys Divis
 ion\nGame Type: Postseason\nGame Status: Complete\nHome Team: NWAA Wolves 
 Black 06/07\nAway Team: Amherst SA 06PL\nHome Score: 1\nAway Score: 3
END:VEVENT
END:VCALENDAR
