BEGIN:VCALENDAR
VERSION:2.0
PRODID:-//EZFacility.com, Inc.//EZL 2.5.5.28621
BEGIN:VEVENT
UID:14161191@ezleagues.ezfacility.com
DTSTAMP:20260424T043245Z
CREATED:20260424T043245Z
DTSTART:20220102T224500Z
DTEND:20220102T233500Z
LOCATION:Red Field
CONTACT:
SUMMARY:Roy Hart Rams VS. Lockport Lightning
DESCRIPTION:League Name: Winter B Soccer Session (2022) - U17/19 Girls Divi
 sion\nGame Type: Regular\nGame Status: Complete\nHome Team: Roy Hart Rams\
 nAway Team: Lockport Lightning\nHome Score: 1\nAway Score: 6
END:VEVENT
BEGIN:VEVENT
UID:14161333@ezleagues.ezfacility.com
DTSTAMP:20260424T043245Z
CREATED:20260424T043245Z
DTSTART:20220109T204500Z
DTEND:20220109T213500Z
LOCATION:Red Field
CONTACT:
SUMMARY:Roy Hart Rams VS. NWAA Storm
DESCRIPTION:League Name: Winter B Soccer Session (2022) - U17/19 Girls Divi
 sion\nGame Type: Regular\nGame Status: Complete\nHome Team: Roy Hart Rams\
 nAway Team: NWAA Storm\nHome Score: 2\nAway Score: 12
END:VEVENT
BEGIN:VEVENT
UID:14161295@ezleagues.ezfacility.com
DTSTAMP:20260424T043245Z
CREATED:20260424T043245Z
DTSTART:20220122T221500Z
DTEND:20220122T230500Z
LOCATION:Red Field
CONTACT:
SUMMARY:Roy Hart Rams VS. DSC Pride
DESCRIPTION:League Name: Winter B Soccer Session (2022) - U17/19 Girls Divi
 sion\nGame Type: Regular\nGame Status: Complete\nHome Team: Roy Hart Rams\
 nAway Team: DSC Pride\nHome Score: 1\nAway Score: 5
END:VEVENT
BEGIN:VEVENT
UID:14161352@ezleagues.ezfacility.com
DTSTAMP:20260424T043245Z
CREATED:20260424T043245Z
DTSTART:20220130T201000Z
DTEND:20220130T210000Z
LOCATION:Blue Field
CONTACT:
SUMMARY:Kenmore Inferno VS. Roy Hart Rams
DESCRIPTION:League Name: Winter B Soccer Session (2022) - U17/19 Girls Divi
 sion\nGame Type: Regular\nGame Status: Complete\nHome Team: Kenmore Infern
 o\nAway Team: Roy Hart Rams\nHome Score: 1\nAway Score: 4
END:VEVENT
BEGIN:VEVENT
UID:14161254@ezleagues.ezfacility.com
DTSTAMP:20260424T043245Z
CREATED:20260424T043245Z
DTSTART:20220213T204500Z
DTEND:20220213T213500Z
LOCATION:Red Field
CONTACT:
SUMMARY:NWAA Renegades Team 2 VS. Roy Hart Rams
DESCRIPTION:League Name: Winter B Soccer Session (2022) - U17/19 Girls Divi
 sion\nGame Type: Regular\nGame Status: Complete\nHome Team: NWAA Renegades
  Team 2\nAway Team: Roy Hart Rams\nHome Score: 1\nAway Score: 0
END:VEVENT
BEGIN:VEVENT
UID:14161314@ezleagues.ezfacility.com
DTSTAMP:20260424T043245Z
CREATED:20260424T043245Z
DTSTART:20220227T214500Z
DTEND:20220227T223500Z
LOCATION:Red Field
CONTACT:
SUMMARY:NWAA Renegades Team 1 VS. Roy Hart Rams
DESCRIPTION:League Name: Winter B Soccer Session (2022) - U17/19 Girls Divi
 sion\nGame Type: Regular\nGame Status: Complete\nHome Team: NWAA Renegades
  Team 1\nAway Team: Roy Hart Rams\nHome Score: 6\nAway Score: 0
END:VEVENT
BEGIN:VEVENT
UID:14161371@ezleagues.ezfacility.com
DTSTAMP:20260424T043245Z
CREATED:20260424T043245Z
DTSTART:20220306T224500Z
DTEND:20220306T233500Z
LOCATION:Red Field
CONTACT:
SUMMARY:Roy Hart Rams VS. NPSL Thunder
DESCRIPTION:League Name: Winter B Soccer Session (2022) - U17/19 Girls Divi
 sion\nGame Type: Regular\nGame Status: Complete\nHome Team: Roy Hart Rams\
 nAway Team: NPSL Thunder\nHome Score: 2\nAway Score: 6
END:VEVENT
BEGIN:VEVENT
UID:14161275@ezleagues.ezfacility.com
DTSTAMP:20260424T043245Z
CREATED:20260424T043245Z
DTSTART:20220320T181000Z
DTEND:20220320T190000Z
LOCATION:Blue Field
CONTACT:
SUMMARY:Roy Hart Rams VS. Kenmore Niagara Ambush
DESCRIPTION:League Name: Winter B Soccer Session (2022) - U17/19 Girls Divi
 sion\nGame Type: Regular\nGame Status: Complete\nHome Team: Roy Hart Rams\
 nAway Team: Kenmore Niagara Ambush\nHome Score: 2\nAway Score: 4
END:VEVENT
BEGIN:VEVENT
UID:14161390@ezleagues.ezfacility.com
DTSTAMP:20260424T043245Z
CREATED:20260424T043245Z
DTSTART:20220327T221500Z
DTEND:20220327T230500Z
LOCATION:Blue Field
CONTACT:
SUMMARY:Akron Fury VS. Roy Hart Rams
DESCRIPTION:League Name: Winter B Soccer Session (2022) - U17/19 Girls Divi
 sion\nGame Type: Regular\nGame Status: Complete\nHome Team: Akron Fury\nAw
 ay Team: Roy Hart Rams\nHome Score: 1\nAway Score: 1
END:VEVENT
BEGIN:VEVENT
UID:14235399@ezleagues.ezfacility.com
DTSTAMP:20260424T043245Z
CREATED:20260424T043245Z
DTSTART:20220402T203000Z
DTEND:20220402T212000Z
LOCATION:Red Field
CONTACT:
SUMMARY:Wilson VS. Roy Hart Rams
DESCRIPTION:League Name: Winter B Soccer Session (2022) - U17/19 Girls Divi
 sion\nGame Type: Regular\nGame Status: Complete\nHome Team: Wilson\nAway T
 eam: Roy Hart Rams\nHome Score: 2\nAway Score: 2
END:VEVENT
BEGIN:VEVENT
UID:14161212@ezleagues.ezfacility.com
DTSTAMP:20260424T043245Z
CREATED:20260424T043245Z
DTSTART:20220402T213000Z
DTEND:20220402T222000Z
LOCATION:Blue Field
CONTACT:
SUMMARY:Wilson VS. Roy Hart Rams
DESCRIPTION:League Name: Winter B Soccer Session (2022) - U17/19 Girls Divi
 sion\nGame Type: Regular\nGame Status: Rescheduled\nHome Team: Wilson\nAwa
 y Team: Roy Hart Rams\n
END:VEVENT
BEGIN:VEVENT
UID:14283500@ezleagues.ezfacility.com
DTSTAMP:20260424T043245Z
CREATED:20260424T043245Z
DTSTART:20220412T221500Z
DTEND:20220412T230500Z
LOCATION:Blue Field
CONTACT:
SUMMARY:Kenmore Inferno VS. Roy Hart Rams
DESCRIPTION:League Name: Winter B Soccer Session (2022) - U17/19 Girls Divi
 sion\nGame Type: Postseason\nGame Status: Rescheduled\nHome Team: Kenmore 
 Inferno\nAway Team: Roy Hart Rams\n
END:VEVENT
BEGIN:VEVENT
UID:14364387@ezleagues.ezfacility.com
DTSTAMP:20260424T043245Z
CREATED:20260424T043245Z
DTSTART:20220423T000500Z
DTEND:20220423T005500Z
LOCATION:Blue Field
CONTACT:
SUMMARY:Kenmore Inferno VS. Roy Hart Rams
DESCRIPTION:League Name: Winter B Soccer Session (2022) - U17/19 Girls Divi
 sion\nGame Type: Postseason\nGame Status: Complete\nHome Team: Kenmore Inf
 erno\nAway Team: Roy Hart Rams\nHome Score: 0\nAway Score: 4
END:VEVENT
BEGIN:VEVENT
UID:14283506@ezleagues.ezfacility.com
DTSTAMP:20260424T043245Z
CREATED:20260424T043245Z
DTSTART:20220424T211500Z
DTEND:20220424T220500Z
LOCATION:Red Field
CONTACT:
SUMMARY:Lockport Lightning VS. Roy Hart Rams
DESCRIPTION:League Name: Winter B Soccer Session (2022) - U17/19 Girls Divi
 sion\nGame Type: Postseason\nGame Status: Complete\nHome Team: Lockport Li
 ghtning\nAway Team: Roy Hart Rams\nHome Score: 1\nAway Score: 3
END:VEVENT
END:VCALENDAR
