BEGIN:VCALENDAR
VERSION:2.0
PRODID:-//EZFacility.com, Inc.//EZL 2.5.5.28621
BEGIN:VEVENT
UID:14167795@ezleagues.ezfacility.com
DTSTAMP:20260424T044241Z
CREATED:20260424T044241Z
DTSTART:20211220T010000Z
DTEND:20211220T020000Z
LOCATION:Field 1
CONTACT:Blank
SUMMARY:FU Fc VS. YOUR MOMS A KEEPER
DESCRIPTION:League Name: Sunday Coed Soccer League (Winter - 2022)-Division
  3-NORTH DIVISON\nGame Type: Regular\nGame Status: Complete\nHome Team: FU
  Fc\nAway Team: YOUR MOMS A KEEPER\nHome Score: 8\nAway Score: 3
END:VEVENT
BEGIN:VEVENT
UID:14167762@ezleagues.ezfacility.com
DTSTAMP:20260424T044241Z
CREATED:20260424T044241Z
DTSTART:20211227T000000Z
DTEND:20211227T010000Z
LOCATION:Field 1
CONTACT:Kalafatis
SUMMARY:FU Fc VS. FC BORRACHOS
DESCRIPTION:League Name: Sunday Coed Soccer League (Winter - 2022)-Division
  3-NORTH DIVISON\nGame Type: Regular\nGame Status: Complete\nHome Team: FU
  Fc\nAway Team: FC BORRACHOS\nHome Score: 5\nAway Score: 9
END:VEVENT
BEGIN:VEVENT
UID:14167764@ezleagues.ezfacility.com
DTSTAMP:20260424T044241Z
CREATED:20260424T044241Z
DTSTART:20220103T030000Z
DTEND:20220103T040000Z
LOCATION:Field 2
CONTACT:Kalafatis
SUMMARY:FU Fc VS. CENTER CIRCLE
DESCRIPTION:League Name: Sunday Coed Soccer League (Winter - 2022)-Division
  3-NORTH DIVISON\nGame Type: Regular\nGame Status: Complete\nHome Team: FU
  Fc\nAway Team: CENTER CIRCLE\nHome Score: 5\nAway Score: 9
END:VEVENT
BEGIN:VEVENT
UID:14172064@ezleagues.ezfacility.com
DTSTAMP:20260424T044241Z
CREATED:20260424T044241Z
DTSTART:20220117T000000Z
DTEND:20220117T010000Z
LOCATION:Field 2
CONTACT:Stojanovski
SUMMARY:FU Fc VS. Sons Of Ptiches
DESCRIPTION:League Name: Sunday Coed Soccer League (Winter - 2022)-Division
  3-NORTH DIVISON\nGame Type: Regular\nGame Status: Complete\nHome Team: FU
  Fc\nAway Team: Sons Of Ptiches\nHome Score: 5\nAway Score: 2
END:VEVENT
BEGIN:VEVENT
UID:14167760@ezleagues.ezfacility.com
DTSTAMP:20260424T044241Z
CREATED:20260424T044241Z
DTSTART:20220131T034000Z
DTEND:20220131T043500Z
LOCATION:Field 1
CONTACT:
SUMMARY:8 In Centimeters VS. FU Fc
DESCRIPTION:League Name: Sunday Coed Soccer League (Winter - 2022)-Division
  3-NORTH DIVISON\nGame Type: Regular\nGame Status: Complete\nHome Team: 8 
 In Centimeters\nAway Team: FU Fc\nHome Score: 7\nAway Score: 8
END:VEVENT
BEGIN:VEVENT
UID:14167772@ezleagues.ezfacility.com
DTSTAMP:20260424T044241Z
CREATED:20260424T044241Z
DTSTART:20220207T030000Z
DTEND:20220207T040000Z
LOCATION:Field 2
CONTACT:
SUMMARY:ABCDE Fc VS. FU Fc
DESCRIPTION:League Name: Sunday Coed Soccer League (Winter - 2022)-Division
  3-NORTH DIVISON\nGame Type: Regular\nGame Status: Complete\nHome Team: AB
 CDE Fc\nAway Team: FU Fc\nHome Score: 3\nAway Score: 6
END:VEVENT
BEGIN:VEVENT
UID:14252140@ezleagues.ezfacility.com
DTSTAMP:20260424T044241Z
CREATED:20260424T044241Z
DTSTART:20220221T000000Z
DTEND:20220221T005500Z
LOCATION:Field 1
CONTACT:Blank
SUMMARY:FU Fc VS. Sons Of Ptiches
DESCRIPTION:League Name: Sunday Coed Soccer League (Winter - 2022)-Division
  3-NORTH DIVISON\nGame Type: Postseason\nGame Status: Complete\nHome Team:
  FU Fc\nAway Team: Sons Of Ptiches\nHome Score: 2\nAway Score: 3
END:VEVENT
END:VCALENDAR
