BEGIN:VCALENDAR
VERSION:2.0
PRODID:-//EZFacility.com, Inc.//EZL 2.5.5.28621
BEGIN:VEVENT
UID:14204021@ezleagues.ezfacility.com
DTSTAMP:20260421T042612Z
CREATED:20260421T042612Z
DTSTART:20220122T013000Z
DTEND:20220122T021000Z
LOCATION:Field 4 South
CONTACT:
SUMMARY:FC Raptors (Red) VS. Green Monsters 2 (Green)
DESCRIPTION:League Name: Boys U8 BLUE - Winter 2 (4v4 no GK)\nGame Type: Re
 gular\nGame Status: Pending\nHome Team: FC Raptors (Red)\nAway Team: Green
  Monsters 2 (Green)\n
END:VEVENT
BEGIN:VEVENT
UID:14204026@ezleagues.ezfacility.com
DTSTAMP:20260421T042612Z
CREATED:20260421T042612Z
DTSTART:20220129T000000Z
DTEND:20220129T004000Z
LOCATION:Field 4 North
CONTACT:
SUMMARY:FC Raptors (Red) VS. ER Energy (Black / Green)
DESCRIPTION:League Name: Boys U8 BLUE - Winter 2 (4v4 no GK)\nGame Type: Re
 gular\nGame Status: Pending\nHome Team: FC Raptors (Red)\nAway Team: ER En
 ergy (Black / Green)\n
END:VEVENT
BEGIN:VEVENT
UID:14204028@ezleagues.ezfacility.com
DTSTAMP:20260421T042612Z
CREATED:20260421T042612Z
DTSTART:20220205T021500Z
DTEND:20220205T025500Z
LOCATION:Field 4 South
CONTACT:
SUMMARY:FC Raptors (Red) VS. SC United (White)
DESCRIPTION:League Name: Boys U8 BLUE - Winter 2 (4v4 no GK)\nGame Type: Re
 gular\nGame Status: Pending\nHome Team: FC Raptors (Red)\nAway Team: SC Un
 ited (White)\n
END:VEVENT
BEGIN:VEVENT
UID:14204032@ezleagues.ezfacility.com
DTSTAMP:20260421T042612Z
CREATED:20260421T042612Z
DTSTART:20220212T000000Z
DTEND:20220212T004000Z
LOCATION:Field 4 North
CONTACT:
SUMMARY:FC Raptors (Red) VS. 2 Fast 2 Furious (Blue / Red)
DESCRIPTION:League Name: Boys U8 BLUE - Winter 2 (4v4 no GK)\nGame Type: Re
 gular\nGame Status: Complete\nHome Team: FC Raptors (Red)\nAway Team: 2 Fa
 st 2 Furious (Blue / Red)\nHome Score: 0\nAway Score: 0
END:VEVENT
BEGIN:VEVENT
UID:14204033@ezleagues.ezfacility.com
DTSTAMP:20260421T042612Z
CREATED:20260421T042612Z
DTSTART:20220219T021500Z
DTEND:20220219T025500Z
LOCATION:Field 4 South
CONTACT:
SUMMARY:Green Monsters 1 (Green) VS. FC Raptors (Red)
DESCRIPTION:League Name: Boys U8 BLUE - Winter 2 (4v4 no GK)\nGame Type: Re
 gular\nGame Status: Pending\nHome Team: Green Monsters 1 (Green)\nAway Tea
 m: FC Raptors (Red)\n
END:VEVENT
BEGIN:VEVENT
UID:14204036@ezleagues.ezfacility.com
DTSTAMP:20260421T042612Z
CREATED:20260421T042612Z
DTSTART:20220226T013000Z
DTEND:20220226T021000Z
LOCATION:Field 4 South
CONTACT:
SUMMARY:Green Monsters 2 (Green) VS. FC Raptors (Red)
DESCRIPTION:League Name: Boys U8 BLUE - Winter 2 (4v4 no GK)\nGame Type: Re
 gular\nGame Status: Pending\nHome Team: Green Monsters 2 (Green)\nAway Tea
 m: FC Raptors (Red)\n
END:VEVENT
BEGIN:VEVENT
UID:14251536@ezleagues.ezfacility.com
DTSTAMP:20260421T042612Z
CREATED:20260421T042612Z
DTSTART:20220305T021500Z
DTEND:20220305T030500Z
LOCATION:Field 4 North
CONTACT:
SUMMARY:OK Rangers 2014 (blue) VS. FC Raptors (Red)
DESCRIPTION:League Name: Boys U8 BLUE - Winter 2 (4v4 no GK)\nGame Type: Re
 gular\nGame Status: Pending\nHome Team: OK Rangers 2014 (blue)\nAway Team:
  FC Raptors (Red)\n
END:VEVENT
BEGIN:VEVENT
UID:14204044@ezleagues.ezfacility.com
DTSTAMP:20260421T042612Z
CREATED:20260421T042612Z
DTSTART:20220312T000000Z
DTEND:20220312T004000Z
LOCATION:Field 4 North
CONTACT:
SUMMARY:ER Energy (Black / Green) VS. FC Raptors (Red)
DESCRIPTION:League Name: Boys U8 BLUE - Winter 2 (4v4 no GK)\nGame Type: Re
 gular\nGame Status: Pending\nHome Team: ER Energy (Black / Green)\nAway Te
 am: FC Raptors (Red)\n
END:VEVENT
BEGIN:VEVENT
UID:14243889@ezleagues.ezfacility.com
DTSTAMP:20260421T042612Z
CREATED:20260421T042612Z
DTSTART:20220319T003000Z
DTEND:20220319T012000Z
LOCATION:Field 4 South
CONTACT:
SUMMARY:FC Raptors (Red) VS. Rangers (Blue)
DESCRIPTION:League Name: Boys U8 BLUE - Winter 2 (4v4 no GK)\nGame Type: Re
 gular\nGame Status: Complete\nHome Team: FC Raptors (Red)\nAway Team: Rang
 ers (Blue)\nHome Score: 10\nAway Score: 0
END:VEVENT
END:VCALENDAR
