BEGIN:VCALENDAR
VERSION:2.0
PRODID:-//EZFacility.com, Inc.//EZL 2.5.5.28621
BEGIN:VEVENT
UID:14231264@ezleagues.ezfacility.com
DTSTAMP:20260426T034815Z
CREATED:20260426T034815Z
DTSTART:20220409T170000Z
DTEND:20220409T180000Z
LOCATION:Hudson Middle School
CONTACT:
SUMMARY:Hudson Team 1 VS. Kenston Team 1
DESCRIPTION:League Name: NOLL Spring Season-Boys-Grades 3/4-Elite\nGame Typ
 e: Regular\nGame Status: Complete\nHome Team: Hudson Team 1\nAway Team: Ke
 nston Team 1\nHome Score: 3\nAway Score: 9
END:VEVENT
BEGIN:VEVENT
UID:14205627@ezleagues.ezfacility.com
DTSTAMP:20260426T034815Z
CREATED:20260426T034815Z
DTSTART:20220410T150000Z
DTEND:20220410T160000Z
LOCATION:Hudson High School
CONTACT:
SUMMARY:Rocky River Team 1 VS. Hudson Team 1
DESCRIPTION:League Name: NOLL Spring Season-Boys-Grades 3/4-Elite\nGame Typ
 e: Regular\nGame Status: Complete\nHome Team: Rocky River Team 1\nAway Tea
 m: Hudson Team 1\nHome Score: 7\nAway Score: 3
END:VEVENT
BEGIN:VEVENT
UID:14205396@ezleagues.ezfacility.com
DTSTAMP:20260426T034815Z
CREATED:20260426T034815Z
DTSTART:20220429T220000Z
DTEND:20220429T230000Z
LOCATION:BBH-Chippewa Elem
CONTACT:
SUMMARY:Brecksville Broadview Heights Team 1 VS. Hudson Team 1
DESCRIPTION:League Name: NOLL Spring Season-Boys-Grades 3/4-Elite\nGame Typ
 e: Regular\nGame Status: Complete\nHome Team: Brecksville Broadview Height
 s Team 1\nAway Team: Hudson Team 1\nHome Score: 13\nAway Score: 2
END:VEVENT
BEGIN:VEVENT
UID:14205529@ezleagues.ezfacility.com
DTSTAMP:20260426T034815Z
CREATED:20260426T034815Z
DTSTART:20220502T220000Z
DTEND:20220502T230000Z
LOCATION:Hudson Middle School
CONTACT:
SUMMARY:Hudson Team 1 VS. Copley Team 1
DESCRIPTION:League Name: NOLL Spring Season-Boys-Grades 3/4-Elite\nGame Typ
 e: Regular\nGame Status: Pending\nHome Team: Hudson Team 1\nAway Team: Cop
 ley Team 1\n
END:VEVENT
BEGIN:VEVENT
UID:14205474@ezleagues.ezfacility.com
DTSTAMP:20260426T034815Z
CREATED:20260426T034815Z
DTSTART:20220504T220000Z
DTEND:20220504T230000Z
LOCATION:Hudson Middle School
CONTACT:
SUMMARY:Hudson Team 1 VS. Brunswick Team 1
DESCRIPTION:League Name: NOLL Spring Season-Boys-Grades 3/4-Elite\nGame Typ
 e: Regular\nGame Status: Complete\nHome Team: Hudson Team 1\nAway Team: Br
 unswick Team 1\nHome Score: 0\nAway Score: 14
END:VEVENT
BEGIN:VEVENT
UID:14205573@ezleagues.ezfacility.com
DTSTAMP:20260426T034815Z
CREATED:20260426T034815Z
DTSTART:20220508T190000Z
DTEND:20220508T200000Z
LOCATION:Hudson Middle School
CONTACT:
SUMMARY:Hudson Team 1 VS. Wadsworth Team 1
DESCRIPTION:League Name: NOLL Spring Season-Boys-Grades 3/4-Elite\nGame Typ
 e: Regular\nGame Status: Complete\nHome Team: Hudson Team 1\nAway Team: Wa
 dsworth Team 1\nHome Score: 3\nAway Score: 11
END:VEVENT
BEGIN:VEVENT
UID:14207154@ezleagues.ezfacility.com
DTSTAMP:20260426T034815Z
CREATED:20260426T034815Z
DTSTART:20220512T220000Z
DTEND:20220512T230000Z
LOCATION:Hudson Middle School
CONTACT:
SUMMARY:Hudson Team 1 VS. North Ridgeville Team 1
DESCRIPTION:League Name: NOLL Spring Season-Boys-Grades 3/4-Elite\nGame Typ
 e: Regular\nGame Status: Complete\nHome Team: Hudson Team 1\nAway Team: No
 rth Ridgeville Team 1\nHome Score: 0\nAway Score: 10
END:VEVENT
BEGIN:VEVENT
UID:14205837@ezleagues.ezfacility.com
DTSTAMP:20260426T034815Z
CREATED:20260426T034815Z
DTSTART:20220515T190000Z
DTEND:20220515T200000Z
LOCATION:Ranger High Tech Academy
CONTACT:
SUMMARY:North Ridgeville Team 1 VS. Hudson Team 1
DESCRIPTION:League Name: NOLL Spring Season-Boys-Grades 3/4-Elite\nGame Typ
 e: Regular\nGame Status: Complete\nHome Team: North Ridgeville Team 1\nAwa
 y Team: Hudson Team 1\nHome Score: 9\nAway Score: 5
END:VEVENT
BEGIN:VEVENT
UID:14283307@ezleagues.ezfacility.com
DTSTAMP:20260426T034815Z
CREATED:20260426T034815Z
DTSTART:20220525T230000Z
DTEND:20220526T000000Z
LOCATION:Ranger High Tech Academy
CONTACT:
SUMMARY:N. Ridgeville Team 2 VS. Hudson Team 1
DESCRIPTION:League Name: NOLL Spring Season-Boys-Grades 3/4-Elite\nGame Typ
 e: Regular\nGame Status: Complete\nHome Team: N. Ridgeville Team 2\nAway T
 eam: Hudson Team 1\nHome Score: 9\nAway Score: 7
END:VEVENT
END:VCALENDAR
