BEGIN:VCALENDAR
VERSION:2.0
PRODID:-//EZFacility.com, Inc.//EZL 2.5.5.28621
BEGIN:VEVENT
UID:14212139@ezleagues.ezfacility.com
DTSTAMP:20260422T200948Z
CREATED:20260422T200948Z
DTSTART:20220403T190000Z
DTEND:20220403T200000Z
LOCATION:Westlake High School
CONTACT:
SUMMARY:Westlake Team 1 VS. Bay Village Team 2
DESCRIPTION:League Name: NOLL Spring Season-Girls-Grades 7/8-Evolve\nGame T
 ype: Regular\nGame Status: Complete\nHome Team: Westlake Team 1\nAway Team
 : Bay Village Team 2\nHome Score: 10\nAway Score: 3
END:VEVENT
BEGIN:VEVENT
UID:14263972@ezleagues.ezfacility.com
DTSTAMP:20260422T200948Z
CREATED:20260422T200948Z
DTSTART:20220403T200000Z
DTEND:20220403T210000Z
LOCATION:Westlake High School
CONTACT:
SUMMARY:Westlake Team 2 VS. Bay Village Team 2
DESCRIPTION:League Name: NOLL Spring Season-Girls-Grades 7/8-Evolve\nGame T
 ype: Regular\nGame Status: Complete\nHome Team: Westlake Team 2\nAway Team
 : Bay Village Team 2\nHome Score: 6\nAway Score: 9
END:VEVENT
BEGIN:VEVENT
UID:14226040@ezleagues.ezfacility.com
DTSTAMP:20260422T200948Z
CREATED:20260422T200948Z
DTSTART:20220410T163000Z
DTEND:20220410T173000Z
LOCATION:Bay Village High School
CONTACT:
SUMMARY:Bay Village Team 2 VS. Kenston Team 1
DESCRIPTION:League Name: NOLL Spring Season-Girls-Grades 7/8-Evolve\nGame T
 ype: Regular\nGame Status: Complete\nHome Team: Bay Village Team 2\nAway T
 eam: Kenston Team 1\nHome Score: 10\nAway Score: 6
END:VEVENT
BEGIN:VEVENT
UID:14212146@ezleagues.ezfacility.com
DTSTAMP:20260422T200948Z
CREATED:20260422T200948Z
DTSTART:20220424T180000Z
DTEND:20220424T190000Z
LOCATION:Magnificat High School
CONTACT:
SUMMARY:Lakewood Saints Team 1 VS. Bay Village Team 2
DESCRIPTION:League Name: NOLL Spring Season-Girls-Grades 7/8-Evolve\nGame T
 ype: Regular\nGame Status: Complete\nHome Team: Lakewood Saints Team 1\nAw
 ay Team: Bay Village Team 2\nHome Score: 1\nAway Score: 10
END:VEVENT
BEGIN:VEVENT
UID:14368981@ezleagues.ezfacility.com
DTSTAMP:20260422T200948Z
CREATED:20260422T200948Z
DTSTART:20220501T200000Z
DTEND:20220501T210000Z
LOCATION:Rocky River High School
CONTACT:
SUMMARY:Bay Village Team 2 VS. Rocky River Team 1
DESCRIPTION:League Name: NOLL Spring Season-Girls-Grades 7/8-Evolve\nGame T
 ype: Regular\nGame Status: Pending\nHome Team: Bay Village Team 2\nAway Te
 am: Rocky River Team 1\n
END:VEVENT
BEGIN:VEVENT
UID:14212152@ezleagues.ezfacility.com
DTSTAMP:20260422T200948Z
CREATED:20260422T200948Z
DTSTART:20220502T220000Z
DTEND:20220502T230000Z
LOCATION:Bay Village - Cahoon Park
CONTACT:
SUMMARY:Bay Village Team 2 VS. Avon Lake Team 2
DESCRIPTION:League Name: NOLL Spring Season-Girls-Grades 7/8-Evolve\nGame T
 ype: Regular\nGame Status: Complete\nHome Team: Bay Village Team 2\nAway T
 eam: Avon Lake Team 2\nHome Score: 3\nAway Score: 6
END:VEVENT
BEGIN:VEVENT
UID:14212171@ezleagues.ezfacility.com
DTSTAMP:20260422T200948Z
CREATED:20260422T200948Z
DTSTART:20220511T223000Z
DTEND:20220511T233000Z
LOCATION:Chagrin Falls High School
CONTACT:
SUMMARY:Chagrin Falls Team 1 VS. Bay Village Team 2
DESCRIPTION:League Name: NOLL Spring Season-Girls-Grades 7/8-Evolve\nGame T
 ype: Regular\nGame Status: Complete\nHome Team: Chagrin Falls Team 1\nAway
  Team: Bay Village Team 2\nHome Score: 4\nAway Score: 3
END:VEVENT
BEGIN:VEVENT
UID:14226060@ezleagues.ezfacility.com
DTSTAMP:20260422T200948Z
CREATED:20260422T200948Z
DTSTART:20220522T153000Z
DTEND:20220522T163000Z
LOCATION:Bay Village High School
CONTACT:
SUMMARY:Bay Village Team 2 VS. Westlake Team 1
DESCRIPTION:League Name: NOLL Spring Season-Girls-Grades 7/8-Evolve\nGame T
 ype: Regular\nGame Status: Complete\nHome Team: Bay Village Team 2\nAway T
 eam: Westlake Team 1\nHome Score: 3\nAway Score: 12
END:VEVENT
BEGIN:VEVENT
UID:14263979@ezleagues.ezfacility.com
DTSTAMP:20260422T200948Z
CREATED:20260422T200948Z
DTSTART:20220522T163000Z
DTEND:20220522T173000Z
LOCATION:Bay Village High School
CONTACT:
SUMMARY:Bay Village Team 2 VS. Westlake Team 2
DESCRIPTION:League Name: NOLL Spring Season-Girls-Grades 7/8-Evolve\nGame T
 ype: Regular\nGame Status: Complete\nHome Team: Bay Village Team 2\nAway T
 eam: Westlake Team 2\nHome Score: 5\nAway Score: 6
END:VEVENT
END:VCALENDAR
