BEGIN:VCALENDAR
VERSION:2.0
PRODID:-//EZFacility.com, Inc.//EZL 2.5.5.28621
BEGIN:VEVENT
UID:14210550@ezleagues.ezfacility.com
DTSTAMP:20260423T132304Z
CREATED:20260423T132304Z
DTSTART:20220213T000000Z
DTEND:20220213T004500Z
LOCATION:Rocky River 3/4 Blue
CONTACT:
SUMMARY:Corner 65 VS. North Ridgeville
DESCRIPTION:League Name: U14/15 Boys - Session II\nGame Type: Regular\nGame
  Status: Pending\nHome Team: Corner 65\nAway Team: North Ridgeville\n
END:VEVENT
BEGIN:VEVENT
UID:14210555@ezleagues.ezfacility.com
DTSTAMP:20260423T132304Z
CREATED:20260423T132304Z
DTSTART:20220220T000000Z
DTEND:20220220T004500Z
LOCATION:Rocky River 3/4 Blue
CONTACT:
SUMMARY:Corner 65 VS. Bay Village Rockets - Roberts
DESCRIPTION:League Name: U14/15 Boys - Session II\nGame Type: Regular\nGame
  Status: Complete\nHome Team: Corner 65\nAway Team: Bay Village Rockets - 
 Roberts\nHome Score: 10\nAway Score: 1
END:VEVENT
BEGIN:VEVENT
UID:14210559@ezleagues.ezfacility.com
DTSTAMP:20260423T132304Z
CREATED:20260423T132304Z
DTSTART:20220227T000000Z
DTEND:20220227T004500Z
LOCATION:Westlake Full Field
CONTACT:
SUMMARY:Mustangs VS. Corner 65
DESCRIPTION:League Name: U14/15 Boys - Session II\nGame Type: Regular\nGame
  Status: Complete\nHome Team: Mustangs\nAway Team: Corner 65\nHome Score: 
 2\nAway Score: 4
END:VEVENT
BEGIN:VEVENT
UID:14210565@ezleagues.ezfacility.com
DTSTAMP:20260423T132304Z
CREATED:20260423T132304Z
DTSTART:20220313T000000Z
DTEND:20220313T004500Z
LOCATION:Westlake Full Field
CONTACT:
SUMMARY:Fairview Park Soccer Association VS. Corner 65
DESCRIPTION:League Name: U14/15 Boys - Session II\nGame Type: Regular\nGame
  Status: Complete\nHome Team: Fairview Park Soccer Association\nAway Team:
  Corner 65\nHome Score: 4\nAway Score: 11
END:VEVENT
BEGIN:VEVENT
UID:14210568@ezleagues.ezfacility.com
DTSTAMP:20260423T132304Z
CREATED:20260423T132304Z
DTSTART:20220319T220000Z
DTEND:20220319T224500Z
LOCATION:Westlake Full Field
CONTACT:
SUMMARY:Team AGA VS. Corner 65
DESCRIPTION:League Name: U14/15 Boys - Session II\nGame Type: Regular\nGame
  Status: Complete\nHome Team: Team AGA\nAway Team: Corner 65\nHome Score: 
 2\nAway Score: 4
END:VEVENT
BEGIN:VEVENT
UID:14210545@ezleagues.ezfacility.com
DTSTAMP:20260423T132304Z
CREATED:20260423T132304Z
DTSTART:20220325T220000Z
DTEND:20220325T224500Z
LOCATION:Westlake Full Field
CONTACT:
SUMMARY:Westlake VS. Corner 65
DESCRIPTION:League Name: U14/15 Boys - Session II\nGame Type: Regular\nGame
  Status: Complete\nHome Team: Westlake\nAway Team: Corner 65\nHome Score: 
 3\nAway Score: 3
END:VEVENT
BEGIN:VEVENT
UID:14210573@ezleagues.ezfacility.com
DTSTAMP:20260423T132304Z
CREATED:20260423T132304Z
DTSTART:20220326T220000Z
DTEND:20220326T224500Z
LOCATION:Westlake Full Field
CONTACT:
SUMMARY:Corner 65 VS. Westlake
DESCRIPTION:League Name: U14/15 Boys - Session II\nGame Type: Regular\nGame
  Status: Complete\nHome Team: Corner 65\nAway Team: Westlake\nHome Score: 
 2\nAway Score: 1
END:VEVENT
BEGIN:VEVENT
UID:14210540@ezleagues.ezfacility.com
DTSTAMP:20260423T132304Z
CREATED:20260423T132304Z
DTSTART:20220402T210000Z
DTEND:20220402T214500Z
LOCATION:Rocky River 3/4 Blue
CONTACT:
SUMMARY:Corner 65 VS. Team AGA
DESCRIPTION:League Name: U14/15 Boys - Session II\nGame Type: Regular\nGame
  Status: Complete\nHome Team: Corner 65\nAway Team: Team AGA\nHome Score: 
 4\nAway Score: 2
END:VEVENT
END:VCALENDAR
