BEGIN:VCALENDAR
VERSION:2.0
PRODID:-//EZFacility.com, Inc.//EZL 2.5.5.28621
BEGIN:VEVENT
UID:14216019@ezleagues.ezfacility.com
DTSTAMP:20260422T212029Z
CREATED:20260422T212029Z
DTSTART:20220126T030000Z
DTEND:20220126T040000Z
LOCATION:Field 2
CONTACT:
SUMMARY:JPs Team VS. Ookamis
DESCRIPTION:League Name: Session 2 Men's Flag Football\nGame Type: Regular\
 nGame Status: Complete\nHome Team: JPs Team\nAway Team: Ookamis\nHome Scor
 e: 14\nAway Score: 47
END:VEVENT
BEGIN:VEVENT
UID:14230673@ezleagues.ezfacility.com
DTSTAMP:20260422T212029Z
CREATED:20260422T212029Z
DTSTART:20220202T020000Z
DTEND:20220202T030000Z
LOCATION:Field 2
CONTACT:
SUMMARY:413 Elite VS. Ookamis
DESCRIPTION:League Name: Session 2 Men's Flag Football\nGame Type: Regular\
 nGame Status: Complete\nHome Team: 413 Elite\nAway Team: Ookamis\nHome Sco
 re: 40\nAway Score: 6
END:VEVENT
BEGIN:VEVENT
UID:14242693@ezleagues.ezfacility.com
DTSTAMP:20260422T212029Z
CREATED:20260422T212029Z
DTSTART:20220209T030000Z
DTEND:20220209T040000Z
LOCATION:Field 1
CONTACT:
SUMMARY:Ookamis VS. Panthers
DESCRIPTION:League Name: Session 2 Men's Flag Football\nGame Type: Regular\
 nGame Status: Complete\nHome Team: Ookamis\nAway Team: Panthers\nHome Scor
 e: 37\nAway Score: 25
END:VEVENT
BEGIN:VEVENT
UID:14242701@ezleagues.ezfacility.com
DTSTAMP:20260422T212029Z
CREATED:20260422T212029Z
DTSTART:20220216T030000Z
DTEND:20220216T040000Z
LOCATION:Field 1
CONTACT:
SUMMARY:Ookamis VS. Kakley Fitness
DESCRIPTION:League Name: Session 2 Men's Flag Football\nGame Type: Regular\
 nGame Status: Complete\nHome Team: Ookamis\nAway Team: Kakley Fitness\nHom
 e Score: 35\nAway Score: 7
END:VEVENT
BEGIN:VEVENT
UID:14258176@ezleagues.ezfacility.com
DTSTAMP:20260422T212029Z
CREATED:20260422T212029Z
DTSTART:20220223T020000Z
DTEND:20220223T030000Z
LOCATION:Field 2
CONTACT:
SUMMARY:Ookamis VS. Paddy's Pub
DESCRIPTION:League Name: Session 2 Men's Flag Football\nGame Type: Regular\
 nGame Status: Complete\nHome Team: Ookamis\nAway Team: Paddy's Pub\nHome S
 core: 34\nAway Score: 28
END:VEVENT
BEGIN:VEVENT
UID:14258187@ezleagues.ezfacility.com
DTSTAMP:20260422T212029Z
CREATED:20260422T212029Z
DTSTART:20220309T020000Z
DTEND:20220309T030000Z
LOCATION:Field 1
CONTACT:
SUMMARY:Ookamis VS. The Dirty Bs
DESCRIPTION:League Name: Session 2 Men's Flag Football\nGame Type: Regular\
 nGame Status: Complete\nHome Team: Ookamis\nAway Team: The Dirty Bs\nHome 
 Score: 22\nAway Score: 26
END:VEVENT
BEGIN:VEVENT
UID:14302518@ezleagues.ezfacility.com
DTSTAMP:20260422T212029Z
CREATED:20260422T212029Z
DTSTART:20220316T010000Z
DTEND:20220316T020000Z
LOCATION:Field 1
CONTACT:
SUMMARY:Ookamis VS. Colts
DESCRIPTION:League Name: Session 2 Men's Flag Football\nGame Type: Regular\
 nGame Status: Complete\nHome Team: Ookamis\nAway Team: Colts\nHome Score: 
 37\nAway Score: 16
END:VEVENT
BEGIN:VEVENT
UID:14316729@ezleagues.ezfacility.com
DTSTAMP:20260422T212029Z
CREATED:20260422T212029Z
DTSTART:20220323T010000Z
DTEND:20220323T020000Z
LOCATION:Field 1
CONTACT:
SUMMARY:Paddy's Pub VS. Ookamis
DESCRIPTION:League Name: Session 2 Men's Flag Football\nGame Type: Regular\
 nGame Status: Pending\nHome Team: Paddy's Pub\nAway Team: Ookamis\n
END:VEVENT
END:VCALENDAR
