BEGIN:VCALENDAR
VERSION:2.0
PRODID:-//EZFacility.com, Inc.//EZL 2.5.5.28621
BEGIN:VEVENT
UID:14223810@ezleagues.ezfacility.com
DTSTAMP:20260424T044058Z
CREATED:20260424T044058Z
DTSTART:20220202T203000Z
DTEND:20220202T211500Z
LOCATION:4 Mark Hughes
CONTACT:
SUMMARY:Hunterlarr VS. Not The Seam Team
DESCRIPTION:League Name: Cardiff Wednesday League 2\nGame Type: Regular\nGa
 me Status: Complete\nHome Team: Hunterlarr\nAway Team: Not The Seam Team\n
 Home Score: 5\nAway Score: 3
END:VEVENT
BEGIN:VEVENT
UID:14223813@ezleagues.ezfacility.com
DTSTAMP:20260424T044058Z
CREATED:20260424T044058Z
DTSTART:20220209T203000Z
DTEND:20220209T211500Z
LOCATION:1 John Charles
CONTACT:
SUMMARY:Not The Seam Team VS. Bayern Neverlusen
DESCRIPTION:League Name: Cardiff Wednesday League 2\nGame Type: Regular\nGa
 me Status: Complete\nHome Team: Not The Seam Team\nAway Team: Bayern Never
 lusen\nHome Score: 4\nAway Score: 4
END:VEVENT
BEGIN:VEVENT
UID:14223817@ezleagues.ezfacility.com
DTSTAMP:20260424T044058Z
CREATED:20260424T044058Z
DTSTART:20220223T190000Z
DTEND:20220223T194500Z
LOCATION:1 John Charles
CONTACT:
SUMMARY:Capital Decorators B VS. Not The Seam Team
DESCRIPTION:League Name: Cardiff Wednesday League 2\nGame Type: Regular\nGa
 me Status: Complete\nHome Team: Capital Decorators B\nAway Team: Not The S
 eam Team\nHome Score: 5\nAway Score: 2
END:VEVENT
BEGIN:VEVENT
UID:14223821@ezleagues.ezfacility.com
DTSTAMP:20260424T044058Z
CREATED:20260424T044058Z
DTSTART:20220302T194500Z
DTEND:20220302T203000Z
LOCATION:4 Mark Hughes
CONTACT:
SUMMARY:What You Doing Step Mo VS. Not The Seam Team
DESCRIPTION:League Name: Cardiff Wednesday League 2\nGame Type: Regular\nGa
 me Status: Complete\nHome Team: What You Doing Step Mo\nAway Team: Not The
  Seam Team\nHome Score: 6\nAway Score: 1
END:VEVENT
BEGIN:VEVENT
UID:14223825@ezleagues.ezfacility.com
DTSTAMP:20260424T044058Z
CREATED:20260424T044058Z
DTSTART:20220309T203000Z
DTEND:20220309T211500Z
LOCATION:4 Mark Hughes
CONTACT:
SUMMARY:Not The Seam Team VS. Hunterlarr
DESCRIPTION:League Name: Cardiff Wednesday League 2\nGame Type: Regular\nGa
 me Status: Complete\nHome Team: Not The Seam Team\nAway Team: Hunterlarr\n
 Home Score: 5\nAway Score: 8
END:VEVENT
BEGIN:VEVENT
UID:14223828@ezleagues.ezfacility.com
DTSTAMP:20260424T044058Z
CREATED:20260424T044058Z
DTSTART:20220316T203000Z
DTEND:20220316T211500Z
LOCATION:4 Mark Hughes
CONTACT:
SUMMARY:Bayern Neverlusen VS. Not The Seam Team
DESCRIPTION:League Name: Cardiff Wednesday League 2\nGame Type: Regular\nGa
 me Status: Complete\nHome Team: Bayern Neverlusen\nAway Team: Not The Seam
  Team\nHome Score: 3\nAway Score: 6
END:VEVENT
BEGIN:VEVENT
UID:14223830@ezleagues.ezfacility.com
DTSTAMP:20260424T044058Z
CREATED:20260424T044058Z
DTSTART:20220323T194500Z
DTEND:20220323T203000Z
LOCATION:4 Mark Hughes
CONTACT:
SUMMARY:Berocca Juniors VS. Not The Seam Team
DESCRIPTION:League Name: Cardiff Wednesday League 2\nGame Type: Regular\nGa
 me Status: Complete\nHome Team: Berocca Juniors\nAway Team: Not The Seam T
 eam\nHome Score: 4\nAway Score: 1
END:VEVENT
BEGIN:VEVENT
UID:14223832@ezleagues.ezfacility.com
DTSTAMP:20260424T044058Z
CREATED:20260424T044058Z
DTSTART:20220330T180000Z
DTEND:20220330T184500Z
LOCATION:4 Mark Hughes
CONTACT:
SUMMARY:Not The Seam Team VS. Capital Decorators B
DESCRIPTION:League Name: Cardiff Wednesday League 2\nGame Type: Regular\nGa
 me Status: Complete\nHome Team: Not The Seam Team\nAway Team: Capital Deco
 rators B\nHome Score: 11\nAway Score: 4
END:VEVENT
BEGIN:VEVENT
UID:14223836@ezleagues.ezfacility.com
DTSTAMP:20260424T044058Z
CREATED:20260424T044058Z
DTSTART:20220406T184500Z
DTEND:20220406T193000Z
LOCATION:4 Mark Hughes
CONTACT:
SUMMARY:Not The Seam Team VS. What You Doing Step Mo
DESCRIPTION:League Name: Cardiff Wednesday League 2\nGame Type: Regular\nGa
 me Status: Complete\nHome Team: Not The Seam Team\nAway Team: What You Doi
 ng Step Mo\nHome Score: 5\nAway Score: 5
END:VEVENT
BEGIN:VEVENT
UID:14223840@ezleagues.ezfacility.com
DTSTAMP:20260424T044058Z
CREATED:20260424T044058Z
DTSTART:20220413T193000Z
DTEND:20220413T201500Z
LOCATION:5 Neville Southall
CONTACT:
SUMMARY:Not The Seam Team VS. Hunterlarr
DESCRIPTION:League Name: Cardiff Wednesday League 2\nGame Type: Regular\nGa
 me Status: Complete\nHome Team: Not The Seam Team\nAway Team: Hunterlarr\n
 Home Score: 7\nAway Score: 4
END:VEVENT
BEGIN:VEVENT
UID:14223843@ezleagues.ezfacility.com
DTSTAMP:20260424T044058Z
CREATED:20260424T044058Z
DTSTART:20220420T193000Z
DTEND:20220420T201500Z
LOCATION:4 Mark Hughes
CONTACT:
SUMMARY:Bayern Neverlusen VS. Not The Seam Team
DESCRIPTION:League Name: Cardiff Wednesday League 2\nGame Type: Regular\nGa
 me Status: Complete\nHome Team: Bayern Neverlusen\nAway Team: Not The Seam
  Team\nHome Score: 3\nAway Score: 8
END:VEVENT
BEGIN:VEVENT
UID:14223845@ezleagues.ezfacility.com
DTSTAMP:20260424T044058Z
CREATED:20260424T044058Z
DTSTART:20220427T184500Z
DTEND:20220427T193000Z
LOCATION:4 Mark Hughes
CONTACT:
SUMMARY:Berocca Juniors VS. Not The Seam Team
DESCRIPTION:League Name: Cardiff Wednesday League 2\nGame Type: Regular\nGa
 me Status: Complete\nHome Team: Berocca Juniors\nAway Team: Not The Seam T
 eam\nHome Score: 6\nAway Score: 2
END:VEVENT
BEGIN:VEVENT
UID:14223815@ezleagues.ezfacility.com
DTSTAMP:20260424T044058Z
CREATED:20260424T044058Z
DTSTART:20220427T193000Z
DTEND:20220427T201500Z
LOCATION:3 Ian Rush
CONTACT:
SUMMARY:Not The Seam Team VS. Berocca Juniors
DESCRIPTION:League Name: Cardiff Wednesday League 2\nGame Type: Regular\nGa
 me Status: Complete\nHome Team: Not The Seam Team\nAway Team: Berocca Juni
 ors\nHome Score: 0\nAway Score: 6
END:VEVENT
BEGIN:VEVENT
UID:14223847@ezleagues.ezfacility.com
DTSTAMP:20260424T044058Z
CREATED:20260424T044058Z
DTSTART:20220504T180000Z
DTEND:20220504T184500Z
LOCATION:4 Mark Hughes
CONTACT:
SUMMARY:Not The Seam Team VS. Capital Decorators B
DESCRIPTION:League Name: Cardiff Wednesday League 2\nGame Type: Regular\nGa
 me Status: Complete\nHome Team: Not The Seam Team\nAway Team: Capital Deco
 rators B\nHome Score: 5\nAway Score: 12
END:VEVENT
BEGIN:VEVENT
UID:14223851@ezleagues.ezfacility.com
DTSTAMP:20260424T044058Z
CREATED:20260424T044058Z
DTSTART:20220511T184500Z
DTEND:20220511T193000Z
LOCATION:4 Mark Hughes
CONTACT:
SUMMARY:Not The Seam Team VS. What You Doing Step Mo
DESCRIPTION:League Name: Cardiff Wednesday League 2\nGame Type: Regular\nGa
 me Status: Complete\nHome Team: Not The Seam Team\nAway Team: What You Doi
 ng Step Mo\nHome Score: 10\nAway Score: 3
END:VEVENT
END:VCALENDAR
