BEGIN:VCALENDAR
VERSION:2.0
PRODID:-//EZFacility.com, Inc.//EZL 2.5.5.28621
BEGIN:VEVENT
UID:14223855@ezleagues.ezfacility.com
DTSTAMP:20260424T095533Z
CREATED:20260424T095533Z
DTSTART:20220202T211500Z
DTEND:20220202T220000Z
LOCATION:5 Neville Southall
CONTACT:
SUMMARY:Cegin Oriel FC VS. Where Divock Is Origi
DESCRIPTION:League Name: Cardiff Wednesday League 3\nGame Type: Regular\nGa
 me Status: Complete\nHome Team: Cegin Oriel FC\nAway Team: Where Divock Is
  Origi\nHome Score: 6\nAway Score: 2
END:VEVENT
BEGIN:VEVENT
UID:14223858@ezleagues.ezfacility.com
DTSTAMP:20260424T095533Z
CREATED:20260424T095533Z
DTSTART:20220209T194500Z
DTEND:20220209T203000Z
LOCATION:5 Neville Southall
CONTACT:
SUMMARY:Where Divock Is Origi VS. Cardiff Hibs
DESCRIPTION:League Name: Cardiff Wednesday League 3\nGame Type: Regular\nGa
 me Status: Complete\nHome Team: Where Divock Is Origi\nAway Team: Cardiff 
 Hibs\nHome Score: 7\nAway Score: 5
END:VEVENT
BEGIN:VEVENT
UID:14223861@ezleagues.ezfacility.com
DTSTAMP:20260424T095533Z
CREATED:20260424T095533Z
DTSTART:20220216T203000Z
DTEND:20220216T211500Z
LOCATION:1 John Charles
CONTACT:
SUMMARY:Where Divock Is Origi VS. Parsons FC
DESCRIPTION:League Name: Cardiff Wednesday League 3\nGame Type: Regular\nGa
 me Status: Complete\nHome Team: Where Divock Is Origi\nAway Team: Parsons 
 FC\nHome Score: 2\nAway Score: 17
END:VEVENT
BEGIN:VEVENT
UID:14223863@ezleagues.ezfacility.com
DTSTAMP:20260424T095533Z
CREATED:20260424T095533Z
DTSTART:20220223T203000Z
DTEND:20220223T211500Z
LOCATION:5 Neville Southall
CONTACT:
SUMMARY:The Refresh Effect VS. Where Divock Is Origi
DESCRIPTION:League Name: Cardiff Wednesday League 3\nGame Type: Regular\nGa
 me Status: Complete\nHome Team: The Refresh Effect\nAway Team: Where Divoc
 k Is Origi\nHome Score: 7\nAway Score: 7
END:VEVENT
BEGIN:VEVENT
UID:14223865@ezleagues.ezfacility.com
DTSTAMP:20260424T095533Z
CREATED:20260424T095533Z
DTSTART:20220302T203000Z
DTEND:20220302T211500Z
LOCATION:5 Neville Southall
CONTACT:
SUMMARY:Paris Ganja Man VS. Where Divock Is Origi
DESCRIPTION:League Name: Cardiff Wednesday League 3\nGame Type: Regular\nGa
 me Status: Complete\nHome Team: Paris Ganja Man\nAway Team: Where Divock I
 s Origi\nHome Score: 6\nAway Score: 8
END:VEVENT
BEGIN:VEVENT
UID:14223870@ezleagues.ezfacility.com
DTSTAMP:20260424T095533Z
CREATED:20260424T095533Z
DTSTART:20220309T211500Z
DTEND:20220309T220000Z
LOCATION:5 Neville Southall
CONTACT:
SUMMARY:Where Divock Is Origi VS. Cegin Oriel FC
DESCRIPTION:League Name: Cardiff Wednesday League 3\nGame Type: Regular\nGa
 me Status: Complete\nHome Team: Where Divock Is Origi\nAway Team: Cegin Or
 iel FC\nHome Score: 4\nAway Score: 4
END:VEVENT
BEGIN:VEVENT
UID:14223873@ezleagues.ezfacility.com
DTSTAMP:20260424T095533Z
CREATED:20260424T095533Z
DTSTART:20220316T130000Z
DTEND:20220316T134500Z
LOCATION:6 Joey Jones
CONTACT:
SUMMARY:Cardiff Hibs VS. Where Divock Is Origi
DESCRIPTION:League Name: Cardiff Wednesday League 3\nGame Type: Regular\nGa
 me Status: Complete\nHome Team: Cardiff Hibs\nAway Team: Where Divock Is O
 rigi\nHome Score: 0\nAway Score: 10
END:VEVENT
BEGIN:VEVENT
UID:14223876@ezleagues.ezfacility.com
DTSTAMP:20260424T095533Z
CREATED:20260424T095533Z
DTSTART:20220323T130000Z
DTEND:20220323T134500Z
LOCATION:5 Neville Southall
CONTACT:
SUMMARY:Parsons FC VS. Where Divock Is Origi
DESCRIPTION:League Name: Cardiff Wednesday League 3\nGame Type: Regular\nGa
 me Status: Complete\nHome Team: Parsons FC\nAway Team: Where Divock Is Ori
 gi\nHome Score: 10\nAway Score: 0
END:VEVENT
BEGIN:VEVENT
UID:14223878@ezleagues.ezfacility.com
DTSTAMP:20260424T095533Z
CREATED:20260424T095533Z
DTSTART:20220330T201500Z
DTEND:20220330T210000Z
LOCATION:4 Mark Hughes
CONTACT:
SUMMARY:Where Divock Is Origi VS. The Refresh Effect
DESCRIPTION:League Name: Cardiff Wednesday League 3\nGame Type: Regular\nGa
 me Status: Complete\nHome Team: Where Divock Is Origi\nAway Team: The Refr
 esh Effect\nHome Score: 0\nAway Score: 10
END:VEVENT
BEGIN:VEVENT
UID:14223880@ezleagues.ezfacility.com
DTSTAMP:20260424T095533Z
CREATED:20260424T095533Z
DTSTART:20220406T201500Z
DTEND:20220406T210000Z
LOCATION:1 John Charles
CONTACT:
SUMMARY:Where Divock Is Origi VS. Paris Ganja Man
DESCRIPTION:League Name: Cardiff Wednesday League 3\nGame Type: Regular\nGa
 me Status: Complete\nHome Team: Where Divock Is Origi\nAway Team: Paris Ga
 nja Man\nHome Score: 0\nAway Score: 10
END:VEVENT
BEGIN:VEVENT
UID:14223885@ezleagues.ezfacility.com
DTSTAMP:20260424T095533Z
CREATED:20260424T095533Z
DTSTART:20220413T184500Z
DTEND:20220413T193000Z
LOCATION:6 Joey Jones
CONTACT:
SUMMARY:Where Divock Is Origi VS. Cegin Oriel FC
DESCRIPTION:League Name: Cardiff Wednesday League 3\nGame Type: Regular\nGa
 me Status: Complete\nHome Team: Where Divock Is Origi\nAway Team: Cegin Or
 iel FC\nHome Score: 1\nAway Score: 8
END:VEVENT
BEGIN:VEVENT
UID:14223888@ezleagues.ezfacility.com
DTSTAMP:20260424T095533Z
CREATED:20260424T095533Z
DTSTART:20220420T201500Z
DTEND:20220420T210000Z
LOCATION:5 Neville Southall
CONTACT:
SUMMARY:Cardiff Hibs VS. Where Divock Is Origi
DESCRIPTION:League Name: Cardiff Wednesday League 3\nGame Type: Regular\nGa
 me Status: Complete\nHome Team: Cardiff Hibs\nAway Team: Where Divock Is O
 rigi\nHome Score: 0\nAway Score: 0
END:VEVENT
BEGIN:VEVENT
UID:14223891@ezleagues.ezfacility.com
DTSTAMP:20260424T095533Z
CREATED:20260424T095533Z
DTSTART:20220427T184500Z
DTEND:20220427T193000Z
LOCATION:5 Neville Southall
CONTACT:
SUMMARY:Parsons FC VS. Where Divock Is Origi
DESCRIPTION:League Name: Cardiff Wednesday League 3\nGame Type: Regular\nGa
 me Status: Complete\nHome Team: Parsons FC\nAway Team: Where Divock Is Ori
 gi\nHome Score: 4\nAway Score: 8
END:VEVENT
BEGIN:VEVENT
UID:14223893@ezleagues.ezfacility.com
DTSTAMP:20260424T095533Z
CREATED:20260424T095533Z
DTSTART:20220504T201500Z
DTEND:20220504T210000Z
LOCATION:5 Neville Southall
CONTACT:
SUMMARY:Where Divock Is Origi VS. The Refresh Effect
DESCRIPTION:League Name: Cardiff Wednesday League 3\nGame Type: Regular\nGa
 me Status: Complete\nHome Team: Where Divock Is Origi\nAway Team: The Refr
 esh Effect\nHome Score: 3\nAway Score: 6
END:VEVENT
BEGIN:VEVENT
UID:14223895@ezleagues.ezfacility.com
DTSTAMP:20260424T095533Z
CREATED:20260424T095533Z
DTSTART:20220511T193000Z
DTEND:20220511T201500Z
LOCATION:1 John Charles
CONTACT:
SUMMARY:Where Divock Is Origi VS. Paris Ganja Man
DESCRIPTION:League Name: Cardiff Wednesday League 3\nGame Type: Regular\nGa
 me Status: Complete\nHome Team: Where Divock Is Origi\nAway Team: Paris Ga
 nja Man\nHome Score: 7\nAway Score: 3
END:VEVENT
END:VCALENDAR
