BEGIN:VCALENDAR
VERSION:2.0
PRODID:-//EZFacility.com, Inc.//EZL 2.5.5.28621
BEGIN:VEVENT
UID:14235309@ezleagues.ezfacility.com
DTSTAMP:20260424T115139Z
CREATED:20260424T115139Z
DTSTART:20220410T180000Z
DTEND:20220410T190000Z
LOCATION:Westlake High School
CONTACT:
SUMMARY:Westlake Team 2 VS. Avon Team 2
DESCRIPTION:League Name: NOLL Spring Season-Boys-Grades 3/4-Evolve-Blue Div
 ision\nGame Type: Regular\nGame Status: Complete\nHome Team: Westlake Team
  2\nAway Team: Avon Team 2\nHome Score: 2\nAway Score: 15
END:VEVENT
BEGIN:VEVENT
UID:14210413@ezleagues.ezfacility.com
DTSTAMP:20260424T115139Z
CREATED:20260424T115139Z
DTSTART:20220413T230000Z
DTEND:20220414T000000Z
LOCATION:Bay Village - Bradley Park
CONTACT:
SUMMARY:Bay Village Team 2 VS. Avon Team 2
DESCRIPTION:League Name: NOLL Spring Season-Boys-Grades 3/4-Evolve-Blue Div
 ision\nGame Type: Regular\nGame Status: Complete\nHome Team: Bay Village T
 eam 2\nAway Team: Avon Team 2\nHome Score: 4\nAway Score: 14
END:VEVENT
BEGIN:VEVENT
UID:14210402@ezleagues.ezfacility.com
DTSTAMP:20260424T115139Z
CREATED:20260424T115139Z
DTSTART:20220428T213000Z
DTEND:20220428T223000Z
LOCATION:Avon - Veterans Park
CONTACT:
SUMMARY:Avon Team 2 VS. Avon Lake Team 2
DESCRIPTION:League Name: NOLL Spring Season-Boys-Grades 3/4-Evolve-Blue Div
 ision\nGame Type: Regular\nGame Status: Complete\nHome Team: Avon Team 2\n
 Away Team: Avon Lake Team 2\nHome Score: 9\nAway Score: 4
END:VEVENT
BEGIN:VEVENT
UID:14299922@ezleagues.ezfacility.com
DTSTAMP:20260424T115139Z
CREATED:20260424T115139Z
DTSTART:20220430T160000Z
DTEND:20220430T170000Z
LOCATION:Olmsted Falls Middle School
CONTACT:
SUMMARY:Olmsted Falls Team 2 VS. Avon Team 2
DESCRIPTION:League Name: NOLL Spring Season-Boys-Grades 3/4-Evolve-Blue Div
 ision\nGame Type: Regular\nGame Status: Complete\nHome Team: Olmsted Falls
  Team 2\nAway Team: Avon Team 2\nHome Score: 3\nAway Score: 16
END:VEVENT
BEGIN:VEVENT
UID:14257308@ezleagues.ezfacility.com
DTSTAMP:20260424T115139Z
CREATED:20260424T115139Z
DTSTART:20220501T170000Z
DTEND:20220501T180000Z
LOCATION:Westlake High School
CONTACT:
SUMMARY:Westlake Team 2 VS. Avon Team 2
DESCRIPTION:League Name: NOLL Spring Season-Boys-Grades 3/4-Evolve-Blue Div
 ision\nGame Type: Regular\nGame Status: Complete\nHome Team: Westlake Team
  2\nAway Team: Avon Team 2\nHome Score: 1\nAway Score: 15
END:VEVENT
BEGIN:VEVENT
UID:14210361@ezleagues.ezfacility.com
DTSTAMP:20260424T115139Z
CREATED:20260424T115139Z
DTSTART:20220507T143000Z
DTEND:20220507T153000Z
LOCATION:Avon - Veterans Park
CONTACT:
SUMMARY:Avon Team 2 VS. Strongsville Team 2
DESCRIPTION:League Name: NOLL Spring Season-Boys-Grades 3/4-Evolve-Blue Div
 ision\nGame Type: Regular\nGame Status: Complete\nHome Team: Avon Team 2\n
 Away Team: Strongsville Team 2\nHome Score: 15\nAway Score: 4
END:VEVENT
BEGIN:VEVENT
UID:14345358@ezleagues.ezfacility.com
DTSTAMP:20260424T115139Z
CREATED:20260424T115139Z
DTSTART:20220512T223000Z
DTEND:20220512T233000Z
LOCATION:Avon - Veterans Park
CONTACT:
SUMMARY:Avon Team 2 VS. Rocky River Team 2
DESCRIPTION:League Name: NOLL Spring Season-Boys-Grades 3/4-Evolve-Blue Div
 ision\nGame Type: Regular\nGame Status: Complete\nHome Team: Avon Team 2\n
 Away Team: Rocky River Team 2\nHome Score: 7\nAway Score: 9
END:VEVENT
BEGIN:VEVENT
UID:14210376@ezleagues.ezfacility.com
DTSTAMP:20260424T115139Z
CREATED:20260424T115139Z
DTSTART:20220515T190000Z
DTEND:20220515T200000Z
LOCATION:St. Edwards HS
CONTACT:
SUMMARY:Lakewood Saints Team 2 VS. Avon Team 2
DESCRIPTION:League Name: NOLL Spring Season-Boys-Grades 3/4-Evolve-Blue Div
 ision\nGame Type: Regular\nGame Status: Complete\nHome Team: Lakewood Sain
 ts Team 2\nAway Team: Avon Team 2\nHome Score: 8\nAway Score: 3
END:VEVENT
BEGIN:VEVENT
UID:14210418@ezleagues.ezfacility.com
DTSTAMP:20260424T115139Z
CREATED:20260424T115139Z
DTSTART:20220526T223000Z
DTEND:20220526T233000Z
LOCATION:Avon - Veterans Park
CONTACT:
SUMMARY:Avon Team 2 VS. Bay Village Team 2
DESCRIPTION:League Name: NOLL Spring Season-Boys-Grades 3/4-Evolve-Blue Div
 ision\nGame Type: Regular\nGame Status: Complete\nHome Team: Avon Team 2\n
 Away Team: Bay Village Team 2\nHome Score: 10\nAway Score: 6
END:VEVENT
END:VCALENDAR
