BEGIN:VCALENDAR
VERSION:2.0
PRODID:-//EZFacility.com, Inc.//EZL 2.5.5.28621
BEGIN:VEVENT
UID:14231266@ezleagues.ezfacility.com
DTSTAMP:20260422T035020Z
CREATED:20260422T035020Z
DTSTART:20220409T180000Z
DTEND:20220409T190000Z
LOCATION:Hudson Middle School
CONTACT:
SUMMARY:Hudson Team 3 VS. Kenston Team 1
DESCRIPTION:League Name: NOLL Spring Season-Boys-Grades 3/4-Elite\nGame Typ
 e: Regular\nGame Status: Complete\nHome Team: Hudson Team 3\nAway Team: Ke
 nston Team 1\nHome Score: 3\nAway Score: 5
END:VEVENT
BEGIN:VEVENT
UID:14205629@ezleagues.ezfacility.com
DTSTAMP:20260422T035020Z
CREATED:20260422T035020Z
DTSTART:20220410T140000Z
DTEND:20220410T150000Z
LOCATION:Hudson High School
CONTACT:
SUMMARY:Hudson Team 3 VS. Rocky River Team 2
DESCRIPTION:League Name: NOLL Spring Season-Boys-Grades 3/4-Elite\nGame Typ
 e: Regular\nGame Status: Complete\nHome Team: Hudson Team 3\nAway Team: Ro
 cky River Team 2\nHome Score: 0\nAway Score: 0
END:VEVENT
BEGIN:VEVENT
UID:14231350@ezleagues.ezfacility.com
DTSTAMP:20260422T035020Z
CREATED:20260422T035020Z
DTSTART:20220423T170000Z
DTEND:20220423T180000Z
LOCATION:Wadsworth - Old Bird Park
CONTACT:
SUMMARY:Wadsworth Team 1 VS. Hudson Team 3
DESCRIPTION:League Name: NOLL Spring Season-Boys-Grades 3/4-Elite\nGame Typ
 e: Regular\nGame Status: Complete\nHome Team: Wadsworth Team 1\nAway Team:
  Hudson Team 3\nHome Score: 9\nAway Score: 0
END:VEVENT
BEGIN:VEVENT
UID:14231353@ezleagues.ezfacility.com
DTSTAMP:20260422T035020Z
CREATED:20260422T035020Z
DTSTART:20220428T220000Z
DTEND:20220428T230000Z
LOCATION:Hudson Middle School
CONTACT:
SUMMARY:Hudson Team 3 VS. Brecksville Broadview Heights Team 1
DESCRIPTION:League Name: NOLL Spring Season-Boys-Grades 3/4-Elite\nGame Typ
 e: Regular\nGame Status: Complete\nHome Team: Hudson Team 3\nAway Team: Br
 ecksville Broadview Heights Team 1\nHome Score: 1\nAway Score: 10
END:VEVENT
BEGIN:VEVENT
UID:14231365@ezleagues.ezfacility.com
DTSTAMP:20260422T035020Z
CREATED:20260422T035020Z
DTSTART:20220502T230000Z
DTEND:20220503T000000Z
LOCATION:Hudson Middle School
CONTACT:
SUMMARY:Hudson Team 3 VS. Copley Team 2
DESCRIPTION:League Name: NOLL Spring Season-Boys-Grades 3/4-Elite\nGame Typ
 e: Regular\nGame Status: Pending\nHome Team: Hudson Team 3\nAway Team: Cop
 ley Team 2\n
END:VEVENT
BEGIN:VEVENT
UID:14234673@ezleagues.ezfacility.com
DTSTAMP:20260422T035020Z
CREATED:20260422T035020Z
DTSTART:20220512T230000Z
DTEND:20220513T000000Z
LOCATION:Hudson - McDowell School
CONTACT:
SUMMARY:Hudson Team 3 VS. Shaker Hts Team 2
DESCRIPTION:League Name: NOLL Spring Season-Boys-Grades 3/4-Elite\nGame Typ
 e: Regular\nGame Status: Pending\nHome Team: Hudson Team 3\nAway Team: Sha
 ker Hts Team 2\n
END:VEVENT
BEGIN:VEVENT
UID:14226468@ezleagues.ezfacility.com
DTSTAMP:20260422T035020Z
CREATED:20260422T035020Z
DTSTART:20220515T200000Z
DTEND:20220515T210000Z
LOCATION:Ranger High Tech Academy
CONTACT:
SUMMARY:N. Ridgeville Team 2 VS. Hudson Team 3
DESCRIPTION:League Name: NOLL Spring Season-Boys-Grades 3/4-Elite\nGame Typ
 e: Regular\nGame Status: Complete\nHome Team: N. Ridgeville Team 2\nAway T
 eam: Hudson Team 3\nHome Score: 6\nAway Score: 9
END:VEVENT
BEGIN:VEVENT
UID:14231250@ezleagues.ezfacility.com
DTSTAMP:20260422T035020Z
CREATED:20260422T035020Z
DTSTART:20220519T220000Z
DTEND:20220519T230000Z
LOCATION:Brunswick High School
CONTACT:
SUMMARY:Brunswick Team 1 VS. Hudson Team 3
DESCRIPTION:League Name: NOLL Spring Season-Boys-Grades 3/4-Elite\nGame Typ
 e: Regular\nGame Status: Complete\nHome Team: Brunswick Team 1\nAway Team:
  Hudson Team 3\nHome Score: 14\nAway Score: 5
END:VEVENT
BEGIN:VEVENT
UID:14231249@ezleagues.ezfacility.com
DTSTAMP:20260422T035020Z
CREATED:20260422T035020Z
DTSTART:20220526T220000Z
DTEND:20220526T230000Z
LOCATION:Hudson - McDowell School
CONTACT:
SUMMARY:Hudson Team 3 VS. Copley Team 1
DESCRIPTION:League Name: NOLL Spring Season-Boys-Grades 3/4-Elite\nGame Typ
 e: Regular\nGame Status: Pending\nHome Team: Hudson Team 3\nAway Team: Cop
 ley Team 1\n
END:VEVENT
END:VCALENDAR
