BEGIN:VCALENDAR
VERSION:2.0
PRODID:-//EZFacility.com, Inc.//EZL 2.5.5.28621
BEGIN:VEVENT
UID:14232107@ezleagues.ezfacility.com
DTSTAMP:20260422T170459Z
CREATED:20260422T170459Z
DTSTART:20220205T010000Z
DTEND:20220205T020000Z
LOCATION:Jessup Premier Field #1
CONTACT:
SUMMARY:Soccer Chicks - black VS. Union Azteca - black
DESCRIPTION:League Name: Fri Moms D3\nGame Type: Regular\nGame Status: Comp
 lete\nHome Team: Soccer Chicks - black\nAway Team: Union Azteca - black\nH
 ome Score: 2\nAway Score: 7
END:VEVENT
BEGIN:VEVENT
UID:14232113@ezleagues.ezfacility.com
DTSTAMP:20260422T170459Z
CREATED:20260422T170459Z
DTSTART:20220212T020000Z
DTEND:20220212T030000Z
LOCATION:Jessup Premier Field #2
CONTACT:
SUMMARY:Fire Balls - red VS. Soccer Chicks - black
DESCRIPTION:League Name: Fri Moms D3\nGame Type: Regular\nGame Status: Comp
 lete\nHome Team: Fire Balls - red\nAway Team: Soccer Chicks - black\nHome 
 Score: 2\nAway Score: 5
END:VEVENT
BEGIN:VEVENT
UID:14232121@ezleagues.ezfacility.com
DTSTAMP:20260422T170459Z
CREATED:20260422T170459Z
DTSTART:20220219T010000Z
DTEND:20220219T020000Z
LOCATION:Jessup Premier Field #1
CONTACT:
SUMMARY:Margarita Mamas - neon green VS. Soccer Chicks - black
DESCRIPTION:League Name: Fri Moms D3\nGame Type: Regular\nGame Status: Comp
 lete\nHome Team: Margarita Mamas - neon green\nAway Team: Soccer Chicks - 
 black\nHome Score: 4\nAway Score: 6
END:VEVENT
BEGIN:VEVENT
UID:14232129@ezleagues.ezfacility.com
DTSTAMP:20260422T170459Z
CREATED:20260422T170459Z
DTSTART:20220226T030000Z
DTEND:20220226T040000Z
LOCATION:Jessup Premier Field #2
CONTACT:
SUMMARY:Freestate Mamas - white VS. Soccer Chicks - black
DESCRIPTION:League Name: Fri Moms D3\nGame Type: Regular\nGame Status: Comp
 lete\nHome Team: Freestate Mamas - white\nAway Team: Soccer Chicks - black
 \nHome Score: 10\nAway Score: 4
END:VEVENT
BEGIN:VEVENT
UID:14232136@ezleagues.ezfacility.com
DTSTAMP:20260422T170459Z
CREATED:20260422T170459Z
DTSTART:20220305T020000Z
DTEND:20220305T030000Z
LOCATION:Jessup Premier Field #1
CONTACT:
SUMMARY:PHOENIX - maroon VS. Soccer Chicks - black
DESCRIPTION:League Name: Fri Moms D3\nGame Type: Regular\nGame Status: Comp
 lete\nHome Team: PHOENIX - maroon\nAway Team: Soccer Chicks - black\nHome 
 Score: 6\nAway Score: 1
END:VEVENT
BEGIN:VEVENT
UID:14232142@ezleagues.ezfacility.com
DTSTAMP:20260422T170459Z
CREATED:20260422T170459Z
DTSTART:20220312T020000Z
DTEND:20220312T030000Z
LOCATION:Jessup Premier Field #2
CONTACT:
SUMMARY:Union Azteca - black VS. Soccer Chicks - black
DESCRIPTION:League Name: Fri Moms D3\nGame Type: Regular\nGame Status: Comp
 lete\nHome Team: Union Azteca - black\nAway Team: Soccer Chicks - black\nH
 ome Score: 9\nAway Score: 1
END:VEVENT
BEGIN:VEVENT
UID:14232148@ezleagues.ezfacility.com
DTSTAMP:20260422T170459Z
CREATED:20260422T170459Z
DTSTART:20220318T230000Z
DTEND:20220319T000000Z
LOCATION:Jessup Premier Field #1
CONTACT:
SUMMARY:Soccer Chicks - black VS. Fire Balls - red
DESCRIPTION:League Name: Fri Moms D3\nGame Type: Regular\nGame Status: Comp
 lete\nHome Team: Soccer Chicks - black\nAway Team: Fire Balls - red\nHome 
 Score: 2\nAway Score: 4
END:VEVENT
BEGIN:VEVENT
UID:14232156@ezleagues.ezfacility.com
DTSTAMP:20260422T170459Z
CREATED:20260422T170459Z
DTSTART:20220325T230000Z
DTEND:20220326T000000Z
LOCATION:Jessup Premier Field #2
CONTACT:
SUMMARY:Soccer Chicks - black VS. Margarita Mamas - neon green
DESCRIPTION:League Name: Fri Moms D3\nGame Type: Regular\nGame Status: Comp
 lete\nHome Team: Soccer Chicks - black\nAway Team: Margarita Mamas - neon 
 green\nHome Score: 3\nAway Score: 1
END:VEVENT
BEGIN:VEVENT
UID:14232164@ezleagues.ezfacility.com
DTSTAMP:20260422T170459Z
CREATED:20260422T170459Z
DTSTART:20220402T000000Z
DTEND:20220402T010000Z
LOCATION:Jessup Premier Field #1
CONTACT:
SUMMARY:Soccer Chicks - black VS. Freestate Mamas - white
DESCRIPTION:League Name: Fri Moms D3\nGame Type: Regular\nGame Status: Comp
 lete\nHome Team: Soccer Chicks - black\nAway Team: Freestate Mamas - white
 \nHome Score: 4\nAway Score: 4
END:VEVENT
END:VCALENDAR
