BEGIN:VCALENDAR
VERSION:2.0
PRODID:-//EZFacility.com, Inc.//EZL 2.5.5.28621
BEGIN:VEVENT
UID:14237937@ezleagues.ezfacility.com
DTSTAMP:20260424T082057Z
CREATED:20260424T082057Z
DTSTART:20220212T220000Z
DTEND:20220212T224800Z
LOCATION:Harmans Premier Field #4
CONTACT:
SUMMARY:2013 PSC Tigers VS. 2014 HYS Cyclones
DESCRIPTION:League Name: Youth (WINTER 2) 2022 SD2 SAT/SUN 2013 Girls Scrim
 \nGame Type: Regular\nGame Status: Complete\nHome Team: 2013 PSC Tigers\nA
 way Team: 2014 HYS Cyclones\nHome Score: 8\nAway Score: 0
END:VEVENT
BEGIN:VEVENT
UID:14237938@ezleagues.ezfacility.com
DTSTAMP:20260424T082057Z
CREATED:20260424T082057Z
DTSTART:20220226T220000Z
DTEND:20220226T224800Z
LOCATION:Harmans Premier Field #5
CONTACT:
SUMMARY:2014 HYS Cyclones VS. 2013 PSC Tigers
DESCRIPTION:League Name: Youth (WINTER 2) 2022 SD2 SAT/SUN 2013 Girls Scrim
 \nGame Type: Regular\nGame Status: Complete\nHome Team: 2014 HYS Cyclones\
 nAway Team: 2013 PSC Tigers\nHome Score: 0\nAway Score: 6
END:VEVENT
BEGIN:VEVENT
UID:14237940@ezleagues.ezfacility.com
DTSTAMP:20260424T082057Z
CREATED:20260424T082057Z
DTSTART:20220313T120000Z
DTEND:20220313T124800Z
LOCATION:Harmans Premier Field #5
CONTACT:
SUMMARY:2013 PSC Tigers VS. 2014 HYS Cyclones
DESCRIPTION:League Name: Youth (WINTER 2) 2022 SD2 SAT/SUN 2013 Girls Scrim
 \nGame Type: Regular\nGame Status: Complete\nHome Team: 2013 PSC Tigers\nA
 way Team: 2014 HYS Cyclones\nHome Score: 10\nAway Score: 2
END:VEVENT
END:VCALENDAR
