BEGIN:VCALENDAR
VERSION:2.0
PRODID:-//EZFacility.com, Inc.//EZL 2.5.5.28621
BEGIN:VEVENT
UID:14250561@ezleagues.ezfacility.com
DTSTAMP:20260426T033720Z
CREATED:20260426T033720Z
DTSTART:20220303T013000Z
DTEND:20220303T023000Z
LOCATION:Field 2B
CONTACT:
SUMMARY:Aguilas FC VS. Mercy Med FC
DESCRIPTION:League Name: 2022 - Spring - Coed - Tier 2\nGame Type: Regular\
 nGame Status: Complete\nHome Team: Aguilas FC\nAway Team: Mercy Med FC\nHo
 me Score: 5\nAway Score: 7
END:VEVENT
BEGIN:VEVENT
UID:14250564@ezleagues.ezfacility.com
DTSTAMP:20260426T033720Z
CREATED:20260426T033720Z
DTSTART:20220310T013000Z
DTEND:20220310T023000Z
LOCATION:Field 2D
CONTACT:
SUMMARY:Aguilas FC VS. Red Star FC
DESCRIPTION:League Name: 2022 - Spring - Coed - Tier 2\nGame Type: Regular\
 nGame Status: Complete\nHome Team: Aguilas FC\nAway Team: Red Star FC\nHom
 e Score: 6\nAway Score: 7
END:VEVENT
BEGIN:VEVENT
UID:14250567@ezleagues.ezfacility.com
DTSTAMP:20260426T033720Z
CREATED:20260426T033720Z
DTSTART:20220322T003000Z
DTEND:20220322T013000Z
LOCATION:1C
CONTACT:
SUMMARY:Aguilas FC VS. Inter FC
DESCRIPTION:League Name: 2022 - Spring - Coed - Tier 2\nGame Type: Regular\
 nGame Status: Complete\nHome Team: Aguilas FC\nAway Team: Inter FC\nHome S
 core: 11\nAway Score: 9
END:VEVENT
BEGIN:VEVENT
UID:14250570@ezleagues.ezfacility.com
DTSTAMP:20260426T033720Z
CREATED:20260426T033720Z
DTSTART:20220324T003000Z
DTEND:20220324T013000Z
LOCATION:Field 2A
CONTACT:
SUMMARY:Aguilas FC VS. United FC
DESCRIPTION:League Name: 2022 - Spring - Coed - Tier 2\nGame Type: Regular\
 nGame Status: Complete\nHome Team: Aguilas FC\nAway Team: United FC\nHome 
 Score: 3\nAway Score: 1
END:VEVENT
BEGIN:VEVENT
UID:14250573@ezleagues.ezfacility.com
DTSTAMP:20260426T033720Z
CREATED:20260426T033720Z
DTSTART:20220331T003000Z
DTEND:20220331T013000Z
LOCATION:Field 2C
CONTACT:
SUMMARY:Aguilas FC VS. Hammer Heads
DESCRIPTION:League Name: 2022 - Spring - Coed - Tier 2\nGame Type: Regular\
 nGame Status: Complete\nHome Team: Aguilas FC\nAway Team: Hammer Heads\nHo
 me Score: 5\nAway Score: 6
END:VEVENT
BEGIN:VEVENT
UID:14250579@ezleagues.ezfacility.com
DTSTAMP:20260426T033720Z
CREATED:20260426T033720Z
DTSTART:20220414T003000Z
DTEND:20220414T013000Z
LOCATION:Field 2B
CONTACT:
SUMMARY:Red Star FC VS. Aguilas FC
DESCRIPTION:League Name: 2022 - Spring - Coed - Tier 2\nGame Type: Regular\
 nGame Status: Complete\nHome Team: Red Star FC\nAway Team: Aguilas FC\nHom
 e Score: 4\nAway Score: 3
END:VEVENT
BEGIN:VEVENT
UID:14250582@ezleagues.ezfacility.com
DTSTAMP:20260426T033720Z
CREATED:20260426T033720Z
DTSTART:20220421T003000Z
DTEND:20220421T013000Z
LOCATION:Field 2D
CONTACT:
SUMMARY:Inter FC VS. Aguilas FC
DESCRIPTION:League Name: 2022 - Spring - Coed - Tier 2\nGame Type: Regular\
 nGame Status: Complete\nHome Team: Inter FC\nAway Team: Aguilas FC\nHome S
 core: 4\nAway Score: 2
END:VEVENT
BEGIN:VEVENT
UID:14250585@ezleagues.ezfacility.com
DTSTAMP:20260426T033720Z
CREATED:20260426T033720Z
DTSTART:20220428T003000Z
DTEND:20220428T013000Z
LOCATION:Field 2C
CONTACT:
SUMMARY:United FC VS. Aguilas FC
DESCRIPTION:League Name: 2022 - Spring - Coed - Tier 2\nGame Type: Regular\
 nGame Status: Complete\nHome Team: United FC\nAway Team: Aguilas FC\nHome 
 Score: 5\nAway Score: 6
END:VEVENT
BEGIN:VEVENT
UID:14250588@ezleagues.ezfacility.com
DTSTAMP:20260426T033720Z
CREATED:20260426T033720Z
DTSTART:20220505T003000Z
DTEND:20220505T013000Z
LOCATION:Field 2D
CONTACT:
SUMMARY:Hammer Heads VS. Aguilas FC
DESCRIPTION:League Name: 2022 - Spring - Coed - Tier 2\nGame Type: Regular\
 nGame Status: Complete\nHome Team: Hammer Heads\nAway Team: Aguilas FC\nHo
 me Score: 3\nAway Score: 2
END:VEVENT
BEGIN:VEVENT
UID:14250576@ezleagues.ezfacility.com
DTSTAMP:20260426T033720Z
CREATED:20260426T033720Z
DTSTART:20220512T003000Z
DTEND:20220512T013000Z
LOCATION:Field 2A
CONTACT:
SUMMARY:Mercy Med FC VS. Aguilas FC
DESCRIPTION:League Name: 2022 - Spring - Coed - Tier 2\nGame Type: Regular\
 nGame Status: Complete\nHome Team: Mercy Med FC\nAway Team: Aguilas FC\nHo
 me Score: 5\nAway Score: 4
END:VEVENT
END:VCALENDAR
