BEGIN:VCALENDAR
VERSION:2.0
PRODID:-//EZFacility.com, Inc.//EZL 2.5.5.28621
BEGIN:VEVENT
UID:14260640@ezleagues.ezfacility.com
DTSTAMP:20260424T044412Z
CREATED:20260424T044412Z
DTSTART:20220224T023500Z
DTEND:20220224T033500Z
LOCATION:Westlake Full Field
CONTACT:
SUMMARY:Doge FC VS. Al Ahly
DESCRIPTION:League Name: Men's Open - Wednesday Intermediate - Blue Divisio
 n - Winter II\nGame Type: Regular\nGame Status: Complete\nHome Team: Doge 
 FC\nAway Team: Al Ahly\nHome Score: 5\nAway Score: 5
END:VEVENT
BEGIN:VEVENT
UID:14260646@ezleagues.ezfacility.com
DTSTAMP:20260424T044412Z
CREATED:20260424T044412Z
DTSTART:20220310T033500Z
DTEND:20220310T043500Z
LOCATION:Westlake Full Field
CONTACT:
SUMMARY:FC Platense VS. Doge FC
DESCRIPTION:League Name: Men's Open - Wednesday Intermediate - Blue Divisio
 n - Winter II\nGame Type: Regular\nGame Status: Complete\nHome Team: FC Pl
 atense\nAway Team: Doge FC\nHome Score: 8\nAway Score: 8
END:VEVENT
BEGIN:VEVENT
UID:14260651@ezleagues.ezfacility.com
DTSTAMP:20260424T044412Z
CREATED:20260424T044412Z
DTSTART:20220317T023500Z
DTEND:20220317T033500Z
LOCATION:Rocky River 3/4 Yellow
CONTACT:
SUMMARY:Doge FC VS. Team A
DESCRIPTION:League Name: Men's Open - Wednesday Intermediate - Blue Divisio
 n - Winter II\nGame Type: Regular\nGame Status: Complete\nHome Team: Doge 
 FC\nAway Team: Team A\nHome Score: 4\nAway Score: 5
END:VEVENT
BEGIN:VEVENT
UID:14260656@ezleagues.ezfacility.com
DTSTAMP:20260424T044412Z
CREATED:20260424T044412Z
DTSTART:20220324T013500Z
DTEND:20220324T023500Z
LOCATION:Rocky River 3/4 Yellow
CONTACT:
SUMMARY:Sporting Unathletic VS. Doge FC
DESCRIPTION:League Name: Men's Open - Wednesday Intermediate - Blue Divisio
 n - Winter II\nGame Type: Regular\nGame Status: Complete\nHome Team: Sport
 ing Unathletic\nAway Team: Doge FC\nHome Score: 2\nAway Score: 14
END:VEVENT
BEGIN:VEVENT
UID:14260661@ezleagues.ezfacility.com
DTSTAMP:20260424T044412Z
CREATED:20260424T044412Z
DTSTART:20220331T020500Z
DTEND:20220331T030500Z
LOCATION:Westlake Full Field
CONTACT:
SUMMARY:Doge FC VS. Atletico Pirates
DESCRIPTION:League Name: Men's Open - Wednesday Intermediate - Blue Divisio
 n - Winter II\nGame Type: Regular\nGame Status: Complete\nHome Team: Doge 
 FC\nAway Team: Atletico Pirates\nHome Score: 8\nAway Score: 2
END:VEVENT
BEGIN:VEVENT
UID:14260665@ezleagues.ezfacility.com
DTSTAMP:20260424T044412Z
CREATED:20260424T044412Z
DTSTART:20220407T010500Z
DTEND:20220407T020500Z
LOCATION:Westlake Full Field
CONTACT:
SUMMARY:Doge FC VS. Los Parceros
DESCRIPTION:League Name: Men's Open - Wednesday Intermediate - Blue Divisio
 n - Winter II\nGame Type: Regular\nGame Status: Complete\nHome Team: Doge 
 FC\nAway Team: Los Parceros\nHome Score: 5\nAway Score: 2
END:VEVENT
BEGIN:VEVENT
UID:14260668@ezleagues.ezfacility.com
DTSTAMP:20260424T044412Z
CREATED:20260424T044412Z
DTSTART:20220414T010500Z
DTEND:20220414T020500Z
LOCATION:Westlake Full Field
CONTACT:
SUMMARY:Al Ahly VS. Doge FC
DESCRIPTION:League Name: Men's Open - Wednesday Intermediate - Blue Divisio
 n - Winter II\nGame Type: Regular\nGame Status: Complete\nHome Team: Al Ah
 ly\nAway Team: Doge FC\nHome Score: 0\nAway Score: 3
END:VEVENT
BEGIN:VEVENT
UID:14260672@ezleagues.ezfacility.com
DTSTAMP:20260424T044412Z
CREATED:20260424T044412Z
DTSTART:20220421T020500Z
DTEND:20220421T030500Z
LOCATION:Rocky River 3/4 Yellow
CONTACT:
SUMMARY:Los Parceros VS. Doge FC
DESCRIPTION:League Name: Men's Open - Wednesday Intermediate - Blue Divisio
 n - Winter II\nGame Type: Regular\nGame Status: Complete\nHome Team: Los P
 arceros\nAway Team: Doge FC\nHome Score: 2\nAway Score: 8
END:VEVENT
BEGIN:VEVENT
UID:14317736@ezleagues.ezfacility.com
DTSTAMP:20260424T044412Z
CREATED:20260424T044412Z
DTSTART:20220519T013500Z
DTEND:20220519T023500Z
LOCATION:Rocky River 3/4 Blue
CONTACT:
SUMMARY:Doge FC VS. Team A
DESCRIPTION:League Name: Men's Open - Wednesday Intermediate - Blue Divisio
 n - Winter II\nGame Type: Postseason\nGame Status: Complete\nHome Team: Do
 ge FC\nAway Team: Team A\nHome Score: 4\nAway Score: 6
END:VEVENT
END:VCALENDAR
