BEGIN:VCALENDAR
VERSION:2.0
PRODID:-//EZFacility.com, Inc.//EZL 2.5.5.28621
BEGIN:VEVENT
UID:14260552@ezleagues.ezfacility.com
DTSTAMP:20260426T035116Z
CREATED:20260426T035116Z
DTSTART:20220303T033500Z
DTEND:20220303T043500Z
LOCATION:Rocky River 3/4 Yellow
CONTACT:
SUMMARY:CGFC VS. Eagles
DESCRIPTION:League Name: Men's Open - Wednesday Intermediate Yellow Divisio
 n - Winter II\nGame Type: Regular\nGame Status: Complete\nHome Team: CGFC\
 nAway Team: Eagles\nHome Score: 5\nAway Score: 5
END:VEVENT
BEGIN:VEVENT
UID:14260565@ezleagues.ezfacility.com
DTSTAMP:20260426T035116Z
CREATED:20260426T035116Z
DTSTART:20220317T013500Z
DTEND:20220317T023500Z
LOCATION:Rocky River 3/4 Yellow
CONTACT:
SUMMARY:Kenilworth VS. Eagles
DESCRIPTION:League Name: Men's Open - Wednesday Intermediate Yellow Divisio
 n - Winter II\nGame Type: Regular\nGame Status: Complete\nHome Team: Kenil
 worth\nAway Team: Eagles\nHome Score: 6\nAway Score: 5
END:VEVENT
BEGIN:VEVENT
UID:14260570@ezleagues.ezfacility.com
DTSTAMP:20260426T035116Z
CREATED:20260426T035116Z
DTSTART:20220324T010500Z
DTEND:20220324T020500Z
LOCATION:Rocky River 3/4 Blue
CONTACT:
SUMMARY:Team Pup 'N Suds VS. Eagles
DESCRIPTION:League Name: Men's Open - Wednesday Intermediate Yellow Divisio
 n - Winter II\nGame Type: Regular\nGame Status: Complete\nHome Team: Team 
 Pup 'N Suds\nAway Team: Eagles\nHome Score: 4\nAway Score: 4
END:VEVENT
BEGIN:VEVENT
UID:14260580@ezleagues.ezfacility.com
DTSTAMP:20260426T035116Z
CREATED:20260426T035116Z
DTSTART:20220407T020500Z
DTEND:20220407T030500Z
LOCATION:Westlake Full Field
CONTACT:
SUMMARY:Kanye westham f.c. VS. Eagles
DESCRIPTION:League Name: Men's Open - Wednesday Intermediate Yellow Divisio
 n - Winter II\nGame Type: Regular\nGame Status: Complete\nHome Team: Kanye
  westham f.c.\nAway Team: Eagles\nHome Score: 4\nAway Score: 6
END:VEVENT
BEGIN:VEVENT
UID:14260575@ezleagues.ezfacility.com
DTSTAMP:20260426T035116Z
CREATED:20260426T035116Z
DTSTART:20220428T010500Z
DTEND:20220428T020500Z
LOCATION:Rocky River 3/4 Blue
CONTACT:
SUMMARY:Eagles VS. Red Dragons
DESCRIPTION:League Name: Men's Open - Wednesday Intermediate Yellow Divisio
 n - Winter II\nGame Type: Regular\nGame Status: Complete\nHome Team: Eagle
 s\nAway Team: Red Dragons\nHome Score: 8\nAway Score: 8
END:VEVENT
END:VCALENDAR
