BEGIN:VCALENDAR
VERSION:2.0
PRODID:-//EZFacility.com, Inc.//EZL 2.5.5.28621
BEGIN:VEVENT
UID:14263702@ezleagues.ezfacility.com
DTSTAMP:20260419T181115Z
CREATED:20260419T181115Z
DTSTART:20220301T040000Z
DTEND:20220301T050000Z
LOCATION:Field 3
CONTACT:
SUMMARY:cuervos fc VS. Fuego FC
DESCRIPTION:League Name: Coed Soccer - Spring\nGame Type: Regular\nGame Sta
 tus: Complete\nHome Team: cuervos fc\nAway Team: Fuego FC\nHome Score: 6\n
 Away Score: 7
END:VEVENT
BEGIN:VEVENT
UID:14263706@ezleagues.ezfacility.com
DTSTAMP:20260419T181115Z
CREATED:20260419T181115Z
DTSTART:20220308T030000Z
DTEND:20220308T040000Z
LOCATION:Field 3
CONTACT:Far Side
SUMMARY:Purple Rain VS. cuervos fc
DESCRIPTION:League Name: Coed Soccer - Spring\nGame Type: Regular\nGame Sta
 tus: Complete\nHome Team: Purple Rain\nAway Team: cuervos fc\nHome Score: 
 1\nAway Score: 6
END:VEVENT
BEGIN:VEVENT
UID:14263710@ezleagues.ezfacility.com
DTSTAMP:20260419T181115Z
CREATED:20260419T181115Z
DTSTART:20220315T020000Z
DTEND:20220315T030000Z
LOCATION:Field 3
CONTACT:Far Side
SUMMARY:Wolfpack VS. cuervos fc
DESCRIPTION:League Name: Coed Soccer - Spring\nGame Type: Regular\nGame Sta
 tus: Complete\nHome Team: Wolfpack\nAway Team: cuervos fc\nHome Score: 2\n
 Away Score: 1
END:VEVENT
BEGIN:VEVENT
UID:14263714@ezleagues.ezfacility.com
DTSTAMP:20260419T181115Z
CREATED:20260419T181115Z
DTSTART:20220322T020000Z
DTEND:20220322T030000Z
LOCATION:Field 3
CONTACT:
SUMMARY:OutKast VS. cuervos fc
DESCRIPTION:League Name: Coed Soccer - Spring\nGame Type: Regular\nGame Sta
 tus: Complete\nHome Team: OutKast\nAway Team: cuervos fc\nHome Score: 4\nA
 way Score: 7
END:VEVENT
BEGIN:VEVENT
UID:14263724@ezleagues.ezfacility.com
DTSTAMP:20260419T181115Z
CREATED:20260419T181115Z
DTSTART:20220405T030000Z
DTEND:20220405T040000Z
LOCATION:Field 3
CONTACT:Far Side
SUMMARY:cuervos fc VS. Oceanside FC
DESCRIPTION:League Name: Coed Soccer - Spring\nGame Type: Regular\nGame Sta
 tus: Complete\nHome Team: cuervos fc\nAway Team: Oceanside FC\nHome Score:
  6\nAway Score: 3
END:VEVENT
BEGIN:VEVENT
UID:14263730@ezleagues.ezfacility.com
DTSTAMP:20260419T181115Z
CREATED:20260419T181115Z
DTSTART:20220412T030000Z
DTEND:20220412T040000Z
LOCATION:Field 3
CONTACT:
SUMMARY:cuervos fc VS. United
DESCRIPTION:League Name: Coed Soccer - Spring\nGame Type: Regular\nGame Sta
 tus: Complete\nHome Team: cuervos fc\nAway Team: United\nHome Score: 7\nAw
 ay Score: 1
END:VEVENT
BEGIN:VEVENT
UID:14263736@ezleagues.ezfacility.com
DTSTAMP:20260419T181115Z
CREATED:20260419T181115Z
DTSTART:20220419T020000Z
DTEND:20220419T030000Z
LOCATION:Field 3
CONTACT:Far Side
SUMMARY:cuervos fc VS. The Krew
DESCRIPTION:League Name: Coed Soccer - Spring\nGame Type: Regular\nGame Sta
 tus: Complete\nHome Team: cuervos fc\nAway Team: The Krew\nHome Score: 5\n
 Away Score: 4
END:VEVENT
BEGIN:VEVENT
UID:14263742@ezleagues.ezfacility.com
DTSTAMP:20260419T181115Z
CREATED:20260419T181115Z
DTSTART:20220426T020000Z
DTEND:20220426T030000Z
LOCATION:Field 3
CONTACT:Far Side
SUMMARY:cuervos fc VS. Los Guerreros
DESCRIPTION:League Name: Coed Soccer - Spring\nGame Type: Regular\nGame Sta
 tus: Complete\nHome Team: cuervos fc\nAway Team: Los Guerreros\nHome Score
 : 2\nAway Score: 2
END:VEVENT
BEGIN:VEVENT
UID:14263747@ezleagues.ezfacility.com
DTSTAMP:20260419T181115Z
CREATED:20260419T181115Z
DTSTART:20220503T030000Z
DTEND:20220503T040000Z
LOCATION:Field 3
CONTACT:Far Side
SUMMARY:Fuego FC VS. cuervos fc
DESCRIPTION:League Name: Coed Soccer - Spring\nGame Type: Regular\nGame Sta
 tus: Complete\nHome Team: Fuego FC\nAway Team: cuervos fc\nHome Score: 2\n
 Away Score: 2
END:VEVENT
BEGIN:VEVENT
UID:14263718@ezleagues.ezfacility.com
DTSTAMP:20260419T181115Z
CREATED:20260419T181115Z
DTSTART:20220517T040000Z
DTEND:20220517T050000Z
LOCATION:Field 3
CONTACT:Far Side
SUMMARY:B Y O B VS. cuervos fc
DESCRIPTION:League Name: Coed Soccer - Spring\nGame Type: Regular\nGame Sta
 tus: Complete\nHome Team: B Y O B\nAway Team: cuervos fc\nHome Score: 2\nA
 way Score: 0
END:VEVENT
BEGIN:VEVENT
UID:14409812@ezleagues.ezfacility.com
DTSTAMP:20260419T181115Z
CREATED:20260419T181115Z
DTSTART:20220524T030000Z
DTEND:20220524T040000Z
LOCATION:Field 3
CONTACT:
SUMMARY:cuervos fc VS. Oceanside FC
DESCRIPTION:League Name: Coed Soccer - Spring\nGame Type: Postseason\nGame 
 Status: Complete\nHome Team: cuervos fc\nAway Team: Oceanside FC\nHome Sco
 re: 5\nAway Score: 2
END:VEVENT
BEGIN:VEVENT
UID:14415097@ezleagues.ezfacility.com
DTSTAMP:20260419T181115Z
CREATED:20260419T181115Z
DTSTART:20220607T020000Z
DTEND:20220607T030000Z
LOCATION:Field 3
CONTACT:
SUMMARY:cuervos fc VS. Los Guerreros
DESCRIPTION:League Name: Coed Soccer - Spring\nGame Type: Postseason\nGame 
 Status: Complete\nHome Team: cuervos fc\nAway Team: Los Guerreros\nHome Sc
 ore: 4\nAway Score: 3
END:VEVENT
END:VCALENDAR
