BEGIN:VCALENDAR
VERSION:2.0
PRODID:-//EZFacility.com, Inc.//EZL 2.5.5.28621
BEGIN:VEVENT
UID:14278026@ezleagues.ezfacility.com
DTSTAMP:20260419T131439Z
CREATED:20260419T131439Z
DTSTART:20220217T022000Z
DTEND:20220217T031500Z
LOCATION:PFFC Field House - D
CONTACT:
SUMMARY:Bacalhau Boys VS. Babcia Speed
DESCRIPTION:League Name: MSL Winter 2022 - Wed/Thurs Men's Premier \nGame 
 Type: Regular\nGame Status: Complete\nHome Team: Bacalhau Boys\nAway Team:
  Babcia Speed\nHome Score: 3\nAway Score: 4
END:VEVENT
BEGIN:VEVENT
UID:14278027@ezleagues.ezfacility.com
DTSTAMP:20260419T131439Z
CREATED:20260419T131439Z
DTSTART:20220225T032000Z
DTEND:20220225T041500Z
LOCATION:PFFC Field House - B
CONTACT:
SUMMARY:Babcia Speed VS. Mississauga Dolphins
DESCRIPTION:League Name: MSL Winter 2022 - Wed/Thurs Men's Premier \nGame 
 Type: Regular\nGame Status: Complete\nHome Team: Babcia Speed\nAway Team: 
 Mississauga Dolphins\nHome Score: 1\nAway Score: 3
END:VEVENT
BEGIN:VEVENT
UID:14288621@ezleagues.ezfacility.com
DTSTAMP:20260419T131439Z
CREATED:20260419T131439Z
DTSTART:20220304T032500Z
DTEND:20220304T042000Z
LOCATION:PFFC Field House - D
CONTACT:
SUMMARY:GTA Legends VS. Babcia Speed
DESCRIPTION:League Name: MSL Winter 2022 - Wed/Thurs Men's Premier \nGame 
 Type: Regular\nGame Status: Complete\nHome Team: GTA Legends\nAway Team: B
 abcia Speed\nHome Score: 1\nAway Score: 2
END:VEVENT
BEGIN:VEVENT
UID:14288518@ezleagues.ezfacility.com
DTSTAMP:20260419T131439Z
CREATED:20260419T131439Z
DTSTART:20220310T021500Z
DTEND:20220310T031000Z
LOCATION:PFFC Field House - C
CONTACT:
SUMMARY:UNFC VS. Babcia Speed
DESCRIPTION:League Name: MSL Winter 2022 - Wed/Thurs Men's Premier \nGame 
 Type: Regular\nGame Status: Complete\nHome Team: UNFC\nAway Team: Babcia S
 peed\nHome Score: 2\nAway Score: 1
END:VEVENT
BEGIN:VEVENT
UID:14288531@ezleagues.ezfacility.com
DTSTAMP:20260419T131439Z
CREATED:20260419T131439Z
DTSTART:20220318T022500Z
DTEND:20220318T032000Z
LOCATION:PFFC Field House - B
CONTACT:
SUMMARY:Babcia Speed VS. RR World
DESCRIPTION:League Name: MSL Winter 2022 - Wed/Thurs Men's Premier \nGame 
 Type: Regular\nGame Status: Complete\nHome Team: Babcia Speed\nAway Team: 
 RR World\nHome Score: 4\nAway Score: 2
END:VEVENT
BEGIN:VEVENT
UID:14288543@ezleagues.ezfacility.com
DTSTAMP:20260419T131439Z
CREATED:20260419T131439Z
DTSTART:20220325T001500Z
DTEND:20220325T011000Z
LOCATION:PFFC Field House - D
CONTACT:
SUMMARY:Babcia Speed VS. RR World
DESCRIPTION:League Name: MSL Winter 2022 - Wed/Thurs Men's Premier \nGame 
 Type: Regular\nGame Status: Complete\nHome Team: Babcia Speed\nAway Team: 
 RR World\nHome Score: 5\nAway Score: 3
END:VEVENT
BEGIN:VEVENT
UID:14288554@ezleagues.ezfacility.com
DTSTAMP:20260419T131439Z
CREATED:20260419T131439Z
DTSTART:20220331T001500Z
DTEND:20220331T011000Z
LOCATION:PFFC Field House - D
CONTACT:
SUMMARY:Coltech FC VS. Babcia Speed
DESCRIPTION:League Name: MSL Winter 2022 - Wed/Thurs Men's Premier \nGame 
 Type: Regular\nGame Status: Complete\nHome Team: Coltech FC\nAway Team: Ba
 bcia Speed\nHome Score: 5\nAway Score: 0
END:VEVENT
BEGIN:VEVENT
UID:14288565@ezleagues.ezfacility.com
DTSTAMP:20260419T131439Z
CREATED:20260419T131439Z
DTSTART:20220408T022500Z
DTEND:20220408T032000Z
LOCATION:PFFC Field House - B
CONTACT:
SUMMARY:Washed Gang FC VS. Babcia Speed
DESCRIPTION:League Name: MSL Winter 2022 - Wed/Thurs Men's Premier \nGame 
 Type: Regular\nGame Status: Complete\nHome Team: Washed Gang FC\nAway Team
 : Babcia Speed\nHome Score: 5\nAway Score: 3
END:VEVENT
BEGIN:VEVENT
UID:14288578@ezleagues.ezfacility.com
DTSTAMP:20260419T131439Z
CREATED:20260419T131439Z
DTSTART:20220415T022000Z
DTEND:20220415T031500Z
LOCATION:PFFC Field House - A
CONTACT:
SUMMARY:Babcia Speed VS. UNFC
DESCRIPTION:League Name: MSL Winter 2022 - Wed/Thurs Men's Premier \nGame 
 Type: Regular\nGame Status: Complete\nHome Team: Babcia Speed\nAway Team: 
 UNFC\nHome Score: 3\nAway Score: 4
END:VEVENT
BEGIN:VEVENT
UID:14288591@ezleagues.ezfacility.com
DTSTAMP:20260419T131439Z
CREATED:20260419T131439Z
DTSTART:20220422T011000Z
DTEND:20220422T020500Z
LOCATION:PFFC Dome - 3
CONTACT:
SUMMARY:RR World VS. Babcia Speed
DESCRIPTION:League Name: MSL Winter 2022 - Wed/Thurs Men's Premier \nGame 
 Type: Regular\nGame Status: Complete\nHome Team: RR World\nAway Team: Babc
 ia Speed\nHome Score: 2\nAway Score: 5
END:VEVENT
BEGIN:VEVENT
UID:14288603@ezleagues.ezfacility.com
DTSTAMP:20260419T131439Z
CREATED:20260419T131439Z
DTSTART:20220428T000500Z
DTEND:20220428T010000Z
LOCATION:PFFC Dome - 2
CONTACT:
SUMMARY:GTA Legends VS. Babcia Speed
DESCRIPTION:League Name: MSL Winter 2022 - Wed/Thurs Men's Premier \nGame 
 Type: Regular\nGame Status: Complete\nHome Team: GTA Legends\nAway Team: B
 abcia Speed\nHome Score: 2\nAway Score: 5
END:VEVENT
BEGIN:VEVENT
UID:14288614@ezleagues.ezfacility.com
DTSTAMP:20260419T131439Z
CREATED:20260419T131439Z
DTSTART:20220429T000500Z
DTEND:20220429T010000Z
LOCATION:PFFC Dome - 3
CONTACT:
SUMMARY:Babcia Speed VS. Coltech FC
DESCRIPTION:League Name: MSL Winter 2022 - Wed/Thurs Men's Premier \nGame 
 Type: Regular\nGame Status: Complete\nHome Team: Babcia Speed\nAway Team: 
 Coltech FC\nHome Score: 0\nAway Score: 4
END:VEVENT
BEGIN:VEVENT
UID:14362996@ezleagues.ezfacility.com
DTSTAMP:20260419T131439Z
CREATED:20260419T131439Z
DTSTART:20220506T000500Z
DTEND:20220506T010000Z
LOCATION:PFFC Field House - A
CONTACT:
SUMMARY:Babcia Speed VS. GTA Legends
DESCRIPTION:League Name: MSL Winter 2022 - Wed/Thurs Men's Premier \nGame 
 Type: Postseason\nGame Status: Complete\nHome Team: Babcia Speed\nAway Tea
 m: GTA Legends\nHome Score: 3\nAway Score: 0
END:VEVENT
BEGIN:VEVENT
UID:14362999@ezleagues.ezfacility.com
DTSTAMP:20260419T131439Z
CREATED:20260419T131439Z
DTSTART:20220512T011500Z
DTEND:20220512T021000Z
LOCATION:PFFC Field House - C
CONTACT:
SUMMARY:Washed Gang FC VS. Babcia Speed
DESCRIPTION:League Name: MSL Winter 2022 - Wed/Thurs Men's Premier \nGame 
 Type: Postseason\nGame Status: Complete\nHome Team: Washed Gang FC\nAway T
 eam: Babcia Speed\nHome Score: 7\nAway Score: 0
END:VEVENT
END:VCALENDAR
