BEGIN:VCALENDAR
VERSION:2.0
PRODID:-//EZFacility.com, Inc.//EZL 2.5.5.28621
BEGIN:VEVENT
UID:14289085@ezleagues.ezfacility.com
DTSTAMP:20260426T035101Z
CREATED:20260426T035101Z
DTSTART:20220307T024500Z
DTEND:20220307T033000Z
LOCATION:South Field
CONTACT:
SUMMARY:Catrachitos VS. Escuadron
DESCRIPTION:League Name: SUNDAY NIGHT Spring 2022\nGame Type: Regular\nGame
  Status: Complete\nHome Team: Catrachitos\nAway Team: Escuadron\nHome Scor
 e: 0\nAway Score: 8
END:VEVENT
BEGIN:VEVENT
UID:14289092@ezleagues.ezfacility.com
DTSTAMP:20260426T035101Z
CREATED:20260426T035101Z
DTSTART:20220314T010000Z
DTEND:20220314T014500Z
LOCATION:North Field
CONTACT:
SUMMARY:Huitzuco MB VS. Escuadron
DESCRIPTION:League Name: SUNDAY NIGHT Spring 2022\nGame Type: Regular\nGame
  Status: Complete\nHome Team: Huitzuco MB\nAway Team: Escuadron\nHome Scor
 e: 1\nAway Score: 4
END:VEVENT
BEGIN:VEVENT
UID:14289099@ezleagues.ezfacility.com
DTSTAMP:20260426T035101Z
CREATED:20260426T035101Z
DTSTART:20220320T180000Z
DTEND:20220320T184500Z
LOCATION:North Field
CONTACT:
SUMMARY:bye Game !!! VS. Escuadron
DESCRIPTION:League Name: SUNDAY NIGHT Spring 2022\nGame Type: Regular\nGame
  Status: Complete\nHome Team: bye Game !!!\nAway Team: Escuadron\nHome Sco
 re: 0\nAway Score: 3
END:VEVENT
BEGIN:VEVENT
UID:14289106@ezleagues.ezfacility.com
DTSTAMP:20260426T035101Z
CREATED:20260426T035101Z
DTSTART:20220328T003000Z
DTEND:20220328T011500Z
LOCATION:North Field
CONTACT:
SUMMARY:Escuadron VS. CD Victoria
DESCRIPTION:League Name: SUNDAY NIGHT Spring 2022\nGame Type: Regular\nGame
  Status: Complete\nHome Team: Escuadron\nAway Team: CD Victoria\nHome Scor
 e: 5\nAway Score: 2
END:VEVENT
BEGIN:VEVENT
UID:14289115@ezleagues.ezfacility.com
DTSTAMP:20260426T035101Z
CREATED:20260426T035101Z
DTSTART:20220404T004500Z
DTEND:20220404T013000Z
LOCATION:North Field
CONTACT:
SUMMARY:Escuadron VS. Quetzalapa
DESCRIPTION:League Name: SUNDAY NIGHT Spring 2022\nGame Type: Regular\nGame
  Status: Complete\nHome Team: Escuadron\nAway Team: Quetzalapa\nHome Score
 : 10\nAway Score: 1
END:VEVENT
BEGIN:VEVENT
UID:14289124@ezleagues.ezfacility.com
DTSTAMP:20260426T035101Z
CREATED:20260426T035101Z
DTSTART:20220411T003000Z
DTEND:20220411T011500Z
LOCATION:South Field
CONTACT:
SUMMARY:Escuadron VS. Guerrero
DESCRIPTION:League Name: SUNDAY NIGHT Spring 2022\nGame Type: Regular\nGame
  Status: Complete\nHome Team: Escuadron\nAway Team: Guerrero\nHome Score: 
 0\nAway Score: 3
END:VEVENT
BEGIN:VEVENT
UID:14289133@ezleagues.ezfacility.com
DTSTAMP:20260426T035101Z
CREATED:20260426T035101Z
DTSTART:20220418T020000Z
DTEND:20220418T024500Z
LOCATION:South Field
CONTACT:
SUMMARY:Escuadron VS. Puerkules
DESCRIPTION:League Name: SUNDAY NIGHT Spring 2022\nGame Type: Regular\nGame
  Status: Complete\nHome Team: Escuadron\nAway Team: Puerkules\nHome Score:
  7\nAway Score: 1
END:VEVENT
BEGIN:VEVENT
UID:14366243@ezleagues.ezfacility.com
DTSTAMP:20260426T035101Z
CREATED:20260426T035101Z
DTSTART:20220425T001500Z
DTEND:20220425T010000Z
LOCATION:North Field
CONTACT:
SUMMARY:Escuadron VS. Espana
DESCRIPTION:League Name: SUNDAY NIGHT Spring 2022\nGame Type: Postseason\nG
 ame Status: Pending\nHome Team: Escuadron\nAway Team: Espana\n
END:VEVENT
BEGIN:VEVENT
UID:14366242@ezleagues.ezfacility.com
DTSTAMP:20260426T035101Z
CREATED:20260426T035101Z
DTSTART:20220502T011500Z
DTEND:20220502T020000Z
LOCATION:South Field
CONTACT:
SUMMARY:Tuxpan VS. Escuadron
DESCRIPTION:League Name: SUNDAY NIGHT Spring 2022\nGame Type: Postseason\nG
 ame Status: Pending\nHome Team: Tuxpan\nAway Team: Escuadron\n
END:VEVENT
END:VCALENDAR
