BEGIN:VCALENDAR
VERSION:2.0
PRODID:-//EZFacility.com, Inc.//EZL 2.5.5.28621
BEGIN:VEVENT
UID:14282370@ezleagues.ezfacility.com
DTSTAMP:20260423T124352Z
CREATED:20260423T124352Z
DTSTART:20220310T010000Z
DTEND:20220310T020000Z
LOCATION:Turf 1
CONTACT:
SUMMARY:Bad Boys VS. Takeover
DESCRIPTION:League Name: Wednesday Flag 2022\nGame Type: Regular\nGame Stat
 us: Complete\nHome Team: Bad Boys\nAway Team: Takeover\nHome Score: 34\nAw
 ay Score: 32
END:VEVENT
BEGIN:VEVENT
UID:14282376@ezleagues.ezfacility.com
DTSTAMP:20260423T124352Z
CREATED:20260423T124352Z
DTSTART:20220317T010000Z
DTEND:20220317T020000Z
LOCATION:Turf 1
CONTACT:
SUMMARY:Team Yek VS. Bad Boys
DESCRIPTION:League Name: Wednesday Flag 2022\nGame Type: Regular\nGame Stat
 us: Complete\nHome Team: Team Yek\nAway Team: Bad Boys\nHome Score: 12\nAw
 ay Score: 90
END:VEVENT
BEGIN:VEVENT
UID:14282380@ezleagues.ezfacility.com
DTSTAMP:20260423T124352Z
CREATED:20260423T124352Z
DTSTART:20220330T230000Z
DTEND:20220331T000000Z
LOCATION:Turf 1
CONTACT:
SUMMARY:Bad Boys VS. Chiefs
DESCRIPTION:League Name: Wednesday Flag 2022\nGame Type: Regular\nGame Stat
 us: Complete\nHome Team: Bad Boys\nAway Team: Chiefs\nHome Score: 62\nAway
  Score: 14
END:VEVENT
BEGIN:VEVENT
UID:14282386@ezleagues.ezfacility.com
DTSTAMP:20260423T124352Z
CREATED:20260423T124352Z
DTSTART:20220407T000000Z
DTEND:20220407T010000Z
LOCATION:Turf 1
CONTACT:
SUMMARY:Bad Boys VS. Cowboys
DESCRIPTION:League Name: Wednesday Flag 2022\nGame Type: Regular\nGame Stat
 us: Complete\nHome Team: Bad Boys\nAway Team: Cowboys\nHome Score: 32\nAwa
 y Score: 54
END:VEVENT
BEGIN:VEVENT
UID:14282390@ezleagues.ezfacility.com
DTSTAMP:20260423T124352Z
CREATED:20260423T124352Z
DTSTART:20220413T230000Z
DTEND:20220414T000000Z
LOCATION:Turf 1
CONTACT:
SUMMARY:Bad Boys VS. Chargers
DESCRIPTION:League Name: Wednesday Flag 2022\nGame Type: Regular\nGame Stat
 us: Complete\nHome Team: Bad Boys\nAway Team: Chargers\nHome Score: 38\nAw
 ay Score: 34
END:VEVENT
BEGIN:VEVENT
UID:14282392@ezleagues.ezfacility.com
DTSTAMP:20260423T124352Z
CREATED:20260423T124352Z
DTSTART:20220421T000000Z
DTEND:20220421T010000Z
LOCATION:Turf 1
CONTACT:
SUMMARY:White Team VS. Bad Boys
DESCRIPTION:League Name: Wednesday Flag 2022\nGame Type: Regular\nGame Stat
 us: Complete\nHome Team: White Team\nAway Team: Bad Boys\nHome Score: 12\n
 Away Score: 26
END:VEVENT
BEGIN:VEVENT
UID:14313444@ezleagues.ezfacility.com
DTSTAMP:20260423T124352Z
CREATED:20260423T124352Z
DTSTART:20220505T010000Z
DTEND:20220505T020000Z
LOCATION:Turf 1
CONTACT:
SUMMARY:Bad Boys VS. Takeover
DESCRIPTION:League Name: Wednesday Flag 2022\nGame Type: Regular\nGame Stat
 us: Complete\nHome Team: Bad Boys\nAway Team: Takeover\nHome Score: 46\nAw
 ay Score: 50
END:VEVENT
BEGIN:VEVENT
UID:14283259@ezleagues.ezfacility.com
DTSTAMP:20260423T124352Z
CREATED:20260423T124352Z
DTSTART:20220512T010000Z
DTEND:20220512T020000Z
LOCATION:Turf 1
CONTACT:
SUMMARY:Swarm VS. Bad Boys
DESCRIPTION:League Name: Wednesday Flag 2022\nGame Type: Regular\nGame Stat
 us: Complete\nHome Team: Swarm\nAway Team: Bad Boys\nHome Score: 14\nAway 
 Score: 0
END:VEVENT
BEGIN:VEVENT
UID:14387196@ezleagues.ezfacility.com
DTSTAMP:20260423T124352Z
CREATED:20260423T124352Z
DTSTART:20220519T000000Z
DTEND:20220519T010000Z
LOCATION:Turf 1
CONTACT:
SUMMARY:Bad Boys VS. Chiefs
DESCRIPTION:League Name: Wednesday Flag 2022\nGame Type: Regular\nGame Stat
 us: Complete\nHome Team: Bad Boys\nAway Team: Chiefs\nHome Score: 64\nAway
  Score: 22
END:VEVENT
BEGIN:VEVENT
UID:14387199@ezleagues.ezfacility.com
DTSTAMP:20260423T124352Z
CREATED:20260423T124352Z
DTSTART:20220602T000000Z
DTEND:20220602T010000Z
LOCATION:Turf 1
CONTACT:
SUMMARY:Cowboys VS. Bad Boys
DESCRIPTION:League Name: Wednesday Flag 2022\nGame Type: Regular\nGame Stat
 us: Complete\nHome Team: Cowboys\nAway Team: Bad Boys\nHome Score: 46\nAwa
 y Score: 50
END:VEVENT
BEGIN:VEVENT
UID:14387200@ezleagues.ezfacility.com
DTSTAMP:20260423T124352Z
CREATED:20260423T124352Z
DTSTART:20220602T010000Z
DTEND:20220602T020000Z
LOCATION:Turf 1
CONTACT:
SUMMARY:Swarm VS. Bad Boys
DESCRIPTION:League Name: Wednesday Flag 2022\nGame Type: Postseason\nGame S
 tatus: Complete\nHome Team: Swarm\nAway Team: Bad Boys\nHome Score: 32\nAw
 ay Score: 50
END:VEVENT
END:VCALENDAR
