BEGIN:VCALENDAR
VERSION:2.0
PRODID:-//EZFacility.com, Inc.//EZL 2.5.5.28621
BEGIN:VEVENT
UID:14777675@ezleagues.ezfacility.com
DTSTAMP:20260423T085410Z
CREATED:20260423T085410Z
DTSTART:20221213T041000Z
DTEND:20221213T050000Z
LOCATION:Harmans Premier Field #5
CONTACT:
SUMMARY:Ajax Catracho VS. LDU
DESCRIPTION:League Name: Mon Mens Open 1st div \nGame Type: Regular\nGame S
 tatus: Complete\nHome Team: Ajax Catracho\nAway Team: LDU\nHome Score: 9\n
 Away Score: 7
END:VEVENT
BEGIN:VEVENT
UID:14777688@ezleagues.ezfacility.com
DTSTAMP:20260423T085410Z
CREATED:20260423T085410Z
DTSTART:20221220T005000Z
DTEND:20221220T014000Z
LOCATION:Harmans Premier Field #5
CONTACT:
SUMMARY:Bayern FC VS. LDU
DESCRIPTION:League Name: Mon Mens Open 1st div \nGame Type: Regular\nGame S
 tatus: Complete\nHome Team: Bayern FC\nAway Team: LDU\nHome Score: 4\nAway
  Score: 5
END:VEVENT
BEGIN:VEVENT
UID:14777713@ezleagues.ezfacility.com
DTSTAMP:20260423T085410Z
CREATED:20260423T085410Z
DTSTART:20230103T005000Z
DTEND:20230103T014000Z
LOCATION:Harmans Premier Field #5
CONTACT:
SUMMARY:Chiapas FC VS. LDU
DESCRIPTION:League Name: Mon Mens Open 1st div \nGame Type: Regular\nGame S
 tatus: Complete\nHome Team: Chiapas FC\nAway Team: LDU\nHome Score: 7\nAwa
 y Score: 10
END:VEVENT
BEGIN:VEVENT
UID:14777724@ezleagues.ezfacility.com
DTSTAMP:20260423T085410Z
CREATED:20260423T085410Z
DTSTART:20230110T014000Z
DTEND:20230110T023000Z
LOCATION:Harmans Premier Field #5
CONTACT:
SUMMARY:Chelsea FC VS. LDU
DESCRIPTION:League Name: Mon Mens Open 1st div \nGame Type: Regular\nGame S
 tatus: Complete\nHome Team: Chelsea FC\nAway Team: LDU\nHome Score: 3\nAwa
 y Score: 6
END:VEVENT
BEGIN:VEVENT
UID:14777735@ezleagues.ezfacility.com
DTSTAMP:20260423T085410Z
CREATED:20260423T085410Z
DTSTART:20230117T041000Z
DTEND:20230117T050000Z
LOCATION:Harmans Premier Field #5
CONTACT:
SUMMARY:LDU VS. Ajax Catracho
DESCRIPTION:League Name: Mon Mens Open 1st div \nGame Type: Regular\nGame S
 tatus: Complete\nHome Team: LDU\nAway Team: Ajax Catracho\nHome Score: 8\n
 Away Score: 7
END:VEVENT
BEGIN:VEVENT
UID:14777748@ezleagues.ezfacility.com
DTSTAMP:20260423T085410Z
CREATED:20260423T085410Z
DTSTART:20230124T000000Z
DTEND:20230124T005000Z
LOCATION:Harmans Premier Field #4
CONTACT:
SUMMARY:LDU VS. Bayern FC
DESCRIPTION:League Name: Mon Mens Open 1st div \nGame Type: Regular\nGame S
 tatus: Complete\nHome Team: LDU\nAway Team: Bayern FC\nHome Score: 2\nAway
  Score: 2
END:VEVENT
BEGIN:VEVENT
UID:14777701@ezleagues.ezfacility.com
DTSTAMP:20260423T085410Z
CREATED:20260423T085410Z
DTSTART:20230131T023000Z
DTEND:20230131T032000Z
LOCATION:Harmans Premier Field #4
CONTACT:
SUMMARY:LDU VS. La Familia
DESCRIPTION:League Name: Mon Mens Open 1st div \nGame Type: Regular\nGame S
 tatus: Complete\nHome Team: LDU\nAway Team: La Familia\nHome Score: 9\nAwa
 y Score: 0
END:VEVENT
BEGIN:VEVENT
UID:14903688@ezleagues.ezfacility.com
DTSTAMP:20260423T085410Z
CREATED:20260423T085410Z
DTSTART:20230207T023000Z
DTEND:20230207T033000Z
LOCATION:Harmans Premier Field #4
CONTACT:
SUMMARY:LDU VS. Bayern FC
DESCRIPTION:League Name: Mon Mens Open 1st div \nGame Type: Regular\nGame S
 tatus: Complete\nHome Team: LDU\nAway Team: Bayern FC\nHome Score: 1\nAway
  Score: 3
END:VEVENT
BEGIN:VEVENT
UID:14916104@ezleagues.ezfacility.com
DTSTAMP:20260423T085410Z
CREATED:20260423T085410Z
DTSTART:20230214T005000Z
DTEND:20230214T015000Z
LOCATION:Harmans Premier Field #4
CONTACT:
SUMMARY:LDU VS. La Familia
DESCRIPTION:League Name: Mon Mens Open 1st div \nGame Type: Regular\nGame S
 tatus: Complete\nHome Team: LDU\nAway Team: La Familia\nHome Score: 9\nAwa
 y Score: 9
END:VEVENT
END:VCALENDAR
