BEGIN:VCALENDAR
VERSION:2.0
PRODID:-//EZFacility.com, Inc.//EZL 2.5.5.28621
BEGIN:VEVENT
UID:14928090@ezleagues.ezfacility.com
DTSTAMP:20260426T034821Z
CREATED:20260426T034821Z
DTSTART:20230221T005000Z
DTEND:20230221T014000Z
LOCATION:Harmans Premier Field #4
CONTACT:
SUMMARY:Bayer FC VS. Mexico
DESCRIPTION:League Name: Mon Mens Open 1st div \nGame Type: Regular\nGame S
 tatus: Complete\nHome Team: Bayer FC\nAway Team: Mexico\nHome Score: 4\nAw
 ay Score: 2
END:VEVENT
BEGIN:VEVENT
UID:14928101@ezleagues.ezfacility.com
DTSTAMP:20260426T034821Z
CREATED:20260426T034821Z
DTSTART:20230228T041000Z
DTEND:20230228T050000Z
LOCATION:Harmans Premier Field #4
CONTACT:
SUMMARY:Ajax Catracho VS. Bayer FC
DESCRIPTION:League Name: Mon Mens Open 1st div \nGame Type: Regular\nGame S
 tatus: Complete\nHome Team: Ajax Catracho\nAway Team: Bayer FC\nHome Score
 : 7\nAway Score: 3
END:VEVENT
BEGIN:VEVENT
UID:14928114@ezleagues.ezfacility.com
DTSTAMP:20260426T034821Z
CREATED:20260426T034821Z
DTSTART:20230307T000000Z
DTEND:20230307T005000Z
LOCATION:Harmans Premier Field #5
CONTACT:
SUMMARY:Bayer FC VS. Chelsea FC
DESCRIPTION:League Name: Mon Mens Open 1st div \nGame Type: Regular\nGame S
 tatus: Complete\nHome Team: Bayer FC\nAway Team: Chelsea FC\nHome Score: 4
 \nAway Score: 5
END:VEVENT
BEGIN:VEVENT
UID:14928127@ezleagues.ezfacility.com
DTSTAMP:20260426T034821Z
CREATED:20260426T034821Z
DTSTART:20230313T235000Z
DTEND:20230314T004000Z
LOCATION:Harmans Premier Field #4
CONTACT:
SUMMARY:Bayer FC VS. LDU
DESCRIPTION:League Name: Mon Mens Open 1st div \nGame Type: Regular\nGame S
 tatus: Complete\nHome Team: Bayer FC\nAway Team: LDU\nHome Score: 4\nAway 
 Score: 3
END:VEVENT
BEGIN:VEVENT
UID:14928139@ezleagues.ezfacility.com
DTSTAMP:20260426T034821Z
CREATED:20260426T034821Z
DTSTART:20230321T004000Z
DTEND:20230321T013000Z
LOCATION:Harmans Premier Field #5
CONTACT:
SUMMARY:Chiapas FC VS. Bayer FC
DESCRIPTION:League Name: Mon Mens Open 1st div \nGame Type: Regular\nGame S
 tatus: Complete\nHome Team: Chiapas FC\nAway Team: Bayer FC\nHome Score: 3
 \nAway Score: 4
END:VEVENT
BEGIN:VEVENT
UID:14928150@ezleagues.ezfacility.com
DTSTAMP:20260426T034821Z
CREATED:20260426T034821Z
DTSTART:20230327T235000Z
DTEND:20230328T004000Z
LOCATION:Harmans Premier Field #4
CONTACT:
SUMMARY:Mexico VS. Bayer FC
DESCRIPTION:League Name: Mon Mens Open 1st div \nGame Type: Regular\nGame S
 tatus: Complete\nHome Team: Mexico\nAway Team: Bayer FC\nHome Score: 4\nAw
 ay Score: 6
END:VEVENT
BEGIN:VEVENT
UID:14928161@ezleagues.ezfacility.com
DTSTAMP:20260426T034821Z
CREATED:20260426T034821Z
DTSTART:20230404T031000Z
DTEND:20230404T040000Z
LOCATION:Harmans Premier Field #5
CONTACT:
SUMMARY:Bayer FC VS. Ajax Catracho
DESCRIPTION:League Name: Mon Mens Open 1st div \nGame Type: Regular\nGame S
 tatus: Complete\nHome Team: Bayer FC\nAway Team: Ajax Catracho\nHome Score
 : 4\nAway Score: 6
END:VEVENT
BEGIN:VEVENT
UID:15007175@ezleagues.ezfacility.com
DTSTAMP:20260426T034821Z
CREATED:20260426T034821Z
DTSTART:20230411T031000Z
DTEND:20230411T040000Z
LOCATION:Harmans Premier Field #4
CONTACT:
SUMMARY:Ajax Catracho VS. Bayer FC
DESCRIPTION:League Name: Mon Mens Open 1st div \nGame Type: Regular\nGame S
 tatus: Complete\nHome Team: Ajax Catracho\nAway Team: Bayer FC\nHome Score
 : 2\nAway Score: 7
END:VEVENT
BEGIN:VEVENT
UID:15023259@ezleagues.ezfacility.com
DTSTAMP:20260426T034821Z
CREATED:20260426T034821Z
DTSTART:20230418T013000Z
DTEND:20230418T023000Z
LOCATION:Harmans Premier Field #4
CONTACT:
SUMMARY:Chelsea FC VS. Bayer FC
DESCRIPTION:League Name: Mon Mens Open 1st div \nGame Type: Regular\nGame S
 tatus: Complete\nHome Team: Chelsea FC\nAway Team: Bayer FC\nHome Score: 1
 \nAway Score: 6
END:VEVENT
END:VCALENDAR
