BEGIN:VCALENDAR
VERSION:2.0
PRODID:-//EZFacility.com, Inc.//EZL 2.5.5.28621
BEGIN:VEVENT
UID:14286457@ezleagues.ezfacility.com
DTSTAMP:20260421T181304Z
CREATED:20260421T181304Z
DTSTART:20220221T011500Z
DTEND:20220221T021000Z
LOCATION:PFFC Field House - A
CONTACT:
SUMMARY:United Boys FC  VS. Rising Sun FC
DESCRIPTION:League Name: MSL Winter 2022 - Sunday Men's English Premier\nGa
 me Type: Regular\nGame Status: Complete\nHome Team: United Boys FC \nAway 
 Team: Rising Sun FC\nHome Score: 7\nAway Score: 3
END:VEVENT
BEGIN:VEVENT
UID:14286459@ezleagues.ezfacility.com
DTSTAMP:20260421T181304Z
CREATED:20260421T181304Z
DTSTART:20220227T230500Z
DTEND:20220228T000000Z
LOCATION:PFFC Field House - A
CONTACT:
SUMMARY:United Boys FC  VS. East Coast Fish Chip
DESCRIPTION:League Name: MSL Winter 2022 - Sunday Men's English Premier\nGa
 me Type: Regular\nGame Status: Complete\nHome Team: United Boys FC \nAway 
 Team: East Coast Fish Chip\nHome Score: 0\nAway Score: 9
END:VEVENT
BEGIN:VEVENT
UID:14343213@ezleagues.ezfacility.com
DTSTAMP:20260421T181304Z
CREATED:20260421T181304Z
DTSTART:20220307T032500Z
DTEND:20220307T042000Z
LOCATION:PFFC Field House - B
CONTACT:
SUMMARY:Household United VS. United Boys FC 
DESCRIPTION:League Name: MSL Winter 2022 - Sunday Men's English Premier\nGa
 me Type: Regular\nGame Status: Complete\nHome Team: Household United\nAway
  Team: United Boys FC \nHome Score: 3\nAway Score: 0
END:VEVENT
BEGIN:VEVENT
UID:14343218@ezleagues.ezfacility.com
DTSTAMP:20260421T181304Z
CREATED:20260421T181304Z
DTSTART:20220313T220500Z
DTEND:20220313T230000Z
LOCATION:PFFC Field House - B
CONTACT:
SUMMARY:United Boys FC  VS. Renegades
DESCRIPTION:League Name: MSL Winter 2022 - Sunday Men's English Premier\nGa
 me Type: Regular\nGame Status: Complete\nHome Team: United Boys FC \nAway 
 Team: Renegades\nHome Score: 0\nAway Score: 3
END:VEVENT
BEGIN:VEVENT
UID:14343219@ezleagues.ezfacility.com
DTSTAMP:20260421T181304Z
CREATED:20260421T181304Z
DTSTART:20220321T013500Z
DTEND:20220321T023000Z
LOCATION:PFFC Field House - D
CONTACT:
SUMMARY:United Boys FC  VS. FC International
DESCRIPTION:League Name: MSL Winter 2022 - Sunday Men's English Premier\nGa
 me Type: Regular\nGame Status: Complete\nHome Team: United Boys FC \nAway 
 Team: FC International\nHome Score: 0\nAway Score: 4
END:VEVENT
BEGIN:VEVENT
UID:14343221@ezleagues.ezfacility.com
DTSTAMP:20260421T181304Z
CREATED:20260421T181304Z
DTSTART:20220327T222000Z
DTEND:20220327T231500Z
LOCATION:PFFC Field House - D
CONTACT:
SUMMARY:Mobties FC  VS. United Boys FC 
DESCRIPTION:League Name: MSL Winter 2022 - Sunday Men's English Premier\nGa
 me Type: Regular\nGame Status: Complete\nHome Team: Mobties FC \nAway Team
 : United Boys FC \nHome Score: 7\nAway Score: 1
END:VEVENT
BEGIN:VEVENT
UID:14343222@ezleagues.ezfacility.com
DTSTAMP:20260421T181304Z
CREATED:20260421T181304Z
DTSTART:20220404T022500Z
DTEND:20220404T032000Z
LOCATION:PFFC Field House - A
CONTACT:
SUMMARY:United Boys FC  VS. Wolfpack FC
DESCRIPTION:League Name: MSL Winter 2022 - Sunday Men's English Premier\nGa
 me Type: Regular\nGame Status: Complete\nHome Team: United Boys FC \nAway 
 Team: Wolfpack FC\nHome Score: 2\nAway Score: 10
END:VEVENT
BEGIN:VEVENT
UID:14286297@ezleagues.ezfacility.com
DTSTAMP:20260421T181304Z
CREATED:20260421T181304Z
DTSTART:20220410T232500Z
DTEND:20220411T002000Z
LOCATION:PFFC Field House - D
CONTACT:
SUMMARY:United Boys FC  VS. Beercelona
DESCRIPTION:League Name: MSL Winter 2022 - Sunday Men's English Premier\nGa
 me Type: Regular\nGame Status: Complete\nHome Team: United Boys FC \nAway 
 Team: Beercelona\nHome Score: 3\nAway Score: 0
END:VEVENT
BEGIN:VEVENT
UID:14286321@ezleagues.ezfacility.com
DTSTAMP:20260421T181304Z
CREATED:20260421T181304Z
DTSTART:20220421T230000Z
DTEND:20220421T235500Z
LOCATION:PFFC Dome - 3
CONTACT:
SUMMARY:SK Squash VS. United Boys FC 
DESCRIPTION:League Name: MSL Winter 2022 - Sunday Men's English Premier\nGa
 me Type: Regular\nGame Status: Complete\nHome Team: SK Squash\nAway Team: 
 United Boys FC \nHome Score: 3\nAway Score: 5
END:VEVENT
BEGIN:VEVENT
UID:14286345@ezleagues.ezfacility.com
DTSTAMP:20260421T181304Z
CREATED:20260421T181304Z
DTSTART:20220424T233000Z
DTEND:20220425T002500Z
LOCATION:PFFC Dome - 4
CONTACT:
SUMMARY:Sometimes Maybe Good VS. United Boys FC 
DESCRIPTION:League Name: MSL Winter 2022 - Sunday Men's English Premier\nGa
 me Type: Regular\nGame Status: Complete\nHome Team: Sometimes Maybe Good\n
 Away Team: United Boys FC \nHome Score: 6\nAway Score: 5
END:VEVENT
BEGIN:VEVENT
UID:14286368@ezleagues.ezfacility.com
DTSTAMP:20260421T181304Z
CREATED:20260421T181304Z
DTSTART:20220501T211500Z
DTEND:20220501T221000Z
LOCATION:PFFC Dome - 4
CONTACT:
SUMMARY:United Boys FC  VS. Internazionale FC
DESCRIPTION:League Name: MSL Winter 2022 - Sunday Men's English Premier\nGa
 me Type: Regular\nGame Status: Complete\nHome Team: United Boys FC \nAway 
 Team: Internazionale FC\nHome Score: 5\nAway Score: 4
END:VEVENT
BEGIN:VEVENT
UID:14286391@ezleagues.ezfacility.com
DTSTAMP:20260421T181304Z
CREATED:20260421T181304Z
DTSTART:20220509T030000Z
DTEND:20220509T035500Z
LOCATION:PFFC Field House - A
CONTACT:
SUMMARY:United Boys FC  VS. Rising Sun FC
DESCRIPTION:League Name: MSL Winter 2022 - Sunday Men's English Premier\nGa
 me Type: Regular\nGame Status: Complete\nHome Team: United Boys FC \nAway 
 Team: Rising Sun FC\nHome Score: 0\nAway Score: 3
END:VEVENT
BEGIN:VEVENT
UID:14363085@ezleagues.ezfacility.com
DTSTAMP:20260421T181304Z
CREATED:20260421T181304Z
DTSTART:20220516T010000Z
DTEND:20220516T015500Z
LOCATION:PFFC Field House - C
CONTACT:
SUMMARY:United Boys FC  VS. SK Squash
DESCRIPTION:League Name: MSL Winter 2022 - Sunday Men's English Premier\nGa
 me Type: Postseason\nGame Status: Complete\nHome Team: United Boys FC \nAw
 ay Team: SK Squash\nHome Score: 0\nAway Score: 3
END:VEVENT
END:VCALENDAR
